Uber Exif Photo
Keywords : norma
Copyright Notice : dierk topp
Copyright Flag : True
Make : Leica Camera AG
Camera Model Name : M9 Digital Camera
Software : 1.116
Modify Date : 2011:03:05 19:05:25
Copyright : dierk topp
Exposure Time : 1/250
F Number : 3.4
Exposure Program : Aperture-priority AE
ISO : 160
Date/Time Original : 2011:03:05 14:00:39
Create Date : 2011:03:05 14:00:39
Shutter Speed Value : 1/250
Aperture Value : 3.4
Exposure Compensation : 0
Max Aperture Value : 2.0
Metering Mode : Center-weighted average
Light Source : Unknown
Focal Length : 75.0 mm
Contrast : Normal
Sharpening : Normal
Saturation : Normal
JPEG Quality : Fine
White Balance : Auto
WB RGB Levels : 0.4296879098 1 0.7951854009
User Profile : Jpg
JPEG Size : 5216x3472
Serial Number : 3834236
Firmware Version : 1.116
Base ISO : 160
Sensor Width : 5270
Sensor Height : 3516
Sensor Bit Depth : 14
Camera Temperature : 23 C
Lens Type : Apo-Summicron-M 75mm f/2 ASPH.
Approximate F Number : 3.5
Measured LV : 4.73
External Sensor Brightness Value : 3.55
Color Space : Uncalibrated
Scene Type : Directly photographed
Exposure Mode : Manual
Digital Zoom Ratio : 0
Focal Length In 35mm Format : 75 mm
Scene Capture Type : Standard
Maker Note Safety : Safe
Lens : Leica Apo-Summicron-M 75mm f/2 ASPH.
Rights : dierk topp
Subject : norma
Date/Time Digitized : 2011:03:05 14:00:39+01:00
Flash Fired : False
Flash Function : False
Flash Mode : Unknown
Flash Red Eye Mode : False
Flash Return : No return detection
Exif Image Width : 1436
Exif Image Height : 1000
Sharpness : Hard
Property Release Status : Unknown (nil)
PLUS Version : 1.2.0
Creator Tool : Adobe Photoshop Lightroom
Rating : 5
Marked : True
Already Applied : True
Blue Hue : 0
Blue Saturation : 0
Brightness : +46
Camera Profile : Adobe Standard
Chromatic Aberration B : 0
Chromatic Aberration R : 0
Clarity : -35
Color Noise Reduction : 25
Convert To Grayscale : True
Crop Angle : 0
Crop Bottom : 1
Crop Height : 1000
Crop Left : 0.011148
Crop Right : 0.966555
Crop Top : 0
Crop Unit : pixels
Crop Width : 1436
Defringe : 0
Exposure : 0.00
Fill Light : 14
Gray Mixer Aqua : -18
Gray Mixer Blue : -4
Gray Mixer Green : -15
Gray Mixer Magenta : +3
Gray Mixer Orange : +16
Gray Mixer Purple : +12
Gray Mixer Red : +22
Gray Mixer Yellow : -7
Green Hue : 0
Green Saturation : 0
Has Crop : True
Has Settings : True
Highlight Recovery : 5
Luminance Smoothing : 0
Parametric Darks : +50
Parametric Highlight Split : 75
Parametric Highlights : +33
Parametric Lights : +41
Parametric Midtone Split : 50
Parametric Shadow Split : 25
Parametric Shadows : -33
Post Crop Vignette Amount : 0
Red Hue : 0
Red Saturation : 0
Shadow Tint : 0
Shadows : 7
Sharpen Detail : 25
Sharpen Edge Masking : 0
Sharpen Radius : +1.0
Split Toning Balance : 0
Split Toning Highlight Hue : 0
Split Toning Highlight Saturation : 0
Split Toning Shadow Hue : 0
Split Toning Shadow Saturation : 0
Color Temperature : 5400
Tint : +12
Tone Curve : 0, 0, 32, 22, 64, 56, 128, 128, 192, 196, 255, 255
Tone Curve Name : Medium Contrast
Version : 6.1
Vignette Amount : 0
Image Width : 300
Image Height : 214
Bits Per Sample : 8
Color Components : 1
Aperture : 3.4
Blue Balance : 0.795185
Image Size : 300x214
Lens ID : Apo-Summicron-M 75mm f/2 ASPH.
Megapixels : 0.064
Red Balance : 0.429688
Scale Factor To 35 mm Equivalent : 1.0
Shutter Speed : 1/250
Flash : No Flash
Circle Of Confusion : 0.030 mm
Field Of View : 27.0 deg
Focal Length : 75.0 mm (35 mm equivalent: 75.0 mm)
Hyperfocal Distance : 55.06 m
Light Value : 10.8