Uber Exif Photo
Copyright Notice : dierk topp
Copyright Flag : True
Make : Leica Camera AG
Camera Model Name : M9 Digital Camera
Software : Adobe Photoshop Lightroom
Modify Date : 2011:02:27 14:59:58
Copyright : dierk topp
F Number : 4.8
Exposure Program : Aperture-priority AE
ISO : 160
Date/Time Original : 2011:02:11 14:54:43
Aperture Value : 4.8
Exposure Compensation : 0
Max Aperture Value : 3.8
Metering Mode : Center-weighted average
Light Source : Unknown
Focal Length : 18.0 mm
Color Space : Uncalibrated
Scene Type : Directly photographed
Exposure Mode : Auto bracket
White Balance : Auto
Digital Zoom Ratio : 0
Focal Length In 35mm Format : 18 mm
Scene Capture Type : Standard
Lens : Super-Elmar-M 18mm f/3.8 ASPH.
Serial Number : 3834236
Rights : dierk topp
Contrast : High
Flash Fired : False
Flash Function : False
Flash Mode : Unknown
Flash Red Eye Mode : False
Flash Return : No return detection
Exif Image Width : 1500
Exif Image Height : 996
Sharpness : Hard
Property Release Status : Unknown (nil)
PLUS Version : 1.2.0
Create Date : 2011:02:11 14:54:43+01:00
Creator Tool : Adobe Photoshop Lightroom
Rating : 5
Marked : True
Already Applied : True
Blue Hue : 0
Blue Saturation : 0
Brightness : +6
Camera Profile : Embedded
Chromatic Aberration B : 0
Chromatic Aberration R : 0
Clarity : +20
Color Noise Reduction : 0
Convert To Grayscale : True
Defringe : 0
Exposure : +0.33
Fill Light : 10
Gray Mixer Aqua : -25
Gray Mixer Blue : +10
Gray Mixer Green : -62
Gray Mixer Magenta : +5
Gray Mixer Orange : -7
Gray Mixer Purple : +17
Gray Mixer Red : -9
Gray Mixer Yellow : -60
Green Hue : 0
Green Saturation : 0
Has Crop : False
Has Settings : True
Highlight Recovery : 0
Incremental Temperature : 0
Incremental Tint : 0
Luminance Smoothing : 0
Parametric Darks : 0
Parametric Highlight Split : 75
Parametric Highlights : 0
Parametric Lights : 0
Parametric Midtone Split : 50
Parametric Shadow Split : 25
Parametric Shadows : 0
Post Crop Vignette Amount : -30
Post Crop Vignette Feather : 50
Post Crop Vignette Midpoint : 50
Post Crop Vignette Roundness : 0
Red Hue : 0
Red Saturation : 0
Shadow Tint : 0
Shadows : 16
Sharpen Detail : 25
Sharpen Edge Masking : 0
Sharpen Radius : +1.0
Split Toning Balance : 0
Split Toning Highlight Hue : 0
Split Toning Highlight Saturation : 0
Split Toning Shadow Hue : 0
Split Toning Shadow Saturation : 0
Tone Curve : 0, 0, 255, 255
Tone Curve Name : Linear
Version : 6.1
Vignette Amount : 0
Image Width : 300
Image Height : 204
Bits Per Sample : 8
Color Components : 1
Aperture : 4.8
Image Size : 300x204
Megapixels : 0.061
Scale Factor To 35 mm Equivalent : 1.0
Flash : No Flash
Circle Of Confusion : 0.030 mm
Field Of View : 90.0 deg
Focal Length : 18.0 mm (35 mm equivalent: 18.0 mm)
Hyperfocal Distance : 2.25 m
Lens ID : Apo-Telyt-M 18mm f/3.8 ASPH.