Uber Exif Photo
Copyright Notice : dierk topp
Copyright Flag : True
Make : Leica Camera AG
Camera Model Name : M9 Digital Camera
Software : 1.116
Modify Date : 2011:01:02 15:43:27
Copyright : dierk topp
Exposure Time : 1/180
F Number : 8.0
Exposure Program : Aperture-priority AE
ISO : 640
Date/Time Original : 2011:01:01 16:10:29
Create Date : 2011:01:01 16:10:29
Shutter Speed Value : 1/180
Aperture Value : 8.0
Exposure Compensation : -0.332
Max Aperture Value : 1.4
Metering Mode : Center-weighted average
Light Source : Unknown
Focal Length : 35.0 mm
Contrast : Normal
Sharpening : Normal
Saturation : Normal
JPEG Quality : Fine
White Balance : Auto
WB RGB Levels : 0.4602117918 1 0.7627205437
User Profile : Pano
JPEG Size : 5216x3472
Serial Number : 3834236
Firmware Version : 1.116
Base ISO : 160
Sensor Width : 5270
Sensor Height : 3516
Sensor Bit Depth : 14
Camera Temperature : 20 C
Lens Type : Summilux-M 35mm f/1.4 ASPH.
Approximate F Number : 6.0
Measured LV : 3.05
External Sensor Brightness Value : 3.89
Color Space : Uncalibrated
Scene Type : Directly photographed
Exposure Mode : Manual
Digital Zoom Ratio : 0
Focal Length In 35mm Format : 35 mm
Scene Capture Type : Standard
Maker Note Safety : Safe
Lens : Leica Summilux-M 35mm f/1.4 ASPH.
Rights : dierk topp
Date/Time Digitized : 2011:01:01 16:10:29Z
Flash Fired : False
Flash Function : False
Flash Mode : Unknown
Flash Red Eye Mode : False
Flash Return : No return detection
Exif Image Width : 1500
Exif Image Height : 998
Sharpness : Hard
Property Release Status : Unknown (nil)
PLUS Version : 1.2.0
Creator Tool : Adobe Photoshop Lightroom
Rating : 5
Marked : True
Already Applied : True
Blue Hue : 0
Blue Saturation : 0
Brightness : +30
Camera Profile : Adobe Standard
Chromatic Aberration B : 0
Chromatic Aberration R : 0
Clarity : +17
Color Noise Reduction : 25
Convert To Grayscale : True
Defringe : 0
Exposure : +1.25
Fill Light : 14
Gray Mixer Aqua : -20
Gray Mixer Blue : +5
Gray Mixer Green : +78
Gray Mixer Magenta : +5
Gray Mixer Orange : -46
Gray Mixer Purple : +12
Gray Mixer Red : -7
Gray Mixer Yellow : -57
Green Hue : 0
Green Saturation : 0
Has Crop : False
Has Settings : True
Highlight Recovery : 0
Luminance Smoothing : 0
Parametric Darks : -16
Parametric Highlight Split : 75
Parametric Highlights : -5
Parametric Lights : +15
Parametric Midtone Split : 50
Parametric Shadow Split : 25
Parametric Shadows : 0
Post Crop Vignette Amount : -11
Post Crop Vignette Feather : 50
Post Crop Vignette Midpoint : 50
Post Crop Vignette Roundness : 0
Red Hue : 0
Red Saturation : 0
Shadow Tint : 0
Shadows : 11
Sharpen Detail : 37
Sharpen Edge Masking : 0
Sharpen Radius : +1.0
Split Toning Balance : 0
Split Toning Highlight Hue : 0
Split Toning Highlight Saturation : 0
Split Toning Shadow Hue : 0
Split Toning Shadow Saturation : 0
Color Temperature : 4800
Tint : +3
Tone Curve : 0, 0, 32, 22, 64, 56, 128, 128, 192, 196, 255, 255
Tone Curve Name : Medium Contrast
Version : 6.1
Vignette Amount : 0
Image Width : 300
Image Height : 205
Bits Per Sample : 8
Color Components : 1
Aperture : 8.0
Blue Balance : 0.762721
Image Size : 300x205
Lens ID : Summilux-M 35mm f/1.4 ASPH.
Megapixels : 0.061
Red Balance : 0.460212
Scale Factor To 35 mm Equivalent : 1.0
Shutter Speed : 1/180
Flash : No Flash
Circle Of Confusion : 0.030 mm
Field Of View : 54.4 deg
Focal Length : 35.0 mm (35 mm equivalent: 35.0 mm)
Hyperfocal Distance : 5.10 m
Light Value : 10.8