Uber Exif Photo
Copyright Notice : dierk topp
Copyright Flag : True
Make : Leica Camera AG
Camera Model Name : M9 Digital Camera
Software : 1.116
Modify Date : 2010:12:26 22:09:05
Copyright : dierk topp
Exposure Time : 1/125
F Number : 4.8
Exposure Program : Aperture-priority AE
ISO : 800
Date/Time Original : 2010:12:06 14:56:22
Create Date : 2010:12:06 14:56:22
Shutter Speed Value : 1/125
Aperture Value : 4.8
Exposure Compensation : -1
Max Aperture Value : 2.0
Metering Mode : Center-weighted average
Light Source : Unknown
Focal Length : 75.0 mm
Contrast : Normal
Sharpening : Normal
Saturation : Normal
JPEG Quality : Fine
White Balance : Auto
WB RGB Levels : 0.4924408644 1 0.7148653955
User Profile : Pano
JPEG Size : 5216x3472
Serial Number : 3834236
Firmware Version : 1.116
Base ISO : 160
Sensor Width : 5270
Sensor Height : 3516
Sensor Bit Depth : 14
Camera Temperature : 20 C
Lens Type : Apo-Summicron-M 75mm f/2 ASPH.
Approximate F Number : 4.5
Measured LV : 1.84
External Sensor Brightness Value : 1.45
Color Space : Uncalibrated
Scene Type : Directly photographed
Exposure Mode : Manual
Digital Zoom Ratio : 0
Focal Length In 35mm Format : 75 mm
Scene Capture Type : Standard
Maker Note Safety : Safe
Lens : Leica Apo-Summicron-M 75mm f/2 ASPH.
Rights : dierk topp
Date/Time Digitized : 2010:12:06 14:56:22Z
Flash Fired : False
Flash Function : False
Flash Mode : Unknown
Flash Red Eye Mode : False
Flash Return : No return detection
Exif Image Width : 1298
Exif Image Height : 1000
Sharpness : Hard
Property Release Status : Unknown (nil)
PLUS Version : 1.2.0
Creator Tool : Adobe Photoshop Lightroom
Marked : True
Already Applied : True
Blue Hue : 0
Blue Saturation : 0
Brightness : +42
Camera Profile : Adobe Standard
Chromatic Aberration B : 0
Chromatic Aberration R : 0
Clarity : +14
Color Noise Reduction : 25
Convert To Grayscale : True
Crop Angle : 0
Crop Bottom : 1
Crop Height : 1000
Crop Left : 0.136009
Crop Right : 1
Crop Top : 0
Crop Unit : pixels
Crop Width : 1298
Defringe : 0
Exposure : +1.10
Fill Light : 0
Gray Mixer Aqua : 0
Gray Mixer Blue : +3
Gray Mixer Green : -22
Gray Mixer Magenta : +3
Gray Mixer Orange : -26
Gray Mixer Purple : +9
Gray Mixer Red : -4
Gray Mixer Yellow : -22
Green Hue : 0
Green Saturation : 0
Has Crop : True
Has Settings : True
Highlight Recovery : 0
Luminance Smoothing : 0
Parametric Darks : -47
Parametric Highlight Split : 75
Parametric Highlights : 0
Parametric Lights : +20
Parametric Midtone Split : 50
Parametric Shadow Split : 25
Parametric Shadows : -13
Post Crop Vignette Amount : -23
Post Crop Vignette Feather : 50
Post Crop Vignette Midpoint : 50
Post Crop Vignette Roundness : 0
Red Hue : 0
Red Saturation : 0
Shadow Tint : 0
Shadows : 4
Sharpen Detail : 34
Sharpen Edge Masking : 0
Sharpen Radius : +1.0
Split Toning Balance : 0
Split Toning Highlight Hue : 0
Split Toning Highlight Saturation : 0
Split Toning Shadow Hue : 0
Split Toning Shadow Saturation : 0
Color Temperature : 4250
Tint : 0
Tone Curve : 0, 0, 32, 22, 64, 56, 128, 128, 192, 196, 255, 255
Tone Curve Name : Medium Contrast
Version : 6.1
Vignette Amount : 0
Image Width : 300
Image Height : 235
Bits Per Sample : 8
Color Components : 1
Aperture : 4.8
Blue Balance : 0.714865
Image Size : 300x235
Lens ID : Apo-Summicron-M 75mm f/2 ASPH.
Megapixels : 0.070
Red Balance : 0.492441
Scale Factor To 35 mm Equivalent : 1.0
Shutter Speed : 1/125
Flash : No Flash
Circle Of Confusion : 0.030 mm
Field Of View : 27.0 deg
Focal Length : 75.0 mm (35 mm equivalent: 75.0 mm)
Hyperfocal Distance : 39.00 m
Light Value : 8.5