Uber Exif Photo
Keywords : jane
Copyright Notice : dierk topp
Copyright Flag : True
Make : Leica Camera AG
Camera Model Name : M9 Digital Camera
Software : 1.116
Modify Date : 2010:12:28 20:12:11
Copyright : dierk topp
Exposure Time : 1/180
F Number : 2.4
Exposure Program : Manual
ISO : 640
Date/Time Original : 2010:12:28 15:22:15
Create Date : 2010:12:28 15:22:15
Shutter Speed Value : 1/180
Aperture Value : 2.4
Exposure Compensation : 0
Max Aperture Value : 2.0
Metering Mode : Center-weighted average
Light Source : Unknown
Focal Length : 75.0 mm
Contrast : Normal
Sharpening : Normal
Saturation : Normal
JPEG Quality : Fine
White Balance : Auto
WB RGB Levels : 0.6030402297 1 0.5830190022
User Profile : Pano
JPEG Size : 5216x3472
Serial Number : 3834236
Firmware Version : 1.116
Base ISO : 160
Sensor Width : 5270
Sensor Height : 3516
Sensor Bit Depth : 14
Camera Temperature : 18 C
Lens Type : Apo-Summicron-M 75mm f/2 ASPH.
Approximate F Number : 2.5
Measured LV : 1.71
External Sensor Brightness Value : -0.02
Color Space : Uncalibrated
Scene Type : Directly photographed
Exposure Mode : Manual
Digital Zoom Ratio : 0
Focal Length In 35mm Format : 75 mm
Scene Capture Type : Standard
Maker Note Safety : Safe
Lens : Leica Apo-Summicron-M 75mm f/2 ASPH.
Rights : dierk topp
Subject : jane
Date/Time Digitized : 2010:12:28 15:22:15Z
Flash Fired : False
Flash Function : False
Flash Mode : Unknown
Flash Red Eye Mode : False
Flash Return : No return detection
Exif Image Width : 1446
Exif Image Height : 1000
Sharpness : Hard
Property Release Status : Unknown (nil)
PLUS Version : 1.2.0
Creator Tool : Adobe Photoshop Lightroom
Rating : 5
Marked : True
Already Applied : True
Blue Hue : 0
Blue Saturation : 0
Brightness : +46
Camera Profile : Adobe Standard
Chromatic Aberration B : 0
Chromatic Aberration R : 0
Clarity : -10
Color Noise Reduction : 25
Convert To Grayscale : True
Crop Angle : 0
Crop Bottom : 1
Crop Height : 1000
Crop Left : 0
Crop Right : 0.962095
Crop Top : 0
Crop Unit : pixels
Crop Width : 1446
Defringe : 0
Exposure : +1.16
Fill Light : 0
Gray Mixer Aqua : -19
Gray Mixer Blue : +8
Gray Mixer Green : -26
Gray Mixer Magenta : +7
Gray Mixer Orange : -19
Gray Mixer Purple : +16
Gray Mixer Red : -1
Gray Mixer Yellow : +1
Green Hue : 0
Green Saturation : 0
Has Crop : True
Has Settings : True
Highlight Recovery : 0
Luminance Smoothing : 0
Parametric Darks : +22
Parametric Highlight Split : 75
Parametric Highlights : -27
Parametric Lights : +66
Parametric Midtone Split : 50
Parametric Shadow Split : 25
Parametric Shadows : 0
Post Crop Vignette Amount : -13
Post Crop Vignette Feather : 50
Post Crop Vignette Midpoint : 50
Post Crop Vignette Roundness : 0
Red Hue : 0
Red Saturation : 0
Shadow Tint : 0
Shadows : 5
Sharpen Detail : 37
Sharpen Edge Masking : 0
Sharpen Radius : +1.0
Split Toning Balance : 0
Split Toning Highlight Hue : 0
Split Toning Highlight Saturation : 0
Split Toning Shadow Hue : 0
Split Toning Shadow Saturation : 0
Color Temperature : 3100
Tint : -7
Tone Curve : 0, 0, 32, 22, 64, 56, 128, 128, 192, 196, 255, 255
Tone Curve Name : Medium Contrast
Version : 6.1
Vignette Amount : 0
Image Width : 300
Image Height : 212
Bits Per Sample : 8
Color Components : 1
Aperture : 2.4
Blue Balance : 0.583019
Image Size : 300x212
Lens ID : Apo-Summicron-M 75mm f/2 ASPH.
Megapixels : 0.064
Red Balance : 0.60304
Scale Factor To 35 mm Equivalent : 1.0
Shutter Speed : 1/180
Flash : No Flash
Circle Of Confusion : 0.030 mm
Field Of View : 27.0 deg
Focal Length : 75.0 mm (35 mm equivalent: 75.0 mm)
Hyperfocal Distance : 78.00 m
Light Value : 7.3