Uber Exif Photo
Copyright Notice : dierk topp
Copyright Flag : True
Make : Leica Camera AG
Camera Model Name : M9 Digital Camera
Software : 1.116
Modify Date : 2010:11:18 21:10:57
Copyright : dierk topp
Exposure Time : 4
F Number : 9.5
Exposure Program : Manual
ISO : 160
Date/Time Original : 2010:11:18 20:44:57
Create Date : 2010:11:18 20:44:57
Shutter Speed Value : 4
Aperture Value : 9.5
Exposure Compensation : 0
Max Aperture Value : 4.0
Metering Mode : Center-weighted average
Light Source : Unknown
Focal Length : 90.0 mm
Contrast : Normal
Sharpening : Normal
Saturation : Normal
JPEG Quality : Fine
White Balance : Auto
WB RGB Levels : 0.6030402297 1 0.5830190022
User Profile : Z21
JPEG Size : 5216x3472
Serial Number : 3834236
Firmware Version : 1.116
Base ISO : 160
Sensor Width : 5270
Sensor Height : 3516
Sensor Bit Depth : 14
Camera Temperature : 20 C
Lens Type : Macro-Elmar-M 90mm f/4
Approximate F Number : 6.5
Measured LV : 0.08
External Sensor Brightness Value : 1.05
Color Space : Uncalibrated
Scene Type : Directly photographed
Exposure Mode : Manual
Digital Zoom Ratio : 0
Focal Length In 35mm Format : 90 mm
Scene Capture Type : Standard
Maker Note Safety : Safe
Profile Description : sRGB IEC61966-2.1
Lens : Leica Macro-Elmar-M 90mm f/4
Rights : dierk topp
Date/Time Digitized : 2010:11:18 20:44:57Z
Flash Fired : False
Flash Function : False
Flash Mode : Unknown
Flash Red Eye Mode : False
Flash Return : No return detection
Exif Image Width : 1106
Exif Image Height : 1000
Sharpness : Hard
Property Release Status : Unknown (nil)
PLUS Version : 1.2.0
Creator Tool : Adobe Photoshop Lightroom
Marked : True
Already Applied : True
Blue Hue : 0
Blue Saturation : 0
Brightness : +17
Camera Profile : Adobe Standard
Chromatic Aberration B : 0
Chromatic Aberration R : 0
Clarity : +41
Color Noise Reduction : 25
Convert To Grayscale : False
Crop Angle : 0
Crop Bottom : 0.969849
Crop Height : 1000
Crop Left : 0.16611
Crop Right : 0.798217
Crop Top : 0.110553
Crop Unit : pixels
Crop Width : 1106
Defringe : 0
Exposure : 0.00
Fill Light : 13
Green Hue : 0
Green Saturation : 0
Has Crop : True
Has Settings : True
Highlight Recovery : 15
Hue Adjustment Aqua : 0
Hue Adjustment Blue : 0
Hue Adjustment Green : 0
Hue Adjustment Magenta : 0
Hue Adjustment Orange : 0
Hue Adjustment Purple : 0
Hue Adjustment Red : 0
Hue Adjustment Yellow : 0
Luminance Adjustment Aqua : 0
Luminance Adjustment Blue : 0
Luminance Adjustment Green : 0
Luminance Adjustment Magenta : 0
Luminance Adjustment Orange : 0
Luminance Adjustment Purple : 0
Luminance Adjustment Red : 0
Luminance Adjustment Yellow : 0
Luminance Smoothing : 0
Parametric Darks : 0
Parametric Highlight Split : 75
Parametric Highlights : 0
Parametric Lights : 0
Parametric Midtone Split : 50
Parametric Shadow Split : 25
Parametric Shadows : 0
Post Crop Vignette Amount : -35
Post Crop Vignette Feather : 50
Post Crop Vignette Midpoint : 50
Post Crop Vignette Roundness : 0
Red Hue : 0
Red Saturation : 0
Saturation Adjustment Aqua : 0
Saturation Adjustment Blue : 0
Saturation Adjustment Green : 0
Saturation Adjustment Magenta : 0
Saturation Adjustment Orange : 0
Saturation Adjustment Purple : 0
Saturation Adjustment Red : 0
Saturation Adjustment Yellow : 0
Shadow Tint : 0
Shadows : 15
Sharpen Detail : 34
Sharpen Edge Masking : 0
Sharpen Radius : +1.0
Split Toning Balance : 0
Split Toning Highlight Hue : 0
Split Toning Highlight Saturation : 0
Split Toning Shadow Hue : 0
Split Toning Shadow Saturation : 0
Color Temperature : 2815
Tint : -7
Tone Curve : 0, 0, 32, 22, 64, 56, 128, 128, 192, 196, 255, 255
Tone Curve Name : Medium Contrast
Version : 6.1
Vibrance : 0
Vignette Amount : 0
Image Width : 300
Image Height : 273
Bits Per Sample : 8
Color Components : 3
Aperture : 9.5
Blue Balance : 0.583019
Image Size : 300x273
Lens ID : Macro-Elmar-M 90mm f/4
Megapixels : 0.082
Red Balance : 0.60304
Scale Factor To 35 mm Equivalent : 1.0
Shutter Speed : 4
Flash : No Flash
Circle Of Confusion : 0.030 mm
Field Of View : 22.6 deg
Focal Length : 90.0 mm (35 mm equivalent: 90.0 mm)
Hyperfocal Distance : 28.38 m
Light Value : 3.8