Uber Exif Photo
Copyright Notice : dierk topp
Copyright Flag : True
Make : Leica Camera AG
Camera Model Name : M9 Digital Camera
Software : 1.116
Modify Date : 2010:11:18 21:10:48
Copyright : dierk topp
Exposure Time : 6
F Number : 4.0
Exposure Program : Manual
ISO : 160
Date/Time Original : 2010:11:18 20:18:27
Create Date : 2010:11:18 20:18:27
Shutter Speed Value : 6
Aperture Value : 4.0
Exposure Compensation : 0
Max Aperture Value : 4.0
Metering Mode : Center-weighted average
Light Source : Unknown
Focal Length : 90.0 mm
Contrast : Normal
Sharpening : Normal
Saturation : Normal
JPEG Quality : Fine
White Balance : Auto
WB RGB Levels : 0.6030402297 1 0.5830190022
User Profile : Z21
JPEG Size : 5216x3472
Serial Number : 3834236
Firmware Version : 1.116
Base ISO : 160
Sensor Width : 5270
Sensor Height : 3516
Sensor Bit Depth : 14
Camera Temperature : 20 C
Lens Type : Macro-Elmar-M 90mm f/4
Approximate F Number : 4.0
Measured LV : -6.34
External Sensor Brightness Value : -3.87
Color Space : Uncalibrated
Scene Type : Directly photographed
Exposure Mode : Manual
Digital Zoom Ratio : 0
Focal Length In 35mm Format : 90 mm
Scene Capture Type : Standard
Maker Note Safety : Safe
Profile Description : sRGB IEC61966-2.1
Lens : Leica Macro-Elmar-M 90mm f/4
Rights : dierk topp
Date/Time Digitized : 2010:11:18 20:18:27Z
Flash Fired : False
Flash Function : False
Flash Mode : Unknown
Flash Red Eye Mode : False
Flash Return : No return detection
Exif Image Width : 1155
Exif Image Height : 1000
Sharpness : Hard
Property Release Status : Unknown (nil)
PLUS Version : 1.2.0
Creator Tool : Adobe Photoshop Lightroom
Marked : True
Already Applied : True
Blue Hue : 0
Blue Saturation : 0
Brightness : +52
Camera Profile : Adobe Standard
Chromatic Aberration B : 0
Chromatic Aberration R : 0
Clarity : +24
Color Noise Reduction : 25
Convert To Grayscale : True
Crop Angle : 0
Crop Bottom : 0.909548
Crop Height : 1000
Crop Left : 0.092532
Crop Right : 0.791528
Crop Top : 0
Crop Unit : pixels
Crop Width : 1155
Defringe : 0
Exposure : 0.00
Fill Light : 13
Gray Mixer Aqua : -10
Gray Mixer Blue : +20
Gray Mixer Green : -25
Gray Mixer Magenta : +28
Gray Mixer Orange : +4
Gray Mixer Purple : +25
Gray Mixer Red : +29
Gray Mixer Yellow : -22
Green Hue : 0
Green Saturation : 0
Has Crop : True
Has Settings : True
Highlight Recovery : 0
Luminance Smoothing : 0
Parametric Darks : -17
Parametric Highlight Split : 75
Parametric Highlights : 0
Parametric Lights : +28
Parametric Midtone Split : 50
Parametric Shadow Split : 25
Parametric Shadows : 0
Post Crop Vignette Amount : -56
Post Crop Vignette Feather : 50
Post Crop Vignette Midpoint : 50
Post Crop Vignette Roundness : 0
Red Hue : 0
Red Saturation : 0
Shadow Tint : 0
Shadows : 7
Sharpen Detail : 37
Sharpen Edge Masking : 0
Sharpen Radius : +1.0
Split Toning Balance : 0
Split Toning Highlight Hue : 52
Split Toning Highlight Saturation : 26
Split Toning Shadow Hue : 37
Split Toning Shadow Saturation : 22
Color Temperature : 5550
Tint : -4
Tone Curve : 0, 0, 32, 22, 64, 56, 128, 128, 192, 196, 255, 255
Tone Curve Name : Medium Contrast
Version : 6.1
Vignette Amount : 0
Image Width : 300
Image Height : 262
Bits Per Sample : 8
Color Components : 3
Aperture : 4.0
Blue Balance : 0.583019
Image Size : 300x262
Lens ID : Macro-Elmar-M 90mm f/4
Megapixels : 0.079
Red Balance : 0.60304
Scale Factor To 35 mm Equivalent : 1.0
Shutter Speed : 6
Flash : No Flash
Circle Of Confusion : 0.030 mm
Field Of View : 22.6 deg
Focal Length : 90.0 mm (35 mm equivalent: 90.0 mm)
Hyperfocal Distance : 67.40 m
Light Value : 0.7