Uber Exif Photo
Keywords : architektur, flughafen
Copyright Notice : dierk topp
Copyright Flag : True
Make : Leica Camera AG
Camera Model Name : M9 Digital Camera
Software : 1.116
Modify Date : 2010:11:10 21:41:45
Copyright : dierk topp
Exposure Time : 1/2000
F Number : 4.8
Exposure Program : Aperture-priority AE
ISO : 160
Date/Time Original : 2010:11:10 12:05:09
Create Date : 2010:11:10 12:05:09
Shutter Speed Value : 1/2000
Aperture Value : 4.8
Exposure Compensation : 0
Max Aperture Value : 3.8
Metering Mode : Center-weighted average
Light Source : Unknown
Focal Length : 18.0 mm
Contrast : Normal
Sharpening : Normal
Saturation : Normal
JPEG Quality : Fine
White Balance : Auto
WB RGB Levels : 0.4465400234 1 0.7695631752
User Profile : Auto
JPEG Size : 5216x3472
Serial Number : 3834236
Firmware Version : 1.116
Base ISO : 160
Sensor Width : 5270
Sensor Height : 3516
Sensor Bit Depth : 14
Camera Temperature : 19 C
Lens Type : Apo-Telyt-M 18mm f/3.8 ASPH.
Approximate F Number : 4.5
Measured LV : 6.92
External Sensor Brightness Value : 6.58
Color Space : Uncalibrated
Scene Type : Directly photographed
Exposure Mode : Manual
Digital Zoom Ratio : 0
Focal Length In 35mm Format : 18 mm
Scene Capture Type : Standard
Maker Note Safety : Safe
Lens : Super-Elmar-M 18mm f/3.8 ASPH.
Rights : dierk topp
Subject : architektur, flughafen
Date/Time Digitized : 2010:11:10 12:05:09Z
Flash Fired : False
Flash Function : False
Flash Mode : Unknown
Flash Red Eye Mode : False
Flash Return : No return detection
Exif Image Width : 1500
Exif Image Height : 998
Sharpness : Hard
Property Release Status : Unknown (nil)
PLUS Version : 1.2.0
Creator Tool : Adobe Photoshop Lightroom
Marked : True
Already Applied : True
Blue Hue : 0
Blue Saturation : 0
Brightness : +48
Camera Profile : Adobe Standard
Chromatic Aberration B : 0
Chromatic Aberration R : 0
Clarity : +27
Color Noise Reduction : 25
Convert To Grayscale : True
Defringe : 0
Exposure : +1.38
Fill Light : 26
Gray Mixer Aqua : -15
Gray Mixer Blue : -47
Gray Mixer Green : -29
Gray Mixer Magenta : +5
Gray Mixer Orange : -22
Gray Mixer Purple : +7
Gray Mixer Red : -12
Gray Mixer Yellow : -26
Green Hue : 0
Green Saturation : 0
Has Crop : False
Has Settings : True
Highlight Recovery : 9
Luminance Smoothing : 0
Parametric Darks : 0
Parametric Highlight Split : 75
Parametric Highlights : 0
Parametric Lights : 0
Parametric Midtone Split : 50
Parametric Shadow Split : 25
Parametric Shadows : 0
Post Crop Vignette Amount : 0
Red Hue : 0
Red Saturation : 0
Shadow Tint : 0
Shadows : 17
Sharpen Detail : 44
Sharpen Edge Masking : 0
Sharpen Radius : +1.0
Split Toning Balance : 0
Split Toning Highlight Hue : 0
Split Toning Highlight Saturation : 0
Split Toning Shadow Hue : 0
Split Toning Shadow Saturation : 0
Color Temperature : 5000
Tint : +8
Tone Curve : 0, 0, 32, 22, 64, 56, 128, 128, 192, 196, 255, 255
Tone Curve Name : Medium Contrast
Version : 6.1
Vignette Amount : 0
Image Width : 300
Image Height : 205
Bits Per Sample : 8
Color Components : 1
Aperture : 4.8
Blue Balance : 0.769563
Image Size : 300x205
Lens ID : Apo-Telyt-M 18mm f/3.8 ASPH.
Megapixels : 0.061
Red Balance : 0.44654
Scale Factor To 35 mm Equivalent : 1.0
Shutter Speed : 1/2000
Flash : No Flash
Circle Of Confusion : 0.030 mm
Field Of View : 90.0 deg
Focal Length : 18.0 mm (35 mm equivalent: 18.0 mm)
Hyperfocal Distance : 2.25 m
Light Value : 14.8