Uber Exif Photo
Keywords : jane
Copyright Notice : dierk topp
Copyright Flag : True
Make : Leica Camera AG
Camera Model Name : M9 Digital Camera
Software : 1.116
Modify Date : 2010:11:09 21:45:43
Copyright : dierk topp
Exposure Time : 1/180
F Number : 2.4
Exposure Program : Aperture-priority AE
ISO : 400
Date/Time Original : 2010:11:09 15:49:45
Create Date : 2010:11:09 15:49:45
Shutter Speed Value : 1/180
Aperture Value : 2.4
Exposure Compensation : 0
Max Aperture Value : 1.0
Metering Mode : Center-weighted average
Light Source : Unknown
Focal Length : 50.0 mm
Contrast : Normal
Sharpening : Normal
Saturation : Normal
JPEG Quality : Fine
White Balance : Auto
WB RGB Levels : 0.5586089328 1 0.6379565454
User Profile : Z21
JPEG Size : 5216x3472
Serial Number : 3834236
Firmware Version : 1.116
Base ISO : 160
Sensor Width : 5270
Sensor Height : 3516
Sensor Bit Depth : 14
Camera Temperature : 27 C
Lens Type : Noctilux-M 50mm f/0.95 ASPH.
Approximate F Number : 2.5
Measured LV : 3.64
External Sensor Brightness Value : 2.07
Color Space : Uncalibrated
Scene Type : Directly photographed
Exposure Mode : Manual
Digital Zoom Ratio : 0
Focal Length In 35mm Format : 50 mm
Scene Capture Type : Standard
Maker Note Safety : Safe
Lens : Noctilux-M 50mm f/0.95 ASPH.
Rights : dierk topp
Subject : jane
Date/Time Digitized : 2010:11:09 15:49:45Z
Flash Fired : False
Flash Function : False
Flash Mode : Unknown
Flash Red Eye Mode : False
Flash Return : No return detection
Exif Image Width : 677
Exif Image Height : 1000
Sharpness : Hard
Property Release Status : Unknown (nil)
PLUS Version : 1.2.0
Creator Tool : Adobe Photoshop Lightroom
Rating : 5
Marked : True
Already Applied : True
Blue Hue : 0
Blue Saturation : 0
Brightness : +26
Camera Profile : Adobe Standard
Chromatic Aberration B : 0
Chromatic Aberration R : 0
Clarity : -1
Color Noise Reduction : 25
Convert To Grayscale : True
Crop Angle : 0
Crop Bottom : 0.843906
Crop Height : 677
Crop Left : 0.049808
Crop Right : 0.751249
Crop Top : 0.130335
Crop Unit : pixels
Crop Width : 1000
Defringe : 0
Exposure : -0.24
Fill Light : 19
Gray Mixer Aqua : -17
Gray Mixer Blue : +11
Gray Mixer Green : -27
Gray Mixer Magenta : +3
Gray Mixer Orange : +21
Gray Mixer Purple : +16
Gray Mixer Red : +30
Gray Mixer Yellow : -23
Green Hue : 0
Green Saturation : 0
Has Crop : True
Has Settings : True
Highlight Recovery : 3
Luminance Smoothing : 0
Parametric Darks : +34
Parametric Highlight Split : 75
Parametric Highlights : -13
Parametric Lights : +64
Parametric Midtone Split : 50
Parametric Shadow Split : 25
Parametric Shadows : +20
Post Crop Vignette Amount : -41
Post Crop Vignette Feather : 50
Post Crop Vignette Midpoint : 50
Post Crop Vignette Roundness : 0
Red Hue : 0
Red Saturation : 0
Shadow Tint : 0
Shadows : 21
Sharpen Detail : 25
Sharpen Edge Masking : 0
Sharpen Radius : +1.0
Split Toning Balance : 0
Split Toning Highlight Hue : 0
Split Toning Highlight Saturation : 0
Split Toning Shadow Hue : 0
Split Toning Shadow Saturation : 0
Color Temperature : 3500
Tint : -7
Tone Curve : 0, 0, 32, 22, 64, 56, 128, 128, 192, 196, 255, 255
Tone Curve Name : Medium Contrast
Version : 6.1
Vignette Amount : 0
Image Width : 210
Image Height : 300
Bits Per Sample : 8
Color Components : 1
Aperture : 2.4
Blue Balance : 0.637957
Image Size : 210x300
Lens ID : Noctilux-M 50mm f/0.95 ASPH.
Megapixels : 0.063
Red Balance : 0.558609
Scale Factor To 35 mm Equivalent : 1.0
Shutter Speed : 1/180
Flash : No Flash
Circle Of Confusion : 0.030 mm
Field Of View : 39.6 deg
Focal Length : 50.0 mm (35 mm equivalent: 50.0 mm)
Hyperfocal Distance : 34.67 m
Light Value : 8.0