Uber Exif Photo
Copyright Notice : dierk topp
Copyright Flag : True
Make : Leica Camera AG
Camera Model Name : M9 Digital Camera
Software : 1.116
Modify Date : 2010:11:06 21:23:31
Copyright : dierk topp
Exposure Time : 1/1000
F Number : 4.0
Exposure Program : Aperture-priority AE
ISO : 160
Date/Time Original : 2010:11:05 13:06:59
Create Date : 2010:11:05 13:06:59
Shutter Speed Value : 1/1000
Aperture Value : 4.0
Exposure Compensation : 0
Max Aperture Value : 3.8
Metering Mode : Center-weighted average
Light Source : Unknown
Focal Length : 18.0 mm
Contrast : Normal
Sharpening : Normal
Saturation : Normal
JPEG Quality : Fine
White Balance : Auto
WB RGB Levels : 0.4633877309 1 0.7456084463
User Profile : Z21
JPEG Size : 5216x3472
Serial Number : 3834236
Firmware Version : 1.116
Base ISO : 160
Sensor Width : 5270
Sensor Height : 3516
Sensor Bit Depth : 14
Camera Temperature : 29 C
Lens Type : Apo-Telyt-M 18mm f/3.8 ASPH.
Approximate F Number : 4.0
Measured LV : 6.20
External Sensor Brightness Value : 5.43
Color Space : Uncalibrated
Scene Type : Directly photographed
Exposure Mode : Manual
Digital Zoom Ratio : 0
Focal Length In 35mm Format : 18 mm
Scene Capture Type : Standard
Maker Note Safety : Safe
Lens : Super-Elmar-M 18mm f/3.8 ASPH.
Rights : dierk topp
Date/Time Digitized : 2010:11:05 13:06:59Z
Flash Fired : False
Flash Function : False
Flash Mode : Unknown
Flash Red Eye Mode : False
Flash Return : No return detection
Exif Image Width : 665
Exif Image Height : 1000
Sharpness : Hard
Property Release Status : Unknown (nil)
PLUS Version : 1.2.0
Creator Tool : Adobe Photoshop Lightroom
Marked : True
Already Applied : True
Blue Hue : 0
Blue Saturation : 0
Brightness : +97
Camera Profile : Adobe Standard
Chromatic Aberration B : 0
Chromatic Aberration R : 0
Clarity : +76
Color Noise Reduction : 25
Convert To Grayscale : True
Crop Angle : 0
Crop Bottom : 0.920185
Crop Height : 665
Crop Left : 0.110988
Crop Right : 0.980493
Crop Top : 0.050681
Crop Unit : pixels
Crop Width : 1000
Defringe : 0
Exposure : 0.00
Fill Light : 6
Gray Mixer Aqua : -18
Gray Mixer Blue : -85
Gray Mixer Green : -20
Gray Mixer Magenta : +4
Gray Mixer Orange : +46
Gray Mixer Purple : +5
Gray Mixer Red : -9
Gray Mixer Yellow : +7
Green Hue : 0
Green Saturation : 0
Has Crop : True
Has Settings : True
Highlight Recovery : 9
Luminance Smoothing : 0
Parametric Darks : 0
Parametric Highlight Split : 75
Parametric Highlights : 0
Parametric Lights : 0
Parametric Midtone Split : 50
Parametric Shadow Split : 25
Parametric Shadows : 0
Post Crop Vignette Amount : -10
Post Crop Vignette Feather : 50
Post Crop Vignette Midpoint : 50
Post Crop Vignette Roundness : 0
Red Hue : 0
Red Saturation : 0
Shadow Tint : 0
Shadows : 10
Sharpen Detail : 39
Sharpen Edge Masking : 0
Sharpen Radius : +1.0
Split Toning Balance : 0
Split Toning Highlight Hue : 0
Split Toning Highlight Saturation : 0
Split Toning Shadow Hue : 0
Split Toning Shadow Saturation : 0
Color Temperature : 4700
Tint : +6
Tone Curve : 0, 0, 32, 22, 64, 56, 128, 128, 192, 196, 255, 255
Tone Curve Name : Medium Contrast
Version : 6.1
Vignette Amount : 0
Image Width : 207
Image Height : 300
Bits Per Sample : 8
Color Components : 1
Aperture : 4.0
Blue Balance : 0.745608
Image Size : 207x300
Lens ID : Apo-Telyt-M 18mm f/3.8 ASPH.
Megapixels : 0.062
Red Balance : 0.463388
Scale Factor To 35 mm Equivalent : 1.0
Shutter Speed : 1/1000
Flash : No Flash
Circle Of Confusion : 0.030 mm
Field Of View : 90.0 deg
Focal Length : 18.0 mm (35 mm equivalent: 18.0 mm)
Hyperfocal Distance : 2.70 m
Light Value : 13.3