Uber Exif Photo
Copyright Notice : dierk topp
Copyright Flag : True
Camera Model Name : M9 Digital Camera
Modify Date : 2010:10:31 21:20:45
Copyright : dierk topp
Exposure Time : 1/1000
F Number : 5.7
ISO : 160
Date/Time Original : 2010:07:28 12:39:42
Shutter Speed Value : 1/1000
Aperture Value : 5.7
Focal Length : 18.0 mm
Color Space : Uncalibrated
Profile Description : sRGB IEC61966-2.1
Rights : dierk topp
Contrast : High
Exif Image Width : 1500
Exif Image Height : 893
Saturation : Normal
Sharpness : Hard
Property Release Status : Unknown (nil)
PLUS Version : 1.2.0
Create Date : 2010:07:28 12:39:42+01:00
Creator Tool : Adobe Photoshop Lightroom
Marked : True
Already Applied : True
Blue Hue : 0
Blue Saturation : 0
Brightness : -6
Camera Profile : Embedded
Chromatic Aberration B : 0
Chromatic Aberration R : 0
Clarity : +4
Color Noise Reduction : 0
Convert To Grayscale : False
Crop Angle : 0
Crop Bottom : 0.839395
Crop Height : 893
Crop Left : 0.039721
Crop Right : 0.960279
Crop Top : 0.015989
Crop Unit : pixels
Crop Width : 1500
Defringe : 0
Exposure : 0.00
Fill Light : 5
Green Hue : 0
Green Saturation : 0
Has Crop : True
Has Settings : True
Highlight Recovery : 0
Hue Adjustment Aqua : 0
Hue Adjustment Blue : 0
Hue Adjustment Green : 0
Hue Adjustment Magenta : 0
Hue Adjustment Orange : 0
Hue Adjustment Purple : 0
Hue Adjustment Red : 0
Hue Adjustment Yellow : 0
Incremental Temperature : 0
Incremental Tint : 0
Luminance Adjustment Aqua : 0
Luminance Adjustment Blue : 0
Luminance Adjustment Green : 0
Luminance Adjustment Magenta : 0
Luminance Adjustment Orange : 0
Luminance Adjustment Purple : 0
Luminance Adjustment Red : 0
Luminance Adjustment Yellow : 0
Luminance Smoothing : 0
Parametric Darks : 0
Parametric Highlight Split : 75
Parametric Highlights : 0
Parametric Lights : 0
Parametric Midtone Split : 50
Parametric Shadow Split : 25
Parametric Shadows : 0
Post Crop Vignette Amount : 0
Red Hue : 0
Red Saturation : 0
Saturation Adjustment Aqua : 0
Saturation Adjustment Blue : 0
Saturation Adjustment Green : 0
Saturation Adjustment Magenta : 0
Saturation Adjustment Orange : 0
Saturation Adjustment Purple : 0
Saturation Adjustment Red : 0
Saturation Adjustment Yellow : 0
Shadow Tint : 0
Shadows : 0
Sharpen Detail : 25
Sharpen Edge Masking : 0
Sharpen Radius : +1.0
Split Toning Balance : 0
Split Toning Highlight Hue : 0
Split Toning Highlight Saturation : 0
Split Toning Shadow Hue : 0
Split Toning Shadow Saturation : 0
Tone Curve : 0, 0, 255, 255
Tone Curve Name : Linear
Version : 6.1
Vibrance : 0
Vignette Amount : 0
Image Width : 300
Image Height : 185
Bits Per Sample : 8
Color Components : 3
Aperture : 5.7
Image Size : 300x185
Megapixels : 0.056
Shutter Speed : 1/1000
Light Value : 14.3