Uber Exif Photo
Copyright Notice : dierk topp
Copyright Flag : True
Camera Model Name : M9 Digital Camera
Software : Adobe Photoshop CS4 Windows
Modify Date : 2010:10:31 21:09:54
Copyright : dierk topp
Exposure Time : 1/6
F Number : 4.8
ISO : 160
Date/Time Original : 2010:09:18 14:55:55
Shutter Speed Value : 1/6
Aperture Value : 4.8
Focal Length : 18.0 mm
Color Space : Uncalibrated
Format : image/tiff
Rights : dierk topp
Contrast : High
Exif Image Width : 1500
Exif Image Height : 998
Sharpness : Normal
Property Release Status : Unknown (nil)
PLUS Version : 1.2.0
Create Date : 2010:09:18 14:55:55+01:00
Creator Tool : Adobe Photoshop Lightroom
Marked : True
Already Applied : True
Blue Hue : 0
Blue Saturation : 0
Brightness : -21
Camera Profile : Embedded
Chromatic Aberration B : 0
Chromatic Aberration R : 0
Clarity : +2
Color Noise Reduction : 0
Convert To Grayscale : True
Crop Angle : 0.456779
Crop Bottom : 1
Crop Height : 998
Crop Left : 0.008542
Crop Right : 0.991458
Crop Top : 0
Crop Unit : pixels
Crop Width : 1500
Defringe : 0
Exposure : +0.15
Fill Light : 5
Gray Mixer Aqua : -17
Gray Mixer Blue : +11
Gray Mixer Green : -27
Gray Mixer Magenta : +4
Gray Mixer Orange : -19
Gray Mixer Purple : +16
Gray Mixer Red : -10
Gray Mixer Yellow : -23
Green Hue : 0
Green Saturation : 0
Has Crop : True
Has Settings : True
Highlight Recovery : 0
Incremental Temperature : 0
Incremental Tint : 0
Luminance Smoothing : 0
Parametric Darks : 0
Parametric Highlight Split : 75
Parametric Highlights : 0
Parametric Lights : 0
Parametric Midtone Split : 50
Parametric Shadow Split : 25
Parametric Shadows : 0
Post Crop Vignette Amount : -16
Post Crop Vignette Feather : 50
Post Crop Vignette Midpoint : 50
Post Crop Vignette Roundness : 0
Red Hue : 0
Red Saturation : 0
Shadow Tint : 0
Shadows : 10
Sharpen Detail : 25
Sharpen Edge Masking : 0
Sharpen Radius : +1.0
Split Toning Balance : 0
Split Toning Highlight Hue : 205
Split Toning Highlight Saturation : 0
Split Toning Shadow Hue : 208
Split Toning Shadow Saturation : 0
Tone Curve : 0, 0, 255, 255
Tone Curve Name : Linear
Version : 6.1
Vignette Amount : 0
Image Width : 300
Image Height : 205
Bits Per Sample : 8
Color Components : 1
Aperture : 4.8
Image Size : 300x205
Megapixels : 0.061
Shutter Speed : 1/6
Light Value : 6.4