Uber Exif Photo
Make : Leica Camera AG
Camera Model Name : M9 Digital Camera
Software : 1.116
Modify Date : 2010:10:29 16:00:26
Exposure Time : 1/250
F Number : 8.0
Exposure Program : Aperture-priority AE
ISO : 160
Date/Time Original : 2010:04:26 12:52:30
Create Date : 2010:04:26 12:52:30
Shutter Speed Value : 1/250
Aperture Value : 8.0
Exposure Compensation : +1
Max Aperture Value : 2.8
Metering Mode : Center-weighted average
Light Source : Unknown
Focal Length : 21.0 mm
Contrast : Normal
Sharpening : Normal
Saturation : Normal
JPEG Quality : Fine
White Balance : Auto
WB RGB Levels : 0.4633877309 1 0.755893887
User Profile : Z21
JPEG Size : 5216x3472
Serial Number : 3834236
Firmware Version : 1.116
Base ISO : 160
Sensor Width : 5270
Sensor Height : 3516
Sensor Bit Depth : 14
Camera Temperature : 28 C
Lens Type : Elmarit-M 21mm f/2.8
Approximate F Number : 6.0
Measured LV : 5.50
External Sensor Brightness Value : 6.20
Color Space : Uncalibrated
Scene Type : Directly photographed
Exposure Mode : Manual
Digital Zoom Ratio : 0
Focal Length In 35mm Format : 21 mm
Scene Capture Type : Standard
Maker Note Safety : Safe
Lens : Leica Elmarit-M 21mm f/2.8
Date/Time Digitized : 2010:04:26 12:52:30+01:00
Flash Fired : False
Flash Function : False
Flash Mode : Unknown
Flash Red Eye Mode : False
Flash Return : No return detection
Exif Image Width : 665
Exif Image Height : 1000
Sharpness : Hard
Creator Tool : Adobe Photoshop Lightroom
Already Applied : True
Blue Hue : 0
Blue Saturation : 0
Brightness : +48
Camera Profile : Adobe Standard
Chromatic Aberration B : 0
Chromatic Aberration R : 0
Clarity : +44
Color Noise Reduction : 25
Convert To Grayscale : True
Defringe : 0
Exposure : 0.00
Fill Light : 0
Gray Mixer Aqua : -52
Gray Mixer Blue : -45
Gray Mixer Green : -27
Gray Mixer Magenta : +5
Gray Mixer Orange : -18
Gray Mixer Purple : -57
Gray Mixer Red : -9
Gray Mixer Yellow : -23
Green Hue : 0
Green Saturation : 0
Has Crop : False
Has Settings : True
Highlight Recovery : 16
Luminance Smoothing : 0
Parametric Darks : 0
Parametric Highlight Split : 75
Parametric Highlights : 0
Parametric Lights : 0
Parametric Midtone Split : 50
Parametric Shadow Split : 25
Parametric Shadows : 0
Post Crop Vignette Amount : -26
Post Crop Vignette Feather : 50
Post Crop Vignette Midpoint : 50
Post Crop Vignette Roundness : 0
Red Hue : 0
Red Saturation : 0
Shadow Tint : 0
Shadows : 11
Sharpen Detail : 50
Sharpen Edge Masking : 0
Sharpen Radius : +0.8
Split Toning Balance : 0
Split Toning Highlight Hue : 0
Split Toning Highlight Saturation : 0
Split Toning Shadow Hue : 0
Split Toning Shadow Saturation : 0
Color Temperature : 4750
Tint : +3
Tone Curve : 0, 0, 32, 22, 64, 56, 128, 128, 192, 196, 255, 255
Tone Curve Name : Medium Contrast
Version : 6.1
Vignette Amount : 0
Image Width : 207
Image Height : 300
Bits Per Sample : 8
Color Components : 1
Aperture : 8.0
Blue Balance : 0.755894
Image Size : 207x300
Lens ID : Elmarit-M 21mm f/2.8
Megapixels : 0.062
Red Balance : 0.463388
Scale Factor To 35 mm Equivalent : 1.0
Shutter Speed : 1/250
Flash : No Flash
Circle Of Confusion : 0.030 mm
Field Of View : 81.2 deg
Focal Length : 21.0 mm (35 mm equivalent: 21.0 mm)
Hyperfocal Distance : 1.83 m
Light Value : 13.3