Uber Exif Photo
Keywords : m9
Sub-location : La Palma
Copyright Notice : Dierk Topp
Copyright Flag : True
URL : www.lapalmagaleria.info
Make : Leica Camera AG
Camera Model Name : M9 Digital Camera
Software : 1.002; post-processed by CornerFix 1.3.0.4
Modify Date : 2010:10:26 22:05:47
Copyright : Dierk Topp
Exposure Time : 1/1000
F Number : 5.7
Exposure Program : Aperture-priority AE
ISO : 160
Date/Time Original : 2010:01:23 16:03:33
Create Date : 2010:01:23 16:03:33
Shutter Speed Value : 1/1000
Aperture Value : 5.7
Exposure Compensation : 0
Max Aperture Value : 2.8
Metering Mode : Center-weighted average
Light Source : Unknown
Focal Length : 21.0 mm
Contrast : Normal
Sharpening : Normal
Saturation : Normal
JPEG Quality : Fine
White Balance : Auto
WB RGB Levels : 0.4802297975 1 0.7216985288
User Profile : Z21
Serial Number : *******
Firmware Version : 1.002
Base ISO : 160
Sensor Width : 5270
Sensor Height : 3516
Sensor Bit Depth : 14
Camera Temperature : 25 C
Lens Type : Elmarit-M 21mm f/2.8
Approximate F Number : 5.0
Measured LV : 6.18
External Sensor Brightness Value : 6.20
Color Space : Uncalibrated
Scene Type : Directly photographed
Exposure Mode : Manual
Digital Zoom Ratio : 0
Focal Length In 35mm Format : 21 mm
Scene Capture Type : Standard
Maker Note Safety : Safe
Location : La Palma
Lens : Elmarit-M 21mm f/2.8
Rights : Dierk Topp
Subject : m9
Date/Time Digitized : 2010:01:23 16:03:33Z
Flash Fired : False
Flash Function : False
Flash Mode : Unknown
Flash Red Eye Mode : False
Flash Return : No return detection
Exif Image Width : 1500
Exif Image Height : 690
Sharpness : Hard
Creator Tool : Adobe Photoshop Lightroom
Rating : 5
Marked : True
Web Statement : www.lapalmagaleria.info
Already Applied : True
Blue Hue : 0
Blue Saturation : 0
Brightness : +43
Camera Profile : Adobe Standard
Chromatic Aberration B : 0
Chromatic Aberration R : 0
Clarity : +26
Color Noise Reduction : 25
Convert To Grayscale : True
Crop Angle : 0.064629
Crop Bottom : 0.73291
Crop Height : 690
Crop Left : 0.00119
Crop Right : 0.998979
Crop Top : 0.041335
Crop Unit : pixels
Crop Width : 1500
Defringe : 0
Exposure : +0.48
Fill Light : 18
Gray Mixer Aqua : -18
Gray Mixer Blue : -49
Gray Mixer Green : -25
Gray Mixer Magenta : +3
Gray Mixer Orange : -17
Gray Mixer Purple : +9
Gray Mixer Red : -9
Gray Mixer Yellow : -21
Green Hue : 0
Green Saturation : 0
Has Crop : True
Has Settings : True
Highlight Recovery : 0
Luminance Smoothing : 0
Parametric Darks : +24
Parametric Highlight Split : 75
Parametric Highlights : 0
Parametric Lights : 0
Parametric Midtone Split : 50
Parametric Shadow Split : 25
Parametric Shadows : +48
Post Crop Vignette Amount : -40
Post Crop Vignette Feather : 74
Post Crop Vignette Midpoint : 50
Post Crop Vignette Roundness : 0
Red Hue : 0
Red Saturation : 0
Shadow Tint : 0
Shadows : 3
Sharpen Detail : 50
Sharpen Edge Masking : 55
Sharpen Radius : +0.8
Split Toning Balance : 0
Split Toning Highlight Hue : 0
Split Toning Highlight Saturation : 0
Split Toning Shadow Hue : 0
Split Toning Shadow Saturation : 0
Color Temperature : 4400
Tint : +3
Tone Curve : 0, 0, 32, 22, 64, 56, 128, 128, 192, 196, 255, 255
Tone Curve Name : Medium Contrast
Version : 6.1
Vignette Amount : 0
Image Width : 300
Image Height : 146
Bits Per Sample : 8
Color Components : 1
Aperture : 5.7
Blue Balance : 0.721699
Image Size : 300x146
Lens ID : Elmarit-M 21mm f/2.8
Megapixels : 0.044
Red Balance : 0.48023
Scale Factor To 35 mm Equivalent : 1.0
Shutter Speed : 1/1000
Flash : No Flash
Circle Of Confusion : 0.030 mm
Field Of View : 81.2 deg
Focal Length : 21.0 mm (35 mm equivalent: 21.0 mm)
Hyperfocal Distance : 2.57 m
Light Value : 14.3