Uber Exif Photo
Keywords : m9
Sub-location : La Palma
Copyright Notice : Dierk Topp
Copyright Flag : True
URL : www.lapalmagaleria.info
Make : Leica Camera AG
Camera Model Name : M9 Digital Camera
Software : 1.002; post-processed by CornerFix 1.3.0.4
Modify Date : 2010:10:26 22:05:23
Copyright : Dierk Topp
Exposure Time : 1/1400
F Number : 6.7
Exposure Program : Aperture-priority AE
ISO : 160
Date/Time Original : 2010:01:15 11:51:11
Create Date : 2010:01:15 11:51:11
Shutter Speed Value : 1/1400
Aperture Value : 6.7
Exposure Compensation : 0
Max Aperture Value : 2.8
Metering Mode : Center-weighted average
Light Source : Unknown
Focal Length : 21.0 mm
Contrast : Normal
Sharpening : Normal
Saturation : Normal
JPEG Quality : Fine
White Balance : Auto
WB RGB Levels : 0.4680206816 1 0.7421970555
User Profile : Z21
Serial Number : *******
Firmware Version : 1.002
Base ISO : 160
Sensor Width : 5270
Sensor Height : 3516
Sensor Bit Depth : 14
Camera Temperature : 20 C
Lens Type : Elmarit-M 21mm f/2.8
Approximate F Number : 5.5
Measured LV : 6.34
External Sensor Brightness Value : 6.59
Color Space : Uncalibrated
Scene Type : Directly photographed
Exposure Mode : Manual
Digital Zoom Ratio : 0
Focal Length In 35mm Format : 21 mm
Scene Capture Type : Standard
Maker Note Safety : Safe
Profile Description : sRGB IEC61966-2.1
Location : La Palma
Lens : Elmarit-M 21mm f/2.8
Rights : Dierk Topp
Subject : m9
Date/Time Digitized : 2010:01:15 11:51:11Z
Flash Fired : False
Flash Function : False
Flash Mode : Unknown
Flash Red Eye Mode : False
Flash Return : No return detection
Exif Image Width : 1500
Exif Image Height : 998
Sharpness : Hard
Creator Tool : Adobe Photoshop Lightroom
Marked : True
Web Statement : www.lapalmagaleria.info
Already Applied : True
Blue Hue : 0
Blue Saturation : 0
Brightness : +82
Camera Profile : Adobe Standard
Chromatic Aberration B : 0
Chromatic Aberration R : 0
Clarity : +24
Color Noise Reduction : 25
Convert To Grayscale : True
Defringe : 0
Exposure : 0.00
Fill Light : 17
Gray Mixer Aqua : -33
Gray Mixer Blue : -32
Gray Mixer Green : +48
Gray Mixer Magenta : +3
Gray Mixer Orange : +29
Gray Mixer Purple : +14
Gray Mixer Red : -2
Gray Mixer Yellow : +21
Green Hue : 0
Green Saturation : 0
Has Crop : False
Has Settings : True
Highlight Recovery : 5
Luminance Smoothing : 0
Parametric Darks : 0
Parametric Highlight Split : 75
Parametric Highlights : 0
Parametric Lights : 0
Parametric Midtone Split : 50
Parametric Shadow Split : 25
Parametric Shadows : +44
Post Crop Vignette Amount : 0
Red Hue : 0
Red Saturation : 0
Shadow Tint : 0
Shadows : 3
Sharpen Detail : 50
Sharpen Edge Masking : 0
Sharpen Radius : +0.8
Split Toning Balance : 0
Split Toning Highlight Hue : 39
Split Toning Highlight Saturation : 0
Split Toning Shadow Hue : 43
Split Toning Shadow Saturation : 17
Color Temperature : 4650
Tint : +4
Tone Curve : 0, 0, 32, 22, 64, 56, 128, 128, 192, 196, 255, 255
Tone Curve Name : Medium Contrast
Version : 6.1
Vignette Amount : 0
Image Width : 300
Image Height : 205
Bits Per Sample : 8
Color Components : 3
Aperture : 6.7
Blue Balance : 0.742197
Image Size : 300x205
Lens ID : Elmarit-M 21mm f/2.8
Megapixels : 0.061
Red Balance : 0.468021
Scale Factor To 35 mm Equivalent : 1.0
Shutter Speed : 1/1400
Flash : No Flash
Circle Of Confusion : 0.030 mm
Field Of View : 81.2 deg
Focal Length : 21.0 mm (35 mm equivalent: 21.0 mm)
Hyperfocal Distance : 2.19 m
Light Value : 15.3