Uber Exif Photo
Keywords : s-h-dr
Copyright Notice : dierk topp
Copyright Flag : True
Make : Leica Camera AG
Camera Model Name : M9 Digital Camera
Software : 1.116
Modify Date : 2010:10:26 21:20:16
Copyright : dierk topp
Exposure Time : 1/8
F Number : 4.8
Exposure Program : Aperture-priority AE
ISO : 160
Date/Time Original : 2010:08:10 12:07:16
Create Date : 2010:08:10 12:07:16
Shutter Speed Value : 1/8
Aperture Value : 4.8
Exposure Compensation : +0.332
Max Aperture Value : 3.8
Metering Mode : Center-weighted average
Light Source : Unknown
Focal Length : 18.0 mm
Contrast : Normal
Sharpening : Normal
Saturation : Normal
JPEG Quality : Fine
White Balance : Auto
WB RGB Levels : 0.5202756343 1 0.6652860681
User Profile : Z21
JPEG Size : 5216x3472
Serial Number : 3834236
Firmware Version : 1.116
Base ISO : 160
Sensor Width : 5270
Sensor Height : 3516
Sensor Bit Depth : 14
Camera Temperature : 29 C
Lens Type : Apo-Telyt-M 18mm f/3.8 ASPH.
Approximate F Number : 4.5
Measured LV : 1.90
External Sensor Brightness Value : 1.47
Color Space : Uncalibrated
Scene Type : Directly photographed
Exposure Mode : Manual
Digital Zoom Ratio : 0
Focal Length In 35mm Format : 18 mm
Scene Capture Type : Standard
Maker Note Safety : Safe
Profile Description : sRGB IEC61966-2.1
Lens : Super-Elmar-M 18mm f/3.8 ASPH.
Rights : dierk topp
Subject : s-h-dr
Date/Time Digitized : 2010:08:10 12:07:16+01:00
Flash Fired : False
Flash Function : False
Flash Mode : Unknown
Flash Red Eye Mode : False
Flash Return : No return detection
Exif Image Width : 1500
Exif Image Height : 998
Sharpness : Hard
Property Release Status : Unknown (nil)
PLUS Version : 1.2.0
Creator Tool : Adobe Photoshop Lightroom
Marked : True
Already Applied : True
Blue Hue : 0
Blue Saturation : 0
Brightness : +22
Camera Profile : Adobe Standard
Chromatic Aberration B : 0
Chromatic Aberration R : 0
Clarity : +23
Color Noise Reduction : 25
Convert To Grayscale : True
Crop Angle : 0
Crop Bottom : 0.98203
Crop Height : 998
Crop Left : 0.046121
Crop Right : 0.953879
Crop Top : 0.074272
Crop Unit : pixels
Crop Width : 1500
Defringe : 0
Exposure : +0.90
Fill Light : 24
Gray Mixer Aqua : -20
Gray Mixer Blue : +4
Gray Mixer Green : -22
Gray Mixer Magenta : +5
Gray Mixer Orange : -11
Gray Mixer Purple : +12
Gray Mixer Red : -3
Gray Mixer Yellow : -14
Green Hue : 0
Green Saturation : 0
Has Crop : True
Has Settings : True
Highlight Recovery : 0
Luminance Smoothing : 0
Parametric Darks : -33
Parametric Highlight Split : 75
Parametric Highlights : +3
Parametric Lights : -26
Parametric Midtone Split : 50
Parametric Shadow Split : 25
Parametric Shadows : +30
Post Crop Vignette Amount : -33
Post Crop Vignette Feather : 50
Post Crop Vignette Midpoint : 50
Post Crop Vignette Roundness : 0
Red Hue : 0
Red Saturation : 0
Shadow Tint : 0
Shadows : 6
Sharpen Detail : 25
Sharpen Edge Masking : 0
Sharpen Radius : +1.0
Split Toning Balance : 0
Split Toning Highlight Hue : 40
Split Toning Highlight Saturation : 14
Split Toning Shadow Hue : 59
Split Toning Shadow Saturation : 26
Color Temperature : 3850
Tint : 0
Tone Curve : 0, 0, 32, 22, 64, 56, 128, 128, 192, 196, 255, 255
Tone Curve Name : Medium Contrast
Version : 6.1
Vignette Amount : 0
Image Width : 300
Image Height : 205
Bits Per Sample : 8
Color Components : 3
Aperture : 4.8
Blue Balance : 0.665286
Image Size : 300x205
Lens ID : Apo-Telyt-M 18mm f/3.8 ASPH.
Megapixels : 0.061
Red Balance : 0.520276
Scale Factor To 35 mm Equivalent : 1.0
Shutter Speed : 1/8
Flash : No Flash
Circle Of Confusion : 0.030 mm
Field Of View : 90.0 deg
Focal Length : 18.0 mm (35 mm equivalent: 18.0 mm)
Hyperfocal Distance : 2.25 m
Light Value : 6.8