Uber Exif Photo
Keywords : küche
Sub-location : La Palma
Copyright Notice : Dierk Topp
Copyright Flag : True
URL : www.lapalmagaleria.info
Make : Leica Camera AG
Camera Model Name : M9 Digital Camera
Software : 1.116
Modify Date : 2010:10:24 14:30:32
Copyright : Dierk Topp
Exposure Time : 1/750
F Number : 8.0
Exposure Program : Aperture-priority AE
ISO : 160
Date/Time Original : 2010:03:27 11:33:45
Create Date : 2010:03:27 11:33:45
Shutter Speed Value : 1/750
Aperture Value : 8.0
Exposure Compensation : 0
Max Aperture Value : 4.0
Metering Mode : Center-weighted average
Light Source : Unknown
Focal Length : 90.0 mm
Contrast : Normal
Sharpening : Normal
Saturation : Normal
JPEG Quality : Fine
White Balance : Auto
WB RGB Levels : 0.4602117918 1 0.7251161761
User Profile : CV35
JPEG Size : 5216x3472
Serial Number : 3834236
Firmware Version : 1.116
Base ISO : 160
Sensor Width : 5270
Sensor Height : 3516
Sensor Bit Depth : 14
Camera Temperature : 18 C
Lens Type : Macro-Elmar-M 90mm f/4
Approximate F Number : 6.0
Measured LV : 5.63
External Sensor Brightness Value : 6.33
Color Space : Uncalibrated
Scene Type : Directly photographed
Exposure Mode : Auto bracket
Digital Zoom Ratio : 0
Focal Length In 35mm Format : 90 mm
Scene Capture Type : Standard
Maker Note Safety : Safe
Location : La Palma
Lens : Leica Macro-Elmar-M 90mm f/4
Rights : Dierk Topp
Subject : küche
Date/Time Digitized : 2010:03:27 11:33:45Z
Flash Fired : False
Flash Function : False
Flash Mode : Unknown
Flash Red Eye Mode : False
Flash Return : No return detection
Exif Image Width : 1100
Exif Image Height : 747
Sharpness : Hard
Creator Tool : Adobe Photoshop Lightroom
Rating : 5
Marked : True
Web Statement : www.lapalmagaleria.info
Already Applied : True
Blue Hue : 0
Blue Saturation : 0
Brightness : +4
Camera Profile : Adobe Standard
Chromatic Aberration B : 0
Chromatic Aberration R : 0
Clarity : 0
Color Noise Reduction : 25
Convert To Grayscale : True
Crop Angle : 0.21409
Crop Bottom : 0.999775
Crop Height : 747
Crop Left : 0.052531
Crop Right : 0.955761
Crop Top : 0.070226
Crop Unit : pixels
Crop Width : 1100
Defringe : 0
Exposure : +0.85
Fill Light : 37
Gray Mixer Aqua : 0
Gray Mixer Blue : -44
Gray Mixer Green : 0
Gray Mixer Magenta : 0
Gray Mixer Orange : 0
Gray Mixer Purple : -13
Gray Mixer Red : 0
Gray Mixer Yellow : 0
Green Hue : 0
Green Saturation : 0
Has Crop : True
Has Settings : True
Highlight Recovery : 0
Luminance Smoothing : 0
Parametric Darks : 0
Parametric Highlight Split : 75
Parametric Highlights : 0
Parametric Lights : 0
Parametric Midtone Split : 50
Parametric Shadow Split : 25
Parametric Shadows : -11
Post Crop Vignette Amount : 0
Red Hue : 0
Red Saturation : 0
Shadow Tint : 0
Shadows : 14
Sharpen Detail : 50
Sharpen Edge Masking : 0
Sharpen Radius : +0.8
Split Toning Balance : 0
Split Toning Highlight Hue : 0
Split Toning Highlight Saturation : 0
Split Toning Shadow Hue : 0
Split Toning Shadow Saturation : 0
Color Temperature : 4650
Tint : +12
Tone Curve : 0, 0, 32, 22, 64, 56, 128, 128, 192, 196, 255, 255
Tone Curve Name : Medium Contrast
Version : 6.1
Vignette Amount : 0
Image Width : 300
Image Height : 210
Bits Per Sample : 8
Color Components : 1
Aperture : 8.0
Blue Balance : 0.725116
Image Size : 300x210
Lens ID : Macro-Elmar-M 90mm f/4
Megapixels : 0.063
Red Balance : 0.460212
Scale Factor To 35 mm Equivalent : 1.0
Shutter Speed : 1/750
Flash : No Flash
Circle Of Confusion : 0.030 mm
Field Of View : 22.6 deg
Focal Length : 90.0 mm (35 mm equivalent: 90.0 mm)
Hyperfocal Distance : 33.70 m
Light Value : 14.9