Uber Exif Photo
Sub-location : La Palma
Copyright Notice : Dierk Topp
Copyright Flag : True
URL : www.lapalmagaleria.info
Make : Leica Camera AG
Camera Model Name : M9 Digital Camera
Software : 1.116
Modify Date : 2010:10:23 21:56:23
Copyright : Dierk Topp
Exposure Time : 1/180
F Number : 9.5
Exposure Program : Manual
ISO : 160
Date/Time Original : 2010:03:24 15:54:42
Create Date : 2010:03:24 15:54:42
Shutter Speed Value : 1/180
Aperture Value : 9.5
Exposure Compensation : -0.332
Max Aperture Value : 4.0
Metering Mode : Center-weighted average
Light Source : Unknown
Focal Length : 90.0 mm
Contrast : Normal
Sharpening : Normal
Saturation : Normal
JPEG Quality : Fine
White Balance : Auto
WB RGB Levels : 0.4419031179 1 0.7815302423
User Profile : CV35
JPEG Size : 5216x3472
Serial Number : 3834236
Firmware Version : 1.116
Base ISO : 160
Sensor Width : 5270
Sensor Height : 3516
Sensor Bit Depth : 14
Camera Temperature : 26 C
Lens Type : Macro-Elmar-M 90mm f/4
Approximate F Number : 6.5
Measured LV : 4.04
External Sensor Brightness Value : 4.91
Color Space : Uncalibrated
Scene Type : Directly photographed
Exposure Mode : Manual
Digital Zoom Ratio : 0
Focal Length In 35mm Format : 90 mm
Scene Capture Type : Standard
Maker Note Safety : Safe
Location : La Palma
Lens : Leica Macro-Elmar-M 90mm f/4
Rights : Dierk Topp
Date/Time Digitized : 2010:03:24 15:54:42Z
Flash Fired : False
Flash Function : False
Flash Mode : Unknown
Flash Red Eye Mode : False
Flash Return : No return detection
Exif Image Width : 572
Exif Image Height : 800
Sharpness : Hard
Creator Tool : Adobe Photoshop Lightroom
Marked : True
Web Statement : www.lapalmagaleria.info
Already Applied : True
Blue Hue : 0
Blue Saturation : 0
Brightness : +79
Camera Profile : Adobe Standard
Chromatic Aberration B : 0
Chromatic Aberration R : 0
Clarity : +81
Color Noise Reduction : 25
Convert To Grayscale : True
Crop Angle : 0
Crop Bottom : 1
Crop Height : 572
Crop Left : 0.049703
Crop Right : 0.980899
Crop Top : 0
Crop Unit : pixels
Crop Width : 800
Defringe : 0
Exposure : +0.85
Fill Light : 0
Gray Mixer Aqua : 0
Gray Mixer Blue : 0
Gray Mixer Green : -43
Gray Mixer Magenta : 0
Gray Mixer Orange : +7
Gray Mixer Purple : 0
Gray Mixer Red : +2
Gray Mixer Yellow : -12
Green Hue : 0
Green Saturation : 0
Has Crop : True
Has Settings : True
Highlight Recovery : 0
Luminance Smoothing : 0
Parametric Darks : -24
Parametric Highlight Split : 75
Parametric Highlights : +29
Parametric Lights : -29
Parametric Midtone Split : 50
Parametric Shadow Split : 25
Parametric Shadows : 0
Post Crop Vignette Amount : -100
Post Crop Vignette Feather : 85
Post Crop Vignette Midpoint : 50
Post Crop Vignette Roundness : +83
Red Hue : 0
Red Saturation : 0
Shadow Tint : 0
Shadows : 14
Sharpen Detail : 50
Sharpen Edge Masking : 0
Sharpen Radius : +0.8
Split Toning Balance : 0
Split Toning Highlight Hue : 0
Split Toning Highlight Saturation : 0
Split Toning Shadow Hue : 0
Split Toning Shadow Saturation : 0
Color Temperature : 5150
Tint : +8
Tone Curve : 0, 0, 32, 22, 64, 56, 128, 128, 192, 196, 255, 255
Tone Curve Name : Medium Contrast
Version : 6.1
Vignette Amount : 0
Image Width : 222
Image Height : 300
Bits Per Sample : 8
Color Components : 1
Aperture : 9.5
Blue Balance : 0.78153
Image Size : 222x300
Lens ID : Macro-Elmar-M 90mm f/4
Megapixels : 0.067
Red Balance : 0.441903
Scale Factor To 35 mm Equivalent : 1.0
Shutter Speed : 1/180
Flash : No Flash
Circle Of Confusion : 0.030 mm
Field Of View : 22.6 deg
Focal Length : 90.0 mm (35 mm equivalent: 90.0 mm)
Hyperfocal Distance : 28.38 m
Light Value : 13.3