Uber Exif Photo
Keywords : m9 test
Sub-location : La Palma
Copyright Notice : Dierk Topp
Copyright Flag : True
URL : www.lapalmagaleria.info
Make : Leica Camera AG
Camera Model Name : M9 Digital Camera
Software : 1.002
Modify Date : 2010:10:23 21:56:07
Copyright : Dierk Topp
Exposure Time : 1/90
F Number : 8.0
Exposure Program : Aperture-priority AE
ISO : 400
Date/Time Original : 2009:12:24 12:30:55
Create Date : 2009:12:24 12:30:55
Shutter Speed Value : 1/90
Aperture Value : 8.0
Exposure Compensation : 0
Max Aperture Value : 4.0
Metering Mode : Center-weighted average
Light Source : Unknown
Focal Length : 90.0 mm
Contrast : Normal
Sharpening : Normal
Saturation : Normal
JPEG Quality : Fine
White Balance : Auto
WB RGB Levels : 0.4480052501 1 0.784937479
User Profile : Auto
Serial Number : *******
Firmware Version : 1.002
Base ISO : 160
Sensor Width : 5270
Sensor Height : 3516
Sensor Bit Depth : 14
Camera Temperature : 20 C
Lens Type : Macro-Elmar-M 90mm f/4
Approximate F Number : 6.0
Measured LV : 3.03
External Sensor Brightness Value : 3.60
Color Space : Uncalibrated
Scene Type : Directly photographed
Exposure Mode : Manual
Digital Zoom Ratio : 0
Focal Length In 35mm Format : 90 mm
Scene Capture Type : Standard
Maker Note Safety : Safe
Location : La Palma
Lens : Leica Macro-Elmar-M 90mm f/4
Rights : Dierk Topp
Subject : m9 test
Date/Time Digitized : 2009:12:24 12:30:55Z
Flash Fired : False
Flash Function : False
Flash Mode : Unknown
Flash Red Eye Mode : False
Flash Return : No return detection
Exif Image Width : 642
Exif Image Height : 800
Sharpness : Hard
Creator Tool : Adobe Photoshop Lightroom
Marked : True
Web Statement : www.lapalmagaleria.info
Already Applied : True
Blue Hue : 0
Blue Saturation : 0
Brightness : +29
Camera Profile : Adobe Standard
Chromatic Aberration B : 0
Chromatic Aberration R : +14
Clarity : +24
Color Noise Reduction : 25
Convert To Grayscale : True
Crop Angle : 0
Crop Bottom : 1
Crop Height : 642
Crop Left : 0
Crop Right : 0.829586
Crop Top : 0
Crop Unit : pixels
Crop Width : 800
Defringe : 0
Exposure : +0.60
Fill Light : 11
Gray Mixer Aqua : -17
Gray Mixer Blue : +7
Gray Mixer Green : -33
Gray Mixer Magenta : +2
Gray Mixer Orange : -16
Gray Mixer Purple : +12
Gray Mixer Red : -9
Gray Mixer Yellow : +24
Green Hue : 0
Green Saturation : 0
Has Crop : True
Has Settings : True
Highlight Recovery : 0
Luminance Smoothing : 0
Parametric Darks : 0
Parametric Highlight Split : 75
Parametric Highlights : 0
Parametric Lights : 0
Parametric Midtone Split : 50
Parametric Shadow Split : 25
Parametric Shadows : 0
Post Crop Vignette Amount : -14
Post Crop Vignette Feather : 50
Post Crop Vignette Midpoint : 50
Post Crop Vignette Roundness : 0
Red Hue : 0
Red Saturation : 0
Shadow Tint : 0
Shadows : 25
Sharpen Detail : 58
Sharpen Edge Masking : 60
Sharpen Radius : +1.0
Split Toning Balance : 0
Split Toning Highlight Hue : 0
Split Toning Highlight Saturation : 0
Split Toning Shadow Hue : 0
Split Toning Shadow Saturation : 0
Color Temperature : 5100
Tint : +4
Tone Curve : 0, 0, 32, 22, 64, 56, 128, 128, 192, 196, 255, 255
Tone Curve Name : Medium Contrast
Version : 6.1
Vignette Amount : 0
Image Width : 246
Image Height : 300
Bits Per Sample : 8
Color Components : 1
Aperture : 8.0
Blue Balance : 0.784937
Image Size : 246x300
Lens ID : Macro-Elmar-M 90mm f/4
Megapixels : 0.074
Red Balance : 0.448005
Scale Factor To 35 mm Equivalent : 1.0
Shutter Speed : 1/90
Flash : No Flash
Circle Of Confusion : 0.030 mm
Field Of View : 22.6 deg
Focal Length : 90.0 mm (35 mm equivalent: 90.0 mm)
Hyperfocal Distance : 33.70 m
Light Value : 10.5