Uber Exif Photo
Keywords : m9 test
Sub-location : La Palma
Copyright Notice : Dierk Topp
Copyright Flag : True
URL : www.lapalmagaleria.info
Make : Leica Camera AG
Camera Model Name : M9 Digital Camera
Software : 1.002
Modify Date : 2010:10:23 21:52:25
Copyright : Dierk Topp
Exposure Time : 1/125
F Number : 9.5
Exposure Program : Aperture-priority AE
ISO : 800
Date/Time Original : 2009:12:26 15:40:57
Create Date : 2009:12:26 15:40:57
Shutter Speed Value : 1/125
Aperture Value : 9.5
Exposure Compensation : 0
Max Aperture Value : 4.0
Metering Mode : Center-weighted average
Light Source : Unknown
Focal Length : 90.0 mm
Contrast : Normal
Sharpening : Normal
Saturation : Normal
JPEG Quality : Fine
White Balance : Auto
WB RGB Levels : 0.4433620176 1 0.7951854009
User Profile : Auto
Serial Number : *******
Firmware Version : 1.002
Base ISO : 160
Sensor Width : 5270
Sensor Height : 3516
Sensor Bit Depth : 14
Camera Temperature : 22 C
Lens Type : Macro-Elmar-M 90mm f/4
Approximate F Number : 6.5
Measured LV : 2.48
External Sensor Brightness Value : 3.34
Color Space : Uncalibrated
Scene Type : Directly photographed
Exposure Mode : Manual
Digital Zoom Ratio : 0
Focal Length In 35mm Format : 90 mm
Scene Capture Type : Standard
Maker Note Safety : Safe
Location : La Palma
Lens : Leica Macro-Elmar-M 90mm f/4
Rights : Dierk Topp
Subject : m9 test
Date/Time Digitized : 2009:12:26 15:40:57Z
Flash Fired : False
Flash Function : False
Flash Mode : Unknown
Flash Red Eye Mode : False
Flash Return : No return detection
Exif Image Width : 574
Exif Image Height : 800
Sharpness : Hard
Creator Tool : Adobe Photoshop Lightroom
Rating : 4
Marked : True
Web Statement : www.lapalmagaleria.info
Already Applied : True
Blue Hue : 0
Blue Saturation : 0
Brightness : +64
Camera Profile : Adobe Standard
Chromatic Aberration B : 0
Chromatic Aberration R : 0
Clarity : +24
Color Noise Reduction : 25
Convert To Grayscale : True
Crop Angle : 0
Crop Bottom : 1
Crop Height : 574
Crop Left : 0.033136
Crop Right : 0.959763
Crop Top : 0
Crop Unit : pixels
Crop Width : 800
Defringe : 0
Exposure : 0.00
Fill Light : 10
Gray Mixer Aqua : +45
Gray Mixer Blue : +38
Gray Mixer Green : -25
Gray Mixer Magenta : +5
Gray Mixer Orange : +33
Gray Mixer Purple : +15
Gray Mixer Red : +10
Gray Mixer Yellow : +7
Green Hue : 0
Green Saturation : 0
Has Crop : True
Has Settings : True
Highlight Recovery : 16
Luminance Smoothing : 0
Parametric Darks : +22
Parametric Highlight Split : 75
Parametric Highlights : 0
Parametric Lights : 0
Parametric Midtone Split : 50
Parametric Shadow Split : 25
Parametric Shadows : -11
Post Crop Vignette Amount : -36
Post Crop Vignette Feather : 50
Post Crop Vignette Midpoint : 50
Post Crop Vignette Roundness : 0
Red Hue : 0
Red Saturation : 0
Shadow Tint : 0
Shadows : 7
Sharpen Detail : 45
Sharpen Edge Masking : 64
Sharpen Radius : +1.0
Split Toning Balance : 0
Split Toning Highlight Hue : 0
Split Toning Highlight Saturation : 0
Split Toning Shadow Hue : 0
Split Toning Shadow Saturation : 0
Color Temperature : 5200
Tint : +5
Tone Curve : 0, 0, 32, 22, 64, 56, 128, 128, 192, 196, 255, 255
Tone Curve Name : Medium Contrast
Version : 6.1
Vignette Amount : 0
Image Width : 223
Image Height : 300
Bits Per Sample : 8
Color Components : 1
Aperture : 9.5
Blue Balance : 0.795185
Image Size : 223x300
Lens ID : Macro-Elmar-M 90mm f/4
Megapixels : 0.067
Red Balance : 0.443362
Scale Factor To 35 mm Equivalent : 1.0
Shutter Speed : 1/125
Flash : No Flash
Circle Of Confusion : 0.030 mm
Field Of View : 22.6 deg
Focal Length : 90.0 mm (35 mm equivalent: 90.0 mm)
Hyperfocal Distance : 28.38 m
Light Value : 10.5