Uber Exif Photo
Make : Leica Camera AG
Camera Model Name : M9 Digital Camera
Software : 1.116
Modify Date : 2010:10:23 19:07:26
Exposure Time : 1/250
F Number : 6.7
Exposure Program : Manual
ISO : 160
Date/Time Original : 2010:04:04 11:45:18
Create Date : 2010:04:04 11:45:18
Shutter Speed Value : 1/250
Aperture Value : 6.7
Exposure Compensation : 0
Max Aperture Value : 4.0
Metering Mode : Center-weighted average
Light Source : Unknown
Focal Length : 90.0 mm
Contrast : Normal
Sharpening : Normal
Saturation : Normal
JPEG Quality : Fine
White Balance : Auto
WB RGB Levels : 0.432626548 1 0.7695631752
User Profile : Portrait
JPEG Size : 5216x3472
Serial Number : 3834236
Firmware Version : 1.116
Base ISO : 160
Sensor Width : 5270
Sensor Height : 3516
Sensor Bit Depth : 14
Camera Temperature : 19 C
Lens Type : Macro-Elmar-M 90mm f/4
Approximate F Number : 5.5
Measured LV : 5.08
External Sensor Brightness Value : 5.31
Color Space : Uncalibrated
Scene Type : Directly photographed
Exposure Mode : Manual
Digital Zoom Ratio : 0
Focal Length In 35mm Format : 90 mm
Scene Capture Type : Standard
Maker Note Safety : Safe
Profile Description : sRGB IEC61966-2.1
Lens : Leica Macro-Elmar-M 90mm f/4
Date/Time Digitized : 2010:04:04 11:45:18+01:00
Flash Fired : False
Flash Function : False
Flash Mode : Unknown
Flash Red Eye Mode : False
Flash Return : No return detection
Exif Image Width : 741
Exif Image Height : 800
Sharpness : Hard
Creator Tool : Adobe Photoshop Lightroom
Rating : 5
Already Applied : True
Blue Hue : 0
Blue Saturation : 0
Brightness : +45
Camera Profile : Embedded
Chromatic Aberration B : 0
Chromatic Aberration R : 0
Clarity : +46
Color Noise Reduction : 25
Convert To Grayscale : False
Crop Angle : 0
Crop Bottom : 1
Crop Height : 741
Crop Left : 0.259615
Crop Right : 0.978365
Crop Top : 0
Crop Unit : pixels
Crop Width : 800
Defringe : 0
Exposure : 0.00
Fill Light : 0
Green Hue : 0
Green Saturation : 0
Has Crop : True
Has Settings : True
Highlight Recovery : 4
Hue Adjustment Aqua : 0
Hue Adjustment Blue : 0
Hue Adjustment Green : 0
Hue Adjustment Magenta : 0
Hue Adjustment Orange : 0
Hue Adjustment Purple : 0
Hue Adjustment Red : 0
Hue Adjustment Yellow : 0
Luminance Adjustment Aqua : 0
Luminance Adjustment Blue : 0
Luminance Adjustment Green : -39
Luminance Adjustment Magenta : 0
Luminance Adjustment Orange : +18
Luminance Adjustment Purple : 0
Luminance Adjustment Red : -11
Luminance Adjustment Yellow : 0
Luminance Smoothing : 0
Parametric Darks : 0
Parametric Highlight Split : 75
Parametric Highlights : 0
Parametric Lights : 0
Parametric Midtone Split : 50
Parametric Shadow Split : 25
Parametric Shadows : 0
Post Crop Vignette Amount : -34
Post Crop Vignette Feather : 50
Post Crop Vignette Midpoint : 50
Post Crop Vignette Roundness : 0
Red Hue : 0
Red Saturation : 0
Saturation Adjustment Aqua : 0
Saturation Adjustment Blue : 0
Saturation Adjustment Green : 0
Saturation Adjustment Magenta : 0
Saturation Adjustment Orange : 0
Saturation Adjustment Purple : 0
Saturation Adjustment Red : 0
Saturation Adjustment Yellow : 0
Shadow Tint : 0
Shadows : 20
Sharpen Detail : 46
Sharpen Edge Masking : 48
Sharpen Radius : +1.2
Split Toning Balance : 0
Split Toning Highlight Hue : 0
Split Toning Highlight Saturation : 0
Split Toning Shadow Hue : 0
Split Toning Shadow Saturation : 0
Color Temperature : 6100
Tint : +30
Tone Curve : 0, 0, 32, 22, 64, 56, 128, 128, 192, 196, 255, 255
Tone Curve Name : Medium Contrast
Version : 6.1
Vibrance : 0
Vignette Amount : 0
Image Width : 280
Image Height : 300
Bits Per Sample : 8
Color Components : 3
Aperture : 6.7
Blue Balance : 0.769563
Image Size : 280x300
Lens ID : Macro-Elmar-M 90mm f/4
Megapixels : 0.084
Red Balance : 0.432627
Scale Factor To 35 mm Equivalent : 1.0
Shutter Speed : 1/250
Flash : No Flash
Circle Of Confusion : 0.030 mm
Field Of View : 22.6 deg
Focal Length : 90.0 mm (35 mm equivalent: 90.0 mm)
Hyperfocal Distance : 40.24 m
Light Value : 12.8