Uber Exif Photo
Make : Leica Camera AG
Camera Model Name : M9 Digital Camera
Software : 1.116
Modify Date : 2010:10:23 19:06:30
Exposure Time : 1/250
F Number : 8.0
Exposure Program : Manual
ISO : 250
Date/Time Original : 2010:04:10 14:59:10
Create Date : 2010:04:10 14:59:10
Shutter Speed Value : 1/250
Aperture Value : 8.0
Exposure Compensation : 0
Max Aperture Value : 4.0
Metering Mode : Center-weighted average
Light Source : Unknown
Focal Length : 90.0 mm
Contrast : Normal
Sharpening : Normal
Saturation : Normal
JPEG Quality : Fine
White Balance : Auto
WB RGB Levels : 0.4480052501 1 0.7661444938
User Profile : CV35
JPEG Size : 5216x3472
Serial Number : 3834236
Firmware Version : 1.116
Base ISO : 160
Sensor Width : 5270
Sensor Height : 3516
Sensor Bit Depth : 14
Camera Temperature : 19 C
Lens Type : Macro-Elmar-M 90mm f/4
Approximate F Number : 6.0
Measured LV : 4.10
External Sensor Brightness Value : 4.85
Color Space : Uncalibrated
Scene Type : Directly photographed
Exposure Mode : Manual
Digital Zoom Ratio : 0
Focal Length In 35mm Format : 90 mm
Scene Capture Type : Standard
Maker Note Safety : Safe
Lens : Leica Macro-Elmar-M 90mm f/4
Date/Time Digitized : 2010:04:10 14:59:10+01:00
Flash Fired : False
Flash Function : False
Flash Mode : Unknown
Flash Red Eye Mode : False
Flash Return : No return detection
Exif Image Width : 1100
Exif Image Height : 663
Sharpness : Hard
Creator Tool : Adobe Photoshop Lightroom
Rating : 4
Already Applied : True
Blue Hue : 0
Blue Saturation : 0
Brightness : +103
Camera Profile : Adobe Standard
Chromatic Aberration B : 0
Chromatic Aberration R : 0
Clarity : +34
Color Noise Reduction : 25
Convert To Grayscale : True
Crop Angle : 0
Crop Bottom : 1
Crop Height : 663
Crop Left : 0
Crop Right : 0.988852
Crop Top : 0.103853
Crop Unit : pixels
Crop Width : 1100
Defringe : 0
Exposure : 0.00
Fill Light : 0
Gray Mixer Aqua : -18
Gray Mixer Blue : +4
Gray Mixer Green : -33
Gray Mixer Magenta : +2
Gray Mixer Orange : -11
Gray Mixer Purple : +4
Gray Mixer Red : -5
Gray Mixer Yellow : -18
Green Hue : 0
Green Saturation : 0
Has Crop : True
Has Settings : True
Highlight Recovery : 11
Luminance Smoothing : 0
Parametric Darks : 0
Parametric Highlight Split : 75
Parametric Highlights : 0
Parametric Lights : 0
Parametric Midtone Split : 50
Parametric Shadow Split : 25
Parametric Shadows : 0
Post Crop Vignette Amount : -81
Post Crop Vignette Feather : 74
Post Crop Vignette Midpoint : 50
Post Crop Vignette Roundness : 0
Red Hue : 0
Red Saturation : 0
Shadow Tint : 0
Shadows : 9
Sharpen Detail : 47
Sharpen Edge Masking : 70
Sharpen Radius : +1.2
Split Toning Balance : 0
Split Toning Highlight Hue : 0
Split Toning Highlight Saturation : 0
Split Toning Shadow Hue : 0
Split Toning Shadow Saturation : 0
Color Temperature : 5000
Tint : +8
Tone Curve : 0, 0, 32, 22, 64, 56, 128, 128, 192, 196, 255, 255
Tone Curve Name : Medium Contrast
Version : 6.1
Vignette Amount : 0
Image Width : 300
Image Height : 189
Bits Per Sample : 8
Color Components : 1
Aperture : 8.0
Blue Balance : 0.766144
Image Size : 300x189
Lens ID : Macro-Elmar-M 90mm f/4
Megapixels : 0.057
Red Balance : 0.448005
Scale Factor To 35 mm Equivalent : 1.0
Shutter Speed : 1/250
Flash : No Flash
Circle Of Confusion : 0.030 mm
Field Of View : 22.6 deg
Focal Length : 90.0 mm (35 mm equivalent: 90.0 mm)
Hyperfocal Distance : 33.70 m
Light Value : 12.6