Uber Exif Photo
Sub-location : La Palma
Copyright Notice : Dierk Topp
Copyright Flag : True
URL : www.lapalmagaleria.info
Make : Leica Camera AG
Camera Model Name : M9 Digital Camera
Software : 1.116
Modify Date : 2010:10:23 19:06:04
Copyright : Dierk Topp
Exposure Time : 1/250
F Number : 9.5
Exposure Program : Manual
ISO : 500
Date/Time Original : 2010:03:28 14:55:48
Create Date : 2010:03:28 14:55:48
Shutter Speed Value : 1/250
Aperture Value : 9.5
Exposure Compensation : 0
Max Aperture Value : 4.0
Metering Mode : Center-weighted average
Light Source : Unknown
Focal Length : 90.0 mm
Contrast : Normal
Sharpening : Normal
Saturation : Normal
JPEG Quality : Fine
White Balance : Auto
WB RGB Levels : 0.4296879098 1 0.8840446771
User Profile : Portrait
JPEG Size : 5216x3472
Serial Number : 3834236
Firmware Version : 1.116
Base ISO : 160
Sensor Width : 5270
Sensor Height : 3516
Sensor Bit Depth : 14
Camera Temperature : 23 C
Lens Type : Macro-Elmar-M 90mm f/4
Approximate F Number : 6.5
Measured LV : 3.50
External Sensor Brightness Value : 4.38
Color Space : Uncalibrated
Scene Type : Directly photographed
Exposure Mode : Manual
Digital Zoom Ratio : 0
Focal Length In 35mm Format : 90 mm
Scene Capture Type : Standard
Maker Note Safety : Safe
Location : La Palma
Lens : Leica Macro-Elmar-M 90mm f/4
Rights : Dierk Topp
Date/Time Digitized : 2010:03:28 14:55:48+01:00
Flash Fired : False
Flash Function : False
Flash Mode : Unknown
Flash Red Eye Mode : False
Flash Return : No return detection
Exif Image Width : 1100
Exif Image Height : 769
Sharpness : Hard
Creator Tool : Adobe Photoshop Lightroom
Marked : True
Web Statement : www.lapalmagaleria.info
Already Applied : True
Blue Hue : 0
Blue Saturation : 0
Brightness : +36
Camera Profile : Adobe Standard
Chromatic Aberration B : 0
Chromatic Aberration R : 0
Clarity : +26
Color Noise Reduction : 25
Convert To Grayscale : True
Crop Angle : 0
Crop Bottom : 1
Crop Height : 769
Crop Left : 0.019048
Crop Right : 0.934392
Crop Top : 0.038156
Crop Unit : pixels
Crop Width : 1100
Defringe : 0
Exposure : 0.00
Fill Light : 0
Gray Mixer Aqua : 0
Gray Mixer Blue : 0
Gray Mixer Green : +2
Gray Mixer Magenta : 0
Gray Mixer Orange : -74
Gray Mixer Purple : 0
Gray Mixer Red : 0
Gray Mixer Yellow : +43
Green Hue : 0
Green Saturation : 0
Has Crop : True
Has Settings : True
Highlight Recovery : 8
Luminance Smoothing : 0
Parametric Darks : +10
Parametric Highlight Split : 75
Parametric Highlights : -19
Parametric Lights : -26
Parametric Midtone Split : 50
Parametric Shadow Split : 25
Parametric Shadows : 0
Post Crop Vignette Amount : -57
Post Crop Vignette Feather : 67
Post Crop Vignette Midpoint : 50
Post Crop Vignette Roundness : 0
Red Hue : 0
Red Saturation : 0
Shadow Tint : 0
Shadows : 38
Sharpen Detail : 42
Sharpen Edge Masking : 70
Sharpen Radius : +1.2
Split Toning Balance : 0
Split Toning Highlight Hue : 0
Split Toning Highlight Saturation : 0
Split Toning Shadow Hue : 0
Split Toning Shadow Saturation : 0
Color Temperature : 6881
Tint : -2
Tone Curve : 0, 0, 32, 22, 64, 56, 128, 128, 192, 196, 255, 255
Tone Curve Name : Medium Contrast
Version : 6.1
Vignette Amount : 0
Image Width : 300
Image Height : 216
Bits Per Sample : 8
Color Components : 1
Aperture : 9.5
Blue Balance : 0.884045
Image Size : 300x216
Lens ID : Macro-Elmar-M 90mm f/4
Megapixels : 0.065
Red Balance : 0.429688
Scale Factor To 35 mm Equivalent : 1.0
Shutter Speed : 1/250
Flash : No Flash
Circle Of Confusion : 0.030 mm
Field Of View : 22.6 deg
Focal Length : 90.0 mm (35 mm equivalent: 90.0 mm)
Hyperfocal Distance : 28.38 m
Light Value : 12.1