Uber Exif Photo
Copyright Notice : dierk topp
Copyright Flag : True
Make : Leica Camera AG
Camera Model Name : M9 Digital Camera
Software : 1.116
Modify Date : 2010:10:20 15:49:00
Copyright : dierk topp
Exposure Time : 1/750
F Number : 4.8
Exposure Program : Aperture-priority AE
ISO : 160
Date/Time Original : 2010:09:17 12:54:16
Create Date : 2010:09:17 12:54:16
Shutter Speed Value : 1/750
Aperture Value : 4.8
Exposure Compensation : 0
Max Aperture Value : 3.8
Metering Mode : Center-weighted average
Light Source : Unknown
Focal Length : 18.0 mm
Contrast : Normal
Sharpening : Normal
Saturation : Normal
JPEG Quality : Fine
White Balance : Auto
WB RGB Levels : 0.4494677933 1 0.7610200195
User Profile : Z21
JPEG Size : 5216x3472
Serial Number : 3834236
Firmware Version : 1.116
Base ISO : 160
Sensor Width : 5270
Sensor Height : 3516
Sensor Bit Depth : 14
Camera Temperature : 26 C
Lens Type : Apo-Telyt-M 18mm f/3.8 ASPH.
Approximate F Number : 4.5
Measured LV : 5.66
External Sensor Brightness Value : 5.40
Color Space : Uncalibrated
Scene Type : Directly photographed
Exposure Mode : Manual
Digital Zoom Ratio : 0
Focal Length In 35mm Format : 18 mm
Scene Capture Type : Standard
Maker Note Safety : Safe
Profile Description : sRGB IEC61966-2.1
Lens : Super-Elmar-M 18mm f/3.8 ASPH.
Rights : dierk topp
Date/Time Digitized : 2010:09:17 12:54:16+01:00
Flash Fired : False
Flash Function : False
Flash Mode : Unknown
Flash Red Eye Mode : False
Flash Return : No return detection
Exif Image Width : 1100
Exif Image Height : 659
Sharpness : Hard
Property Release Status : Unknown (nil)
PLUS Version : 1.2.0
Creator Tool : Adobe Photoshop Lightroom
Marked : True
Already Applied : True
Blue Hue : 0
Blue Saturation : 0
Brightness : +46
Camera Profile : Adobe Standard
Chromatic Aberration B : 0
Chromatic Aberration R : 0
Clarity : +38
Color Noise Reduction : 25
Convert To Grayscale : True
Crop Angle : 0
Crop Bottom : 0.960687
Crop Height : 659
Crop Left : 0.01084
Crop Right : 0.98916
Crop Top : 0.079399
Crop Unit : pixels
Crop Width : 1100
Defringe : 0
Exposure : 0.00
Fill Light : 7
Gray Mixer Aqua : -17
Gray Mixer Blue : +12
Gray Mixer Green : +32
Gray Mixer Magenta : +5
Gray Mixer Orange : -7
Gray Mixer Purple : +18
Gray Mixer Red : -10
Gray Mixer Yellow : +6
Green Hue : 0
Green Saturation : 0
Has Crop : True
Has Settings : True
Highlight Recovery : 0
Luminance Smoothing : 0
Parametric Darks : -41
Parametric Highlight Split : 75
Parametric Highlights : -15
Parametric Lights : +16
Parametric Midtone Split : 50
Parametric Shadow Split : 25
Parametric Shadows : +17
Post Crop Vignette Amount : -10
Post Crop Vignette Feather : 50
Post Crop Vignette Midpoint : 50
Post Crop Vignette Roundness : 0
Red Hue : 0
Red Saturation : 0
Shadow Tint : 0
Shadows : 12
Sharpen Detail : 38
Sharpen Edge Masking : 0
Sharpen Radius : +1.0
Split Toning Balance : 0
Split Toning Highlight Hue : 227
Split Toning Highlight Saturation : 0
Split Toning Shadow Hue : 213
Split Toning Shadow Saturation : 30
Color Temperature : 4950
Tint : +9
Tone Curve : 0, 0, 32, 22, 64, 56, 128, 128, 192, 196, 255, 255
Tone Curve Name : Medium Contrast
Version : 6.1
Vignette Amount : 0
Image Width : 300
Image Height : 188
Bits Per Sample : 8
Color Components : 3
Aperture : 4.8
Blue Balance : 0.76102
Image Size : 300x188
Lens ID : Apo-Telyt-M 18mm f/3.8 ASPH.
Megapixels : 0.056
Red Balance : 0.449468
Scale Factor To 35 mm Equivalent : 1.0
Shutter Speed : 1/750
Flash : No Flash
Circle Of Confusion : 0.030 mm
Field Of View : 90.0 deg
Focal Length : 18.0 mm (35 mm equivalent: 18.0 mm)
Hyperfocal Distance : 2.25 m
Light Value : 13.4