Uber Exif Photo
Copyright Notice : dierk topp
Copyright Flag : True
Make : Leica Camera AG
Camera Model Name : M9 Digital Camera
Software : 1.116
Modify Date : 2010:10:20 15:06:42
Copyright : dierk topp
Exposure Time : 1/500
F Number : 1.2
Exposure Program : Aperture-priority AE
ISO : 160
Date/Time Original : 2010:09:21 14:50:32
Create Date : 2010:09:21 14:50:32
Shutter Speed Value : 1/500
Aperture Value : 1.2
Exposure Compensation : -1
Max Aperture Value : 1.0
Metering Mode : Center-weighted average
Light Source : Unknown
Focal Length : 50.0 mm
Contrast : Normal
Sharpening : Normal
Saturation : Normal
JPEG Quality : Fine
White Balance : Auto
WB RGB Levels : 0.5263766626 1 0.6499266135
User Profile : Z21
JPEG Size : 5216x3472
Serial Number : 3834236
Firmware Version : 1.116
Base ISO : 160
Sensor Width : 5270
Sensor Height : 3516
Sensor Bit Depth : 14
Camera Temperature : 23 C
Lens Type : Noctilux-M 50mm f/0.95 ASPH.
Approximate F Number : 0.5
Measured LV : 4.81
External Sensor Brightness Value : 1.72
Color Space : Uncalibrated
Scene Type : Directly photographed
Exposure Mode : Manual
Digital Zoom Ratio : 0
Focal Length In 35mm Format : 50 mm
Scene Capture Type : Standard
Maker Note Safety : Safe
Lens : Noctilux-M 50mm f/0.95 ASPH.
Rights : dierk topp
Date/Time Digitized : 2010:09:21 14:50:32+01:00
Flash Fired : False
Flash Function : False
Flash Mode : Unknown
Flash Red Eye Mode : False
Flash Return : No return detection
Exif Image Width : 864
Exif Image Height : 800
Sharpness : Hard
Property Release Status : Unknown (nil)
PLUS Version : 1.2.0
Creator Tool : Adobe Photoshop Lightroom
Rating : 5
Marked : True
Already Applied : True
Blue Hue : 0
Blue Saturation : 0
Brightness : +59
Camera Profile : Adobe Standard
Chromatic Aberration B : 0
Chromatic Aberration R : 0
Clarity : 0
Color Noise Reduction : 25
Convert To Grayscale : True
Crop Angle : 0
Crop Bottom : 1
Crop Height : 800
Crop Left : 0.228539
Crop Right : 0.798216
Crop Top : 0.207706
Crop Unit : pixels
Crop Width : 864
Defringe : 0
Exposure : 0.00
Fill Light : 16
Gray Mixer Aqua : -19
Gray Mixer Blue : +7
Gray Mixer Green : -25
Gray Mixer Magenta : +5
Gray Mixer Orange : -10
Gray Mixer Purple : +14
Gray Mixer Red : +24
Gray Mixer Yellow : -19
Green Hue : 0
Green Saturation : 0
Has Crop : True
Has Settings : True
Highlight Recovery : 24
Luminance Smoothing : 0
Parametric Darks : -20
Parametric Highlight Split : 75
Parametric Highlights : -3
Parametric Lights : +10
Parametric Midtone Split : 50
Parametric Shadow Split : 25
Parametric Shadows : 0
Post Crop Vignette Amount : -48
Post Crop Vignette Feather : 66
Post Crop Vignette Midpoint : 50
Post Crop Vignette Roundness : 0
Red Hue : 0
Red Saturation : 0
Shadow Tint : 0
Shadows : 18
Sharpen Detail : 36
Sharpen Edge Masking : 0
Sharpen Radius : +1.0
Split Toning Balance : 0
Split Toning Highlight Hue : 0
Split Toning Highlight Saturation : 0
Split Toning Shadow Hue : 0
Split Toning Shadow Saturation : 0
Color Temperature : 3750
Tint : +2
Tone Curve : 0, 0, 32, 22, 64, 56, 128, 128, 192, 196, 255, 255
Tone Curve Name : Medium Contrast
Version : 6.1
Vignette Amount : 0
Image Width : 300
Image Height : 280
Bits Per Sample : 8
Color Components : 1
Aperture : 1.2
Blue Balance : 0.649927
Image Size : 300x280
Lens ID : Noctilux-M 50mm f/0.95 ASPH.
Megapixels : 0.084
Red Balance : 0.526377
Scale Factor To 35 mm Equivalent : 1.0
Shutter Speed : 1/500
Flash : No Flash
Circle Of Confusion : 0.030 mm
Field Of View : 39.6 deg
Focal Length : 50.0 mm (35 mm equivalent: 50.0 mm)
Hyperfocal Distance : 69.34 m
Light Value : 8.8