Uber Exif Photo
Keywords : sh
Copyright Notice : dierk topp
Copyright Flag : True
Make : Leica Camera AG
Camera Model Name : M9 Digital Camera
Software : Adobe Photoshop Lightroom 3.4.1
Modify Date : 2011:07:13 18:34:30
Copyright : dierk topp
Exposure Time : 1/1500
F Number : 6.7
Exposure Program : Aperture-priority AE
ISO : 160
Date/Time Original : 2011:07:13 12:53:28
Create Date : 2011:07:13 12:53:28
Shutter Speed Value : 1/1500
Aperture Value : 6.7
Exposure Compensation : -1
Max Aperture Value : 1.4
Metering Mode : Center-weighted average
Light Source : Unknown
Flash : No Flash
Focal Length : 35.0 mm
Contrast : Normal
Sharpening : Normal
Saturation : Normal
White Balance : Auto
JPEG Quality : Fine
WB RGB Levels : 0.4526467013 1 0.7341488551
User Profile : Mein
JPEG Size : 5216x3472
Serial Number : 3834236
Firmware Version : 1.162
Base ISO : 160
Sensor Width : 5270
Sensor Height : 3516
Sensor Bit Depth : 14
Camera Temperature : 25 C
Lens Type : Summilux-M 35mm f/1.4 ASPH.
Approximate F Number : 5.5
Measured LV : 6.35
External Sensor Brightness Value : 6.76
Color Space : Uncalibrated
Scene Type : Directly photographed
Exposure Mode : Auto bracket
Digital Zoom Ratio : 0
Focal Length In 35mm Format : 35 mm
Scene Capture Type : Standard
Maker Note Safety : Safe
Profile Description : sRGB IEC61966-2.1
Lens : Leica Summilux-M 35mm f/1.4 ASPH.
Rights : dierk topp
Subject : sh
Sharpness : Hard
Date Created : 2011:07:13 12:53:28
Property Release Status : Unknown (nil)
PLUS Version : 1.2.0
Creator Tool : Adobe Photoshop Lightroom 3.4.1
Rating : 5
Marked : True
Already Applied : True
Blue Hue : +11
Blue Saturation : -70
Brightness : +101
Camera Profile : Adobe Standard
Chromatic Aberration B : 0
Chromatic Aberration R : 0
Clarity : -11
Color Noise Reduction : 25
Convert To Grayscale : False
Defringe : 0
Exposure : +1.51
Fill Light : 20
Green Hue : +11
Green Saturation : +25
Has Crop : False
Has Settings : True
Highlight Recovery : 0
Hue Adjustment Aqua : 0
Hue Adjustment Blue : 0
Hue Adjustment Green : 0
Hue Adjustment Magenta : 0
Hue Adjustment Orange : 0
Hue Adjustment Purple : 0
Hue Adjustment Red : 0
Hue Adjustment Yellow : 0
Luminance Adjustment Aqua : 0
Luminance Adjustment Blue : 0
Luminance Adjustment Green : 0
Luminance Adjustment Magenta : 0
Luminance Adjustment Orange : 0
Luminance Adjustment Purple : 0
Luminance Adjustment Red : 0
Luminance Adjustment Yellow : 0
Luminance Smoothing : 0
Parametric Darks : -3
Parametric Highlight Split : 75
Parametric Highlights : 0
Parametric Lights : 0
Parametric Midtone Split : 50
Parametric Shadow Split : 25
Parametric Shadows : -14
Post Crop Vignette Amount : 0
Red Hue : +96
Red Saturation : +3
Saturation Adjustment Aqua : 0
Saturation Adjustment Blue : 0
Saturation Adjustment Green : 0
Saturation Adjustment Magenta : 0
Saturation Adjustment Orange : 0
Saturation Adjustment Purple : 0
Saturation Adjustment Red : 0
Saturation Adjustment Yellow : 0
Shadow Tint : +8
Shadows : 12
Sharpen Detail : 25
Sharpen Edge Masking : 0
Sharpen Radius : +1.0
Split Toning Balance : 0
Split Toning Highlight Hue : 0
Split Toning Highlight Saturation : 0
Split Toning Shadow Hue : 0
Split Toning Shadow Saturation : 0
Color Temperature : 12500
Tint : +35
Tone Curve : 0, 0, 255, 255
Tone Curve Name : Linear
Version : 6.4.1
Vibrance : 0
Vignette Amount : -61
Vignette Midpoint : 34
Image Width : 300
Image Height : 205
Bits Per Sample : 8
Color Components : 3
Aperture : 6.7
Blue Balance : 0.734149
Image Size : 300x205
Lens ID : Summilux-M 35mm f/1.4 ASPH.
Megapixels : 0.061
Red Balance : 0.452647
Scale Factor To 35 mm Equivalent : 1.0
Shutter Speed : 1/1500
Circle Of Confusion : 0.030 mm
Field Of View : 54.4 deg
Focal Length : 35.0 mm (35 mm equivalent: 35.0 mm)
Hyperfocal Distance : 6.09 m
Light Value : 15.4