Uber Exif Photo
Keywords : reinfeld
Copyright Notice : dierk topp
Copyright Flag : True
Make : Leica Camera AG
Camera Model Name : M9 Digital Camera
Software : 1.116
Modify Date : 2011:04:18 15:05:45
Copyright : dierk topp
Exposure Time : 1/350
F Number : 5.7
Exposure Program : Aperture-priority AE
ISO : 160
Date/Time Original : 2011:04:14 14:57:25
Create Date : 2011:04:14 14:57:25
Shutter Speed Value : 1/350
Aperture Value : 5.7
Exposure Compensation : 0
Max Aperture Value : 3.8
Metering Mode : Center-weighted average
Light Source : Unknown
Focal Length : 18.0 mm
Contrast : Normal
Sharpening : Normal
Saturation : Normal
JPEG Quality : Fine
White Balance : Auto
WB RGB Levels : 0.4665546601 1 0.7387834243
User Profile : Jpg
JPEG Size : 5216x3472
Serial Number : 3834236
Firmware Version : 1.116
Base ISO : 160
Sensor Width : 5270
Sensor Height : 3516
Sensor Bit Depth : 14
Camera Temperature : 18 C
Lens Type : Apo-Telyt-M 18mm f/3.8 ASPH.
Approximate F Number : 5.0
Measured LV : 5.05
External Sensor Brightness Value : 5.21
Color Space : Uncalibrated
Scene Type : Directly photographed
Exposure Mode : Auto bracket
Digital Zoom Ratio : 0
Focal Length In 35mm Format : 18 mm
Scene Capture Type : Standard
Maker Note Safety : Safe
Lens : Super-Elmar-M 18mm f/3.8 ASPH.
Rights : dierk topp
Subject : reinfeld
Date/Time Digitized : 2011:04:14 14:57:25+02:00
Flash Fired : False
Flash Function : False
Flash Mode : Unknown
Flash Red Eye Mode : False
Flash Return : No return detection
Exif Image Width : 1500
Exif Image Height : 891
Sharpness : Hard
Property Release Status : Unknown (nil)
PLUS Version : 1.2.0
Creator Tool : Adobe Photoshop Lightroom
Marked : True
Already Applied : True
Blue Hue : 0
Blue Saturation : 0
Brightness : +97
Camera Profile : Adobe Standard
Chromatic Aberration B : 0
Chromatic Aberration R : 0
Clarity : +19
Color Noise Reduction : 25
Convert To Grayscale : True
Crop Angle : 0
Crop Bottom : 0.892797
Crop Height : 891
Crop Left : 0
Crop Right : 1
Crop Top : 0
Crop Unit : pixels
Crop Width : 1500
Defringe : 0
Exposure : +0.35
Fill Light : 0
Gray Mixer Aqua : -24
Gray Mixer Blue : -100
Gray Mixer Green : +82
Gray Mixer Magenta : +4
Gray Mixer Orange : +16
Gray Mixer Purple : -54
Gray Mixer Red : -11
Gray Mixer Yellow : +85
Green Hue : 0
Green Saturation : 0
Has Crop : True
Has Settings : True
Highlight Recovery : 0
Luminance Smoothing : 0
Parametric Darks : -22
Parametric Highlight Split : 75
Parametric Highlights : -45
Parametric Lights : -8
Parametric Midtone Split : 50
Parametric Shadow Split : 25
Parametric Shadows : 0
Post Crop Vignette Amount : 0
Red Hue : 0
Red Saturation : 0
Shadow Tint : 0
Shadows : 4
Sharpen Detail : 36
Sharpen Edge Masking : 0
Sharpen Radius : +1.0
Split Toning Balance : 0
Split Toning Highlight Hue : 0
Split Toning Highlight Saturation : 0
Split Toning Shadow Hue : 0
Split Toning Shadow Saturation : 0
Color Temperature : 4650
Tint : +6
Tone Curve : 0, 0, 32, 22, 64, 56, 128, 128, 192, 196, 255, 255
Tone Curve Name : Medium Contrast
Version : 6.1
Vignette Amount : 0
Image Width : 300
Image Height : 184
Bits Per Sample : 8
Color Components : 1
Aperture : 5.7
Blue Balance : 0.738783
Image Size : 300x184
Lens ID : Apo-Telyt-M 18mm f/3.8 ASPH.
Megapixels : 0.055
Red Balance : 0.466555
Scale Factor To 35 mm Equivalent : 1.0
Shutter Speed : 1/350
Flash : No Flash
Circle Of Confusion : 0.030 mm
Field Of View : 90.0 deg
Focal Length : 18.0 mm (35 mm equivalent: 18.0 mm)
Hyperfocal Distance : 1.89 m
Light Value : 12.8