Uber Exif Photo
Keywords : 50/1.5, Leica M9, Milano, Milano street, Nokton 50, Nokton Asph., Rangefinder, Street, Street Life, Street Photography, Voigtlander, VoigtlŠnder, gente che legge, leggere, leica, lettura, letture, persone che leggono, telemetro
Make : Leica Camera AG
Camera Model Name : M9 Digital Camera
Software : 1.138
Modify Date : 2011:03:20 01:21:50
Exposure Time : 1/4000
F Number : 1.7
Exposure Program : Aperture-priority AE
ISO : 160
Sensitivity Type : Unknown
Date/Time Original : 2011:03:19 11:48:07
Create Date : 2011:03:19 11:48:07
Shutter Speed Value : 1/4000
Aperture Value : 1.7
Exposure Compensation : +0.332
Max Aperture Value : 1.4
Metering Mode : Center-weighted average
Light Source : Unknown
Focal Length : 50.0 mm
Contrast : Normal
Sharpening : Normal
Saturation : Normal
White Balance : Auto
JPEG Quality : Fine
WB RGB Levels : 0.4521595143 1 0.750492419
User Profile : CDG auto01
JPEG Size : 5216x3472
Firmware Version : 1.138
Base ISO : 160
Sensor Width : 5270
Sensor Height : 3516
Sensor Bit Depth : 14
Camera Temperature : 21 C
Lens Type : Summilux-M 50mm f/1.4 (II)
Approximate F Number : 1.5
Measured LV : 7.63
External Sensor Brightness Value : 5.51
Scene Type : Directly photographed
Exposure Mode : Manual
Digital Zoom Ratio : 0
Focal Length In 35mm Format : 50 mm
Scene Capture Type : Standard
Serial Number : 3804280
Lens Model : Leica Summilux-M 50mm f/1.4 (II)
Maker Note Safety : Safe
Date/Time Digitized : 2011:03:19 11:48:07+01:00
Exif Image Width : 1600
Exif Image Height : 1065
Creator Tool : Adobe Photoshop Lightroom 3.3
Lens : Leica Summilux-M 50mm f/1.4 (II)
Version : 6.3
Process Version : 5.7
Color Temperature : 4400
Tint : -74
Exposure : +1.15
Shadows : 1
Brightness : +46
Sharpness : 80
Luminance Smoothing : 0
Color Noise Reduction : 25
Chromatic Aberration R : 0
Chromatic Aberration B : 0
Vignette Amount : 0
Shadow Tint : -56
Red Hue : +100
Red Saturation : -25
Green Hue : +43
Green Saturation : +100
Blue Hue : -100
Blue Saturation : +5
Fill Light : 0
Vibrance : 0
Highlight Recovery : 0
Clarity : +60
Defringe : 0
Hue Adjustment Red : 0
Hue Adjustment Orange : 0
Hue Adjustment Yellow : 0
Hue Adjustment Green : 0
Hue Adjustment Aqua : 0
Hue Adjustment Blue : 0
Hue Adjustment Purple : 0
Hue Adjustment Magenta : 0
Saturation Adjustment Red : 0
Saturation Adjustment Orange : 0
Saturation Adjustment Yellow : 0
Saturation Adjustment Green : 0
Saturation Adjustment Aqua : 0
Saturation Adjustment Blue : 0
Saturation Adjustment Purple : 0
Saturation Adjustment Magenta : 0
Luminance Adjustment Red : 0
Luminance Adjustment Orange : 0
Luminance Adjustment Yellow : 0
Luminance Adjustment Green : 0
Luminance Adjustment Aqua : 0
Luminance Adjustment Blue : 0
Luminance Adjustment Purple : 0
Luminance Adjustment Magenta : 0
Split Toning Shadow Hue : 0
Split Toning Shadow Saturation : 0
Split Toning Highlight Hue : 0
Split Toning Highlight Saturation : 0
Split Toning Balance : 0
Parametric Shadows : -14
Parametric Darks : -3
Parametric Lights : 0
Parametric Highlights : 0
Parametric Shadow Split : 25
Parametric Midtone Split : 50
Parametric Highlight Split : 75
Sharpen Radius : +0.8
Sharpen Detail : 25
Sharpen Edge Masking : 0
Post Crop Vignette Amount : -35
Post Crop Vignette Midpoint : 50
Post Crop Vignette Feather : 50
Post Crop Vignette Roundness : 0
Post Crop Vignette Style : Highlight Priority
Post Crop Vignette Highlight Contrast : 0
Grain Amount : 0
Color Noise Reduction Detail : 50
Lens Profile Enable : 0
Lens Manual Distortion Amount : 0
Perspective Vertical : 0
Perspective Horizontal : 0
Perspective Rotate : 0.0
Perspective Scale : 100
Convert To Grayscale : False
Tone Curve Name : Linear
Camera Profile : Embedded
Lens Profile Setup : LensDefaults
Has Settings : True
Has Crop : False
Already Applied : True
Flash Fired : False
Flash Return : No return detection
Flash Mode : Unknown
Flash Function : False
Flash Red Eye Mode : False
Subject : 50/1.5, Leica M9, Milano, Milano street, Nokton 50, Nokton Asph., Rangefinder, Street, Street Life, Street Photography, Voigtlander, Voigtländer, gente che legge, leggere, leica, lettura, letture, persone che leggono, telemetro
Tone Curve : 0, 0, 255, 255
Image Width : 300
Image Height : 200
Bits Per Sample : 8
Color Components : 1
Aperture : 1.7
Blue Balance : 0.750492
Image Size : 300x200
Lens ID : Leica Summilux-M 50mm f/1.4 (II)
Megapixels : 0.060
Red Balance : 0.45216
Scale Factor To 35 mm Equivalent : 1.0
Shutter Speed : 1/4000
Flash : No Flash
Circle Of Confusion : 0.030 mm
Field Of View : 39.6 deg
Focal Length : 50.0 mm (35 mm equivalent: 50.0 mm)
Hyperfocal Distance : 48.94 m
Light Value : 12.8