Uber Exif Photo
By-line : MOHANRAJ DHANAGOPAL
Copyright Notice : MOHANRAJ DHANAGOPAL
Caption-Abstract : OLYMPUS DIGITAL CAMERA
Image Description : OLYMPUS DIGITAL CAMERA
Make : OLYMPUS IMAGING CORP.
Camera Model Name : E-M5
Software : Adobe Photoshop Lightroom 3.6 (Windows)
Modify Date : 2012:07:05 22:46:49
Artist : MOHANRAJ DHANAGOPAL
Copyright : MOHANRAJ DHANAGOPAL
Exposure Time : 1/40
F Number : 1.4
Exposure Program : Aperture-priority AE
ISO : 200
Sensitivity Type : Standard Output Sensitivity
Date/Time Original : 2012:07:04 20:06:43
Create Date : 2012:07:04 20:06:43
Shutter Speed Value : 1/40
Aperture Value : 1.4
Exposure Compensation : 0
Max Aperture Value : 1.4
Subject Distance : 0.44 m
Metering Mode : Multi-segment
Light Source : Unknown
Flash : Auto, Did not fire
Focal Length : 25.0 mm
CFA Pattern : [Red,Green][Green,Blue]
Custom Rendered : Normal
Exposure Mode : Auto
White Balance : Auto
Digital Zoom Ratio : 1
Focal Length In 35mm Format : 50 mm
Scene Capture Type : Standard
Gain Control : None
Contrast : Normal
Saturation : Normal
Sharpness : Normal
Serial Number : BEJ501258
Lens Info : 25mm f/1.4
Lens Model : LEICA DG SUMMILUX 25/F1.4
Lens Serial Number : 11091101952
Profile Description : sRGB IEC61966-2.1
Format : image/jpeg
Creator Tool : Adobe Photoshop Lightroom 3.6 (Windows)
Lens : LEICA DG SUMMILUX 25/F1.4
Approximate Focus Distance : 0.44
Flash Compensation : 0
Date Created : 2012:07:04 20:06:43
Version : 6.6
Process Version : 5.7
Color Temperature : 2850
Tint : +30
Exposure : +1.35
Shadows : 0
Brightness : +20
Luminance Smoothing : 0
Color Noise Reduction : 25
Chromatic Aberration R : 0
Chromatic Aberration B : 0
Vignette Amount : 0
Shadow Tint : 0
Red Hue : 0
Red Saturation : 0
Green Hue : 0
Green Saturation : 0
Blue Hue : 0
Blue Saturation : 0
Fill Light : 16
Highlight Recovery : 100
Clarity : +31
Defringe : 0
Gray Mixer Red : +8
Gray Mixer Orange : +9
Gray Mixer Yellow : +16
Gray Mixer Green : -3
Gray Mixer Aqua : -7
Gray Mixer Blue : -5
Gray Mixer Purple : +5
Gray Mixer Magenta : +8
Split Toning Shadow Hue : 45
Split Toning Shadow Saturation : 10
Split Toning Highlight Hue : 50
Split Toning Highlight Saturation : 0
Split Toning Balance : 0
Parametric Shadows : 0
Parametric Darks : -58
Parametric Lights : -57
Parametric Highlights : +55
Parametric Shadow Split : 25
Parametric Midtone Split : 50
Parametric Highlight Split : 75
Sharpen Radius : +0.5
Sharpen Detail : 29
Sharpen Edge Masking : 3
Post Crop Vignette Amount : -20
Post Crop Vignette Midpoint : 50
Post Crop Vignette Feather : 50
Post Crop Vignette Roundness : 0
Post Crop Vignette Style : Highlight Priority
Post Crop Vignette Highlight Contrast : 0
Grain Amount : 0
Color Noise Reduction Detail : 50
Lens Profile Enable : 0
Lens Manual Distortion Amount : 0
Perspective Vertical : 0
Perspective Horizontal : 0
Perspective Rotate : 0.0
Perspective Scale : 100
Convert To Grayscale : True
Tone Curve Name : Medium Contrast
Camera Profile : Adobe Standard
Lens Profile Setup : LensDefaults
Has Settings : True
Crop Top : 0
Crop Left : 0.038547
Crop Bottom : 0.892313
Crop Right : 0.975476
Crop Angle : 0
Crop Constrain To Warp : 0
Crop Width : 1084
Crop Height : 774
Crop Unit : pixels
Has Crop : True
Already Applied : True
Description : OLYMPUS DIGITAL CAMERA
Creator : MOHANRAJ DHANAGOPAL
Rights : MOHANRAJ DHANAGOPAL
Tone Curve : 0, 0, 32, 22, 64, 56, 128, 128, 192, 196, 255, 255
Paint Correction What : Correction
Paint Correction Amount : 1.000000
Paint Correction Active : true
Paint Correction Exposure : 0.000000
Paint Correction Saturation : 0.000000
Paint Correction Contrast : 0.000000
Paint Correction Clarity : -0.306360
Paint Correction Sharpness : 0.000000
Paint Correction Brightness : 0.000000
Paint Correction Toning Hue : 47.000000
Paint Correction Toning Saturation : 0.000000
Paint Correction Mask What : Mask/Paint
Paint Correction Mask Value : 1.000000
Paint Correction Mask Radius : 0.029987
Paint Correction Mask Flow : 1.000000
Paint Correction Mask Center Weight : 0.000000
Image Width : 214
Image Height : 300
Bits Per Sample : 8
Color Components : 3
Aperture : 1.4
Image Size : 214x300
Megapixels : 0.064
Scale Factor To 35 mm Equivalent : 2.0
Shutter Speed : 1/40
Circle Of Confusion : 0.015 mm
Depth Of Field : 0.012 m (0.434 - 0.446 m)
Field Of View : 39.6 deg
Focal Length : 25.0 mm (35 mm equivalent: 50.0 mm)
Hyperfocal Distance : 29.72 m
Light Value : 5.3
Lens ID : LEICA DG SUMMILUX 25mm F1.4