Uber Exif Photo
Caption-Abstract : Dominic made french toast this morning.
By-line : Elaine Dudzinski
By-line Title : Dudzinski Photography LLC
Object Name : Dominic at Breakfast
Keywords : Dominic, french toast, Leica, M8.2, Leica M8.2, rangefinder, digital, coffee cup, drink, breakfast, kitchen
Copyright Notice : © 2010 Copyrighted. All Rights Reserved.
Copyright Flag : True
Image Description : Dominic made french toast this morning.
Make : Leica Camera AG
Camera Model Name : M8 Digital Camera
Orientation : Horizontal (normal)
Software : Adobe Photoshop CS3 Macintosh
Modify Date : 2010:02:13 17:09:43
Artist : Elaine Dudzinski
Copyright : © 2010 Copyrighted. All Rights Reserved.
Exposure Time : 1/60
Exposure Program : Aperture-priority AE
ISO : 640
Date/Time Original : 2010:02:13 11:05:07
Create Date : 2010:02:13 11:05:07
Shutter Speed Value : 1/60
Exposure Compensation : 0
Max Aperture Value : 2.0
Metering Mode : Center-weighted average
Light Source : Unknown
Focal Length : 35.0 mm
Color Space : Uncalibrated
Exif Image Width : 3916
Exif Image Height : 2634
Scene Type : Directly photographed
White Balance : Auto
Digital Zoom Ratio : 0
Focal Length In 35mm Format : 47 mm
Scene Capture Type : Standard
Date/Time Digitized : 2010:02:13 11:05:07-05:00
Creator Tool : Adobe Photoshop CS3 Macintosh
Rating : 0
Serial Number : 3556463
Raw File Name : L1000510.DNG
Version : 4.6
Color Temperature : 5700
Tint : +21
Exposure : 0.00
Shadows : 8
Brightness : +50
Contrast : +25
Saturation : 0
Sharpness : 25
Luminance Smoothing : 0
Color Noise Reduction : 25
Chromatic Aberration R : 0
Chromatic Aberration B : 0
Vignette Amount : 0
Shadow Tint : 0
Red Hue : 0
Red Saturation : 0
Green Hue : 0
Green Saturation : 0
Blue Hue : 0
Blue Saturation : 0
Fill Light : 34
Vibrance : 0
Highlight Recovery : 8
Clarity : 0
Defringe : 0
Hue Adjustment Red : 0
Hue Adjustment Orange : 0
Hue Adjustment Yellow : 0
Hue Adjustment Green : 0
Hue Adjustment Aqua : 0
Hue Adjustment Blue : 0
Hue Adjustment Purple : 0
Hue Adjustment Magenta : 0
Saturation Adjustment Red : 0
Saturation Adjustment Orange : 0
Saturation Adjustment Yellow : 0
Saturation Adjustment Green : 0
Saturation Adjustment Aqua : 0
Saturation Adjustment Blue : 0
Saturation Adjustment Purple : 0
Saturation Adjustment Magenta : 0
Luminance Adjustment Red : 0
Luminance Adjustment Orange : 0
Luminance Adjustment Yellow : 0
Luminance Adjustment Green : 0
Luminance Adjustment Aqua : 0
Luminance Adjustment Blue : 0
Luminance Adjustment Purple : 0
Luminance Adjustment Magenta : 0
Split Toning Shadow Hue : 0
Split Toning Shadow Saturation : 0
Split Toning Highlight Hue : 0
Split Toning Highlight Saturation : 0
Split Toning Balance : 0
Parametric Shadows : 0
Parametric Darks : 0
Parametric Lights : 0
Parametric Highlights : 0
Parametric Shadow Split : 25
Parametric Midtone Split : 50
Parametric Highlight Split : 75
Sharpen Radius : +1.0
Sharpen Detail : 25
Sharpen Edge Masking : 0
Post Crop Vignette Amount : 0
Convert To Grayscale : False
Tone Curve Name : Medium Contrast
Camera Profile : ACR 4.4
Has Settings : True
Has Crop : False
Already Applied : True
Format : image/jpeg
Color Mode : RGB
ICC Profile Name : Adobe RGB (1998)
Authors Position : Dudzinski Photography LLC
Date Created : 2010:02:13
Flash Fired : False
Flash Return : No return detection
Flash Mode : Auto
Flash Function : False
Flash Red Eye Mode : False
Tone Curve : 0, 0, 32, 22, 64, 56, 128, 128, 192, 196, 255, 255
Title : Dominic at Breakfast
Creator : Elaine Dudzinski
Description : Dominic made french toast this morning.
Subject : Dominic, french toast, Leica, M8.2, Leica M8.2, rangefinder, digital, coffee cup, drink, breakfast, kitchen
Rights : © 2010 Copyrighted. All Rights Reserved.
Usage Terms : All Rights Reserved.
Creator Country : USA
Creator Region : Connecticut
Image Width : 300
Image Height : 202
Bits Per Sample : 8
Color Components : 1
Image Size : 300x202
Megapixels : 0.061
Scale Factor To 35 mm Equivalent : 1.3
Shutter Speed : 1/60
Flash : Auto, Did not fire
Circle Of Confusion : 0.022 mm
Field Of View : 41.9 deg
Focal Length : 35.0 mm (35 mm equivalent: 47.0 mm)