Uber Exif Photo
Keywords : 28mm, 35mm, 400, Analog, Film, Gold, ISO400, Kodak, Leica, Leitz, M6, Summitar
By-line : RW Sinclair
Province-State : Florida
Country-Primary Location Name : United States of America
Copyright Notice : RW Sinclair
Copyright Flag : True
Software : Adobe Photoshop Lightroom 4.3 (Macintosh)
Modify Date : 2013:02:14 12:19:30
Artist : RW Sinclair
Copyright : RW Sinclair
Date/Time Original : 2013:02:09 14:24:45
GPS Version ID : 2.2.0.0
GPS Latitude Ref : North
GPS Longitude Ref : West
Profile Description : sRGB IEC61966-2.1
Format : image/jpeg
Date Created : 2013:02:09 14:24:45
State : Florida
Country : United States of America
Creator Tool : Adobe Photoshop Lightroom 4.3 (Macintosh)
Marked : True
Version : 7.3
Process Version : 6.7
White Balance : As Shot
Incremental Temperature : 0
Incremental Tint : 0
Saturation : 0
Sharpness : 0
Luminance Smoothing : 20
Color Noise Reduction : 29
Vignette Amount : 0
Shadow Tint : 0
Red Hue : 0
Red Saturation : 0
Green Hue : 0
Green Saturation : 0
Blue Hue : 0
Blue Saturation : 0
Vibrance : 0
Hue Adjustment Red : 0
Hue Adjustment Orange : 0
Hue Adjustment Yellow : 0
Hue Adjustment Green : 0
Hue Adjustment Aqua : 0
Hue Adjustment Blue : 0
Hue Adjustment Purple : 0
Hue Adjustment Magenta : 0
Saturation Adjustment Red : 0
Saturation Adjustment Orange : 0
Saturation Adjustment Yellow : 0
Saturation Adjustment Green : 0
Saturation Adjustment Aqua : 0
Saturation Adjustment Blue : 0
Saturation Adjustment Purple : 0
Saturation Adjustment Magenta : 0
Luminance Adjustment Red : 0
Luminance Adjustment Orange : 0
Luminance Adjustment Yellow : 0
Luminance Adjustment Green : 0
Luminance Adjustment Aqua : 0
Luminance Adjustment Blue : 0
Luminance Adjustment Purple : 0
Luminance Adjustment Magenta : 0
Split Toning Shadow Hue : 0
Split Toning Shadow Saturation : 0
Split Toning Highlight Hue : 0
Split Toning Highlight Saturation : 0
Split Toning Balance : 0
Parametric Shadows : 0
Parametric Darks : 0
Parametric Lights : 0
Parametric Highlights : 0
Parametric Shadow Split : 25
Parametric Midtone Split : 50
Parametric Highlight Split : 75
Sharpen Radius : +1.0
Sharpen Detail : 25
Sharpen Edge Masking : 0
Post Crop Vignette Amount : 0
Grain Amount : 0
Luminance Noise Reduction Detail : 50
Color Noise Reduction Detail : 50
Luminance Noise Reduction Contrast : 0
Lens Profile Enable : 0
Lens Manual Distortion Amount : 0
Perspective Vertical : 0
Perspective Horizontal : 0
Perspective Rotate : 0.0
Perspective Scale : 100
Auto Lateral CA : 0
Exposure 2012 : -0.20
Contrast 2012 : 0
Highlights 2012 : 0
Shadows 2012 : 0
Whites 2012 : 0
Blacks 2012 : 0
Clarity 2012 : 0
Defringe Purple Amount : 0
Defringe Purple Hue Lo : 30
Defringe Purple Hue Hi : 70
Defringe Green Amount : 0
Defringe Green Hue Lo : 40
Defringe Green Hue Hi : 60
Convert To Grayscale : False
Tone Curve Name 2012 : Linear
Camera Profile : Embedded
Lens Profile Setup : LensDefaults
Has Settings : True
Crop Top : 0.080375
Crop Left : 0.022326
Crop Bottom : 0.919625
Crop Right : 0.977674
Crop Angle : -3.33463
Crop Constrain To Warp : 0
Crop Width : 1758
Crop Height : 1172
Crop Unit : pixels
Has Crop : True
Already Applied : True
Creator : RW Sinclair
Rights : RW Sinclair
Subject : 28mm, 35mm, 400, Analog, Film, Gold, ISO400, Kodak, Leica, Leitz, M6, Summitar
Tone Curve PV2012 : 0, 0, 255, 255
Tone Curve PV2012 Red : 0, 0, 255, 255
Tone Curve PV2012 Green : 0, 0, 255, 255
Tone Curve PV2012 Blue : 0, 0, 255, 255
Image Width : 300
Image Height : 200
Bits Per Sample : 8
Color Components : 3
Image Size : 300x200
Megapixels : 0.060
GPS Latitude : 30 deg 20' 6.03" N
GPS Longitude : 87 deg 8' 11.43" W
GPS Position : 30 deg 20' 6.03" N, 87 deg 8' 11.43" W