Uber Exif Photo
Keywords : Digital, Kamellia, Leitz, MD, Maryland, Red, Redhead, girl, glamour, hot, leica, m8, mod.Baltimore, model, naked, natural light, nude, sexy, window, woman
By-line : R.W. Sinclair
Copyright Notice : R.W.Sinclair
Make : Leica Camera AG
Camera Model Name : M8 Digital Camera
Software : 2.005
Modify Date : 2011:01:25 14:46:33
Artist : R.W. Sinclair
Copyright : R.W.Sinclair
Exposure Time : 1/90
F Number : 5.7
Exposure Program : Manual
ISO : 320
Sensitivity Type : Unknown
Date/Time Original : 2011:01:22 14:17:40
Create Date : 2011:01:22 14:17:40
Shutter Speed Value : 1/90
Aperture Value : 5.7
Exposure Compensation : 0
Max Aperture Value : 1.0
Metering Mode : Center-weighted average
Light Source : Unknown
White Balance : Auto
Digital Zoom Ratio : 0
Scene Capture Type : Standard
Contrast : Unknown (46)
Saturation : Normal
Sharpness : Unknown (25)
Date/Time Digitized : 2011:01:22 14:17:40-05:00
Exif Image Width : 2000
Exif Image Height : 1345
Creator Tool : Adobe Photoshop Lightroom 3.3
Rating : 4
Version : 6.3
Process Version : 5.7
Incremental Temperature : 0
Incremental Tint : 0
Exposure : 0.00
Shadows : 0
Brightness : 0
Luminance Smoothing : 0
Color Noise Reduction : 0
Chromatic Aberration R : 0
Chromatic Aberration B : 0
Vignette Amount : 0
Shadow Tint : 0
Red Hue : 0
Red Saturation : 0
Green Hue : 0
Green Saturation : 0
Blue Hue : 0
Blue Saturation : 0
Fill Light : 1
Vibrance : 0
Highlight Recovery : 0
Clarity : 0
Defringe : 0
Hue Adjustment Red : 0
Hue Adjustment Orange : 0
Hue Adjustment Yellow : 0
Hue Adjustment Green : 0
Hue Adjustment Aqua : 0
Hue Adjustment Blue : 0
Hue Adjustment Purple : 0
Hue Adjustment Magenta : 0
Saturation Adjustment Red : 0
Saturation Adjustment Orange : 0
Saturation Adjustment Yellow : 0
Saturation Adjustment Green : 0
Saturation Adjustment Aqua : 0
Saturation Adjustment Blue : 0
Saturation Adjustment Purple : 0
Saturation Adjustment Magenta : 0
Luminance Adjustment Red : 0
Luminance Adjustment Orange : 0
Luminance Adjustment Yellow : 0
Luminance Adjustment Green : 0
Luminance Adjustment Aqua : 0
Luminance Adjustment Blue : 0
Luminance Adjustment Purple : 0
Luminance Adjustment Magenta : 0
Split Toning Shadow Hue : 0
Split Toning Shadow Saturation : 0
Split Toning Highlight Hue : 0
Split Toning Highlight Saturation : 0
Split Toning Balance : 0
Parametric Shadows : 0
Parametric Darks : 0
Parametric Lights : 0
Parametric Highlights : 0
Parametric Shadow Split : 25
Parametric Midtone Split : 50
Parametric Highlight Split : 75
Sharpen Radius : +1.0
Sharpen Detail : 25
Sharpen Edge Masking : 0
Post Crop Vignette Amount : 0
Grain Amount : 0
Lens Profile Enable : 0
Lens Manual Distortion Amount : 0
Perspective Vertical : 0
Perspective Horizontal : 0
Perspective Rotate : 0.0
Perspective Scale : 100
Convert To Grayscale : False
Tone Curve Name : Linear
Camera Profile : Embedded
Lens Profile Setup : LensDefaults
Has Settings : True
Crop Top : 0
Crop Left : 0.086651
Crop Bottom : 0.913349
Crop Right : 1
Crop Angle : 0
Crop Constrain To Warp : 0
Crop Width : 2000
Crop Height : 1345
Crop Unit : pixels
Has Crop : True
Already Applied : True
Creator : R.W. Sinclair
Rights : R.W.Sinclair
Subject : Digital, Kamellia, Leitz, MD, Maryland, Red, Redhead, girl, glamour, hot, leica, m8, mod.Baltimore, model, naked, natural light, nude, sexy, window, woman
Creator Postal Code : 19707
Creator Country : United States of America
Creator Region : DE
Creator City : Hockessin
Creator Work Email : rwphoto@me.com
Flash Fired : False
Flash Return : No return detection
Flash Mode : On
Flash Function : False
Flash Red Eye Mode : False
Tone Curve : 0, 0, 255, 255
Image Width : 300
Image Height : 202
Bits Per Sample : 8
Color Components : 1
Aperture : 5.7
Image Size : 300x202
Megapixels : 0.061
Scale Factor To 35 mm Equivalent : 2.6
Shutter Speed : 1/90
Flash : On, Did not fire
Circle Of Confusion : 0.011 mm
Light Value : 9.8