Uber Exif Photo
Keywords : 135, 35mm, DE, Ektar 100, Film, Kodak, Leica, Leitz, M6, Rangefinder, color, colour, delaware, usa
By-line : R.W. Sinclair
Copyright Notice : R.W.Sinclair
Copyright Flag : True
Make : EPSON
Camera Model Name : GT-X820
Software : SilverFast 6.6.1r7
Modify Date : 2010:10:19 16:21:35
Copyright : R.W.Sinclair
Sensitivity Type : Unknown
Profile Description : sRGB IEC61966-2.1
Exif Image Width : 2298
Exif Image Height : 1514
Creator Tool : Adobe Photoshop Lightroom
Marked : True
Version : 6.2
Process Version : 5.7
White Balance : As Shot
Incremental Temperature : 0
Incremental Tint : 0
Exposure : 0.00
Shadows : 7
Brightness : -8
Contrast : +9
Saturation : 0
Sharpness : 0
Luminance Smoothing : 22
Color Noise Reduction : 0
Chromatic Aberration R : 0
Chromatic Aberration B : 0
Vignette Amount : 0
Shadow Tint : 0
Red Hue : 0
Red Saturation : 0
Green Hue : 0
Green Saturation : 0
Blue Hue : 0
Blue Saturation : 0
Fill Light : 0
Vibrance : +19
Highlight Recovery : 24
Clarity : +26
Defringe : 0
Hue Adjustment Red : 0
Hue Adjustment Orange : 0
Hue Adjustment Yellow : 0
Hue Adjustment Green : 0
Hue Adjustment Aqua : 0
Hue Adjustment Blue : 0
Hue Adjustment Purple : 0
Hue Adjustment Magenta : 0
Saturation Adjustment Red : 0
Saturation Adjustment Orange : 0
Saturation Adjustment Yellow : 0
Saturation Adjustment Green : 0
Saturation Adjustment Aqua : 0
Saturation Adjustment Blue : 0
Saturation Adjustment Purple : 0
Saturation Adjustment Magenta : 0
Luminance Adjustment Red : 0
Luminance Adjustment Orange : 0
Luminance Adjustment Yellow : 0
Luminance Adjustment Green : 0
Luminance Adjustment Aqua : 0
Luminance Adjustment Blue : 0
Luminance Adjustment Purple : 0
Luminance Adjustment Magenta : 0
Split Toning Shadow Hue : 0
Split Toning Shadow Saturation : 0
Split Toning Highlight Hue : 0
Split Toning Highlight Saturation : 0
Split Toning Balance : 0
Parametric Shadows : 0
Parametric Darks : 0
Parametric Lights : 0
Parametric Highlights : 0
Parametric Shadow Split : 25
Parametric Midtone Split : 50
Parametric Highlight Split : 75
Sharpen Radius : +1.0
Sharpen Detail : 25
Sharpen Edge Masking : 0
Post Crop Vignette Amount : 0
Grain Amount : 0
Luminance Noise Reduction Detail : 50
Luminance Noise Reduction Contrast : 0
Lens Profile Enable : 0
Lens Manual Distortion Amount : 0
Perspective Vertical : 0
Perspective Horizontal : 0
Perspective Rotate : 0.0
Perspective Scale : 100
Convert To Grayscale : False
Tone Curve Name : Linear
Camera Profile : Embedded
Lens Profile Setup : LensDefaults
Has Settings : True
Has Crop : False
Already Applied : True
Creator Postal Code : 19707
Creator Region : DE
Creator Country : United States of America
Creator City : Hockessin
Creator Work Email : rwphoto@me.com
Creator : R.W. Sinclair
Rights : R.W.Sinclair
Subject : 135, 35mm, DE, Ektar 100, Film, Kodak, Leica, Leitz, M6, Rangefinder, color, colour, delaware, usa
Tone Curve : 0, 0, 255, 255
Image Width : 300
Image Height : 198
Bits Per Sample : 8
Color Components : 3
Image Size : 300x198
Megapixels : 0.059