Uber Exif Photo
Keywords : dumbo, snow, snow dumbo, winter
By-line : Photographer: Jonathan Segura
Copyright Notice : Copyright: Jonathan Segura
Make : Canon
Camera Model Name : Canon EOS 5D Mark II
Modify Date : 2010:07:26 23:12:32
Artist : Photographer: Jonathan Segura
Copyright : Copyright: Jonathan Segura
Exposure Time : 1/30
F Number : 2.5
Exposure Program : Aperture-priority AE
ISO : 3200
Date/Time Original : 2009:12:19 23:38:35
Create Date : 2009:12:19 23:38:35
Shutter Speed Value : 1/30
Aperture Value : 2.5
Exposure Compensation : 0
Max Aperture Value : 2.0
Metering Mode : Spot
Focal Length : 35.0 mm
Custom Rendered : Normal
Exposure Mode : Auto
White Balance : Auto
Scene Capture Type : Standard
Contrast : Unknown (28)
Saturation : Normal
Sharpness : Unknown (25)
Profile Description : sRGB IEC61966-2.1
Date/Time Digitized : 2009:12:19 23:38:35.07-05:00
Exif Image Width : 1200
Exif Image Height : 800
Creator Tool : Adobe Photoshop Lightroom
Version : 6.1
Process Version : 5.7
Incremental Temperature : -11
Incremental Tint : 0
Exposure : +0.54
Shadows : 0
Brightness : 0
Luminance Smoothing : 72
Color Noise Reduction : 69
Chromatic Aberration R : 0
Chromatic Aberration B : 0
Vignette Amount : 0
Shadow Tint : 0
Red Hue : 0
Red Saturation : 0
Green Hue : 0
Green Saturation : 0
Blue Hue : 0
Blue Saturation : 0
Fill Light : 0
Vibrance : +30
Highlight Recovery : 100
Clarity : +20
Defringe : 0
Hue Adjustment Red : 0
Hue Adjustment Orange : 0
Hue Adjustment Yellow : 0
Hue Adjustment Green : 0
Hue Adjustment Aqua : 0
Hue Adjustment Blue : 0
Hue Adjustment Purple : 0
Hue Adjustment Magenta : 0
Saturation Adjustment Red : 0
Saturation Adjustment Orange : 0
Saturation Adjustment Yellow : 0
Saturation Adjustment Green : 0
Saturation Adjustment Aqua : 0
Saturation Adjustment Blue : 0
Saturation Adjustment Purple : 0
Saturation Adjustment Magenta : 0
Luminance Adjustment Red : 0
Luminance Adjustment Orange : 0
Luminance Adjustment Yellow : 0
Luminance Adjustment Green : 0
Luminance Adjustment Aqua : 0
Luminance Adjustment Blue : 0
Luminance Adjustment Purple : 0
Luminance Adjustment Magenta : 0
Split Toning Shadow Hue : 0
Split Toning Shadow Saturation : 0
Split Toning Highlight Hue : 0
Split Toning Highlight Saturation : 0
Split Toning Balance : 0
Parametric Shadows : 0
Parametric Darks : 0
Parametric Lights : 0
Parametric Highlights : 0
Parametric Shadow Split : 25
Parametric Midtone Split : 50
Parametric Highlight Split : 75
Sharpen Radius : +1.7
Sharpen Detail : 38
Sharpen Edge Masking : 31
Post Crop Vignette Amount : 0
Grain Amount : 0
Luminance Noise Reduction Detail : 50
Color Noise Reduction Detail : 50
Luminance Noise Reduction Contrast : 0
Lens Profile Enable : 0
Lens Manual Distortion Amount : 0
Perspective Vertical : 0
Perspective Horizontal : 0
Perspective Rotate : 0.0
Perspective Scale : 100
Convert To Grayscale : False
Tone Curve Name : Medium Contrast
Camera Profile : Embedded
Lens Profile Setup : LensDefaults
Has Settings : True
Has Crop : False
Already Applied : True
Creator : Photographer: Jonathan Segura
Rights : Copyright: Jonathan Segura
Subject : dumbo, snow, snow dumbo, winter
Flash Fired : False
Flash Return : No return detection
Flash Mode : Off
Flash Function : False
Flash Red Eye Mode : False
Tone Curve : 0, 0, 32, 22, 64, 56, 128, 128, 192, 196, 255, 255
Image Width : 300
Image Height : 200
Bits Per Sample : 8
Color Components : 3
Aperture : 2.5
Image Size : 300x200
Megapixels : 0.060
Scale Factor To 35 mm Equivalent : 4.6
Shutter Speed : 1/30
Create Date : 2009:12:19 23:38:35.07
Date/Time Original : 2009:12:19 23:38:35.07
Flash : Off, Did not fire
Circle Of Confusion : 0.007 mm
Field Of View : 12.8 deg
Focal Length : 35.0 mm (35 mm equivalent: 159.9 mm)
Hyperfocal Distance : 74.49 m
Light Value : 2.6