Uber Exif Photo
By-line : Joe Gilbert
Keywords : fuji zeiss
Copyright Notice : Joe Gilbert
Copyright Flag : True
URL : www.joegilbertphoto.com
Photometric Interpretation : RGB
Orientation : Horizontal (normal)
Planar Configuration : Chunky
Software : Adobe Photoshop CS4 Macintosh
Modify Date : 2012:05:14 13:19:47
Artist : Joe Gilbert
Copyright : Joe Gilbert
Color Space : sRGB
Exif Image Width : 1203
Exif Image Height : 800
Profile Description : sRGB IEC61966-2.1
Creator Tool : Adobe Photoshop Lightroom
Create Date : 2012:05:14 12:57:06-05:00
Marked : True
Web Statement : www.joegilbertphoto.com
Format : image/jpeg
Version : 5.7
White Balance : As Shot
Incremental Temperature : 0
Incremental Tint : 0
Exposure : +0.77
Shadows : 2
Brightness : 0
Contrast : 0
Saturation : -4
Sharpness : 0
Luminance Smoothing : 0
Color Noise Reduction : 0
Chromatic Aberration R : 0
Chromatic Aberration B : 0
Vignette Amount : 0
Shadow Tint : 0
Red Hue : 0
Red Saturation : 0
Green Hue : 0
Green Saturation : 0
Blue Hue : 0
Blue Saturation : 0
Fill Light : 9
Vibrance : +11
Highlight Recovery : 0
Clarity : +43
Defringe : 0
Hue Adjustment Red : 0
Hue Adjustment Orange : 0
Hue Adjustment Yellow : 0
Hue Adjustment Green : 0
Hue Adjustment Aqua : 0
Hue Adjustment Blue : 0
Hue Adjustment Purple : 0
Hue Adjustment Magenta : 0
Saturation Adjustment Red : 0
Saturation Adjustment Orange : 0
Saturation Adjustment Yellow : 0
Saturation Adjustment Green : 0
Saturation Adjustment Aqua : 0
Saturation Adjustment Blue : 0
Saturation Adjustment Purple : 0
Saturation Adjustment Magenta : 0
Luminance Adjustment Red : 0
Luminance Adjustment Orange : 0
Luminance Adjustment Yellow : 0
Luminance Adjustment Green : 0
Luminance Adjustment Aqua : 0
Luminance Adjustment Blue : 0
Luminance Adjustment Purple : 0
Luminance Adjustment Magenta : 0
Split Toning Shadow Hue : 0
Split Toning Shadow Saturation : 0
Split Toning Highlight Hue : 0
Split Toning Highlight Saturation : 0
Split Toning Balance : 0
Parametric Shadows : 0
Parametric Darks : 0
Parametric Lights : 0
Parametric Highlights : 0
Parametric Shadow Split : 25
Parametric Midtone Split : 50
Parametric Highlight Split : 75
Sharpen Radius : +1.0
Sharpen Detail : 25
Sharpen Edge Masking : 0
Post Crop Vignette Amount : 0
Convert To Grayscale : False
Tone Curve Name : Linear
Camera Profile : Embedded
Has Settings : True
Crop Top : 0
Crop Left : 0.067781
Crop Bottom : 0.911243
Crop Right : 0.979024
Crop Angle : 0
Crop Width : 3600
Crop Height : 2390
Crop Unit : pixels
Has Crop : True
Already Applied : True
Color Mode : RGB
ICC Profile Name : sRGB IEC61966-2.1
Samples Per Pixel : 3
Creator Postal Code : 70808
Creator Region : LA
Creator City : Baton Rouge
Creator Address : 8867 Highland Road, Box 272
Creator Work URL : www.joegilbertphoto.com
Creator : Joe Gilbert
Rights : Joe Gilbert
Subject : fuji zeiss
Tone Curve : 0, 0, 255, 255
Image Width : 300
Image Height : 200
Bits Per Sample : 8
Color Components : 3
Image Size : 300x200
Megapixels : 0.060