Uber Exif Photo
By-line : Joe Gilbert
Keywords : disney 2011
Copyright Notice : Joe Gilbert
Copyright Flag : True
URL : www.artoflightgallery.com
Photometric Interpretation : RGB
Make : LEICA CAMERA AG
Camera Model Name : LEICA X1
Orientation : Horizontal (normal)
Planar Configuration : Chunky
Software : Adobe Photoshop CS4 Macintosh
Modify Date : 2011:07:24 02:20:10
Artist : Joe Gilbert
Copyright : Joe Gilbert
Exposure Time : 1/200
F Number : 3.2
Exposure Program : Aperture-priority AE
ISO : 400
Date/Time Original : 2011:07:20 10:52:54
Create Date : 2011:07:20 10:52:54
Shutter Speed Value : 1/200
Aperture Value : 3.2
Exposure Compensation : +0.3
Max Aperture Value : 2.8
Subject Distance : 0.72 m
Metering Mode : Multi-segment
Light Source : Unknown
Focal Length : 24.0 mm
Color Space : sRGB
Exif Image Width : 869
Exif Image Height : 583
Sensing Method : One-chip color area
Custom Rendered : Normal
White Balance : Auto
Digital Zoom Ratio : 1
Focal Length In 35mm Format : 36 mm
Scene Capture Type : Landscape
Contrast : Normal
Saturation : Normal
Sharpness : Normal
Profile Description : sRGB IEC61966-2.1
Samples Per Pixel : 3
Date/Time Digitized : 2011:07:20 10:52:54-05:00
Creator Tool : Adobe Photoshop Lightroom
Marked : True
Web Statement : www.artoflightgallery.com
Format : image/jpeg
Version : 5.7
Incremental Temperature : 0
Incremental Tint : 0
Exposure : -0.51
Shadows : 0
Brightness : 0
Luminance Smoothing : 12
Color Noise Reduction : 0
Chromatic Aberration R : 0
Chromatic Aberration B : 0
Vignette Amount : 0
Shadow Tint : 0
Red Hue : 0
Red Saturation : 0
Green Hue : 0
Green Saturation : 0
Blue Hue : 0
Blue Saturation : 0
Fill Light : 18
Vibrance : +36
Highlight Recovery : 38
Clarity : +51
Defringe : 0
Hue Adjustment Red : 0
Hue Adjustment Orange : 0
Hue Adjustment Yellow : 0
Hue Adjustment Green : 0
Hue Adjustment Aqua : 0
Hue Adjustment Blue : 0
Hue Adjustment Purple : 0
Hue Adjustment Magenta : 0
Saturation Adjustment Red : 0
Saturation Adjustment Orange : 0
Saturation Adjustment Yellow : -55
Saturation Adjustment Green : +6
Saturation Adjustment Aqua : 0
Saturation Adjustment Blue : 0
Saturation Adjustment Purple : +26
Saturation Adjustment Magenta : +40
Luminance Adjustment Red : 0
Luminance Adjustment Orange : -13
Luminance Adjustment Yellow : -21
Luminance Adjustment Green : -13
Luminance Adjustment Aqua : 0
Luminance Adjustment Blue : 0
Luminance Adjustment Purple : 0
Luminance Adjustment Magenta : 0
Split Toning Shadow Hue : 0
Split Toning Shadow Saturation : 0
Split Toning Highlight Hue : 0
Split Toning Highlight Saturation : 0
Split Toning Balance : 0
Parametric Shadows : 0
Parametric Darks : +2
Parametric Lights : +13
Parametric Highlights : +34
Parametric Shadow Split : 25
Parametric Midtone Split : 50
Parametric Highlight Split : 75
Sharpen Radius : +1.0
Sharpen Detail : 25
Sharpen Edge Masking : 0
Post Crop Vignette Amount : -34
Post Crop Vignette Midpoint : 50
Post Crop Vignette Feather : 67
Post Crop Vignette Roundness : 0
Convert To Grayscale : False
Tone Curve Name : Linear
Camera Profile : Embedded
Has Settings : True
Crop Top : 0
Crop Left : 0.418543
Crop Bottom : 0.685292
Crop Right : 0.724832
Crop Angle : 0
Crop Width : 2407
Crop Height : 3600
Crop Unit : pixels
Has Crop : True
Already Applied : True
Color Mode : RGB
ICC Profile Name : sRGB IEC61966-2.1
Flash Fired : False
Flash Return : No return detection
Flash Mode : Off
Flash Function : False
Flash Red Eye Mode : False
Creator Postal Code : 70808
Creator Region : LA
Creator City : Baton Rouge
Creator Address : 8867 Highland Road, Box 272
Creator Work URL : www.artoflightgallery.com
Creator : Joe Gilbert
Rights : Joe Gilbert
Subject : disney 2011
Tone Curve : 0, 0, 255, 255
Image Width : 300
Image Height : 201
Bits Per Sample : 8
Color Components : 3
Aperture : 3.2
Image Size : 300x201
Megapixels : 0.060
Scale Factor To 35 mm Equivalent : 1.5
Shutter Speed : 1/200
Flash : Off, Did not fire
Circle Of Confusion : 0.020 mm
Depth Of Field : 0.11 m (0.67 - 0.78 m)
Field Of View : 53.1 deg
Focal Length : 24.0 mm (35 mm equivalent: 36.0 mm)
Hyperfocal Distance : 8.99 m
Light Value : 9.0