Uber Exif Photo
By-line : Joe Gilbert
Keywords : golden meadow
Copyright Notice : Joe Gilbert
Copyright Flag : True
URL : www.artoflightgallery.com
Photometric Interpretation : RGB
Make : LEICA CAMERA AG
Camera Model Name : LEICA X1
Orientation : Horizontal (normal)
Planar Configuration : Chunky
Software : Adobe Photoshop CS4 Macintosh
Modify Date : 2011:07:07 15:28:33
Artist : Joe Gilbert
Copyright : Joe Gilbert
Exposure Time : 1/640
F Number : 6.3
Exposure Program : Aperture-priority AE
ISO : 200
Date/Time Original : 2011:07:01 08:47:17
Create Date : 2011:07:01 08:47:17
Shutter Speed Value : 1/640
Aperture Value : 6.3
Exposure Compensation : +0.3
Max Aperture Value : 2.8
Subject Distance : 1 m
Metering Mode : Multi-segment
Light Source : Unknown
Focal Length : 24.0 mm
Color Space : sRGB
Exif Image Width : 1203
Exif Image Height : 805
Sensing Method : One-chip color area
Custom Rendered : Normal
White Balance : Auto
Digital Zoom Ratio : 1
Focal Length In 35mm Format : 36 mm
Scene Capture Type : Landscape
Contrast : Normal
Saturation : Normal
Sharpness : Normal
Samples Per Pixel : 3
Date/Time Digitized : 2011:07:01 08:47:17-05:00
Creator Tool : Adobe Photoshop Lightroom
Marked : True
Web Statement : www.artoflightgallery.com
Format : image/jpeg
Version : 5.6
Incremental Temperature : 0
Incremental Tint : 0
Exposure : 0.00
Shadows : 6
Brightness : 0
Luminance Smoothing : 10
Color Noise Reduction : 0
Chromatic Aberration R : 0
Chromatic Aberration B : 0
Vignette Amount : 0
Shadow Tint : 0
Red Hue : 0
Red Saturation : 0
Green Hue : 0
Green Saturation : 0
Blue Hue : 0
Blue Saturation : 0
Fill Light : 31
Highlight Recovery : 0
Clarity : +25
Defringe : 0
Gray Mixer Red : +17
Gray Mixer Orange : 0
Gray Mixer Yellow : -4
Gray Mixer Green : -34
Gray Mixer Aqua : -28
Gray Mixer Blue : -11
Gray Mixer Purple : -15
Gray Mixer Magenta : -2
Split Toning Shadow Hue : 0
Split Toning Shadow Saturation : 0
Split Toning Highlight Hue : 0
Split Toning Highlight Saturation : 0
Split Toning Balance : 0
Parametric Shadows : 0
Parametric Darks : 0
Parametric Lights : 0
Parametric Highlights : +32
Parametric Shadow Split : 25
Parametric Midtone Split : 50
Parametric Highlight Split : 75
Sharpen Radius : +0.7
Sharpen Detail : 33
Sharpen Edge Masking : 0
Post Crop Vignette Amount : -21
Post Crop Vignette Midpoint : 50
Post Crop Vignette Feather : 86
Post Crop Vignette Roundness : 0
Convert To Grayscale : True
Tone Curve Name : Medium Contrast
Camera Profile : Embedded
Has Settings : True
Crop Top : 0.002527
Crop Left : 0.015446
Crop Bottom : 0.997473
Crop Right : 0.984554
Crop Angle : 0.7
Crop Width : 3600
Crop Height : 2407
Crop Unit : pixels
Has Crop : True
Already Applied : True
Color Mode : RGB
ICC Profile Name : sRGB IEC61966-2.1
Flash Fired : False
Flash Return : No return detection
Flash Mode : Off
Flash Function : False
Flash Red Eye Mode : False
Creator : Joe Gilbert
Rights : Joe Gilbert
Subject : golden meadow
Tone Curve : 0, 0, 32, 22, 64, 56, 128, 128, 192, 196, 255, 255
Creator Postal Code : 70808
Creator Region : LA
Creator City : Baton Rouge
Creator Address : 8867 Highland Road, Box 272
Creator Work URL : www.artoflightgallery.com
Image Width : 300
Image Height : 201
Bits Per Sample : 8
Color Components : 1
Aperture : 6.3
Image Size : 300x201
Megapixels : 0.060
Scale Factor To 35 mm Equivalent : 1.5
Shutter Speed : 1/640
Flash : Off, Did not fire
Circle Of Confusion : 0.020 mm
Depth Of Field : 0.45 m (0.82 - 1.27 m)
Field Of View : 53.1 deg
Focal Length : 24.0 mm (35 mm equivalent: 36.0 mm)
Hyperfocal Distance : 4.56 m
Light Value : 13.6