Uber Exif Photo
Make : Leica Camera AG
Camera Model Name : M9 Digital Camera
Software : Adobe Photoshop Lightroom Classic 7.1 (Macintosh)
Modify Date : 2018:01:20 08:08:42
Exposure Time : 1/60
F Number : 2.4
Exposure Program : Manual
ISO : 800
Date/Time Original : 2017:07:05 12:20:23
Create Date : 2017:07:05 12:20:23
Shutter Speed Value : 1/60
Aperture Value : 2.4
Exposure Compensation : -0.332
Max Aperture Value : 1.4
Metering Mode : Center-weighted average
Light Source : Unknown
Flash : No Flash
Focal Length : 50.0 mm
Color Space : sRGB
Scene Type : Directly photographed
Exposure Mode : Manual
White Balance : Auto
Digital Zoom Ratio : 0
Focal Length In 35mm Format : 50 mm
Scene Capture Type : Standard
Serial Number : 3841783
Lens Model : Leica Summilux-M 50mm f/1.4 ASPH.
Profile Description : sRGB IEC61966-2.1
Lens : Leica Summilux-M 50mm f/1.4 ASPH.
Format : image/jpeg
Creator Tool : Adobe Photoshop Lightroom Classic 7.1 (Macintosh)
Date Created : 2017:07:05 12:20:23
Photographic Sensitivity : 800
Version : 10.1
Process Version : 6.7
Incremental Temperature : 0
Incremental Tint : 0
Sharpness : 0
Luminance Smoothing : 0
Color Noise Reduction : 0
Vignette Amount : 0
Shadow Tint : 0
Red Hue : 0
Red Saturation : 0
Green Hue : 0
Green Saturation : 0
Blue Hue : 0
Blue Saturation : 0
Gray Mixer Red : +1
Gray Mixer Orange : -7
Gray Mixer Yellow : -5
Gray Mixer Green : -1
Gray Mixer Aqua : +34
Gray Mixer Blue : +22
Gray Mixer Purple : +44
Gray Mixer Magenta : 0
Split Toning Shadow Hue : 0
Split Toning Shadow Saturation : 0
Split Toning Highlight Hue : 0
Split Toning Highlight Saturation : 0
Split Toning Balance : 0
Parametric Shadows : +17
Parametric Darks : +11
Parametric Lights : -8
Parametric Highlights : +40
Parametric Shadow Split : 25
Parametric Midtone Split : 50
Parametric Highlight Split : 75
Sharpen Radius : +1.0
Sharpen Detail : 25
Sharpen Edge Masking : 0
Post Crop Vignette Amount : 0
Grain Amount : 0
Lens Profile Enable : 0
Lens Manual Distortion Amount : 0
Perspective Vertical : 0
Perspective Horizontal : 0
Perspective Rotate : 0.0
Perspective Scale : 100
Perspective Aspect : 0
Perspective Upright : Off
Perspective X : 0.00
Perspective Y : 0.00
Auto Lateral CA : 0
Exposure 2012 : +0.35
Contrast 2012 : +5
Highlights 2012 : -13
Shadows 2012 : -5
Whites 2012 : +2
Blacks 2012 : -12
Clarity 2012 : -6
Dehaze : 0
Convert To Grayscale : True
Tone Curve Name : Linear
Tone Curve Name 2012 : Linear
Camera Profile : Embedded
Lens Profile Setup : LensDefaults
Has Settings : True
Has Crop : False
Already Applied : True
Tone Curve : 0, 0, 255, 255
Tone Curve Red : 0, 0, 255, 255
Tone Curve Green : 0, 0, 255, 255
Tone Curve Blue : 0, 0, 255, 255
Tone Curve PV2012 : 0, 0, 255, 255
Tone Curve PV2012 Red : 0, 0, 255, 255
Tone Curve PV2012 Green : 0, 0, 255, 255
Tone Curve PV2012 Blue : 0, 0, 255, 255
Image Width : 300
Image Height : 273
Bits Per Sample : 8
Color Components : 3
Aperture : 2.4
Image Size : 300x273
Megapixels : 0.082
Scale Factor To 35 mm Equivalent : 1.0
Shutter Speed : 1/60
Circle Of Confusion : 0.030 mm
Field Of View : 39.6 deg
Focal Length : 50.0 mm (35 mm equivalent: 50.0 mm)
Hyperfocal Distance : 34.67 m
Light Value : 5.4
Lens ID : Summilux-M 50mm f/1.4 ASPH.