Uber Exif Photo
Keywords : 75 Summicron ASPH, M10
Make : Leica Camera AG
Camera Model Name : LEICA M10
Software : Adobe Photoshop Lightroom Classic 8.1 (Macintosh)
Modify Date : 2019:01:26 15:13:48
Exposure Time : 1/1500
F Number : 4.0
Exposure Program : Aperture-priority AE
ISO : 100
Date/Time Original : 2018:10:25 09:02:20
Create Date : 2018:10:25 09:02:20
Shutter Speed Value : 1/1500
Aperture Value : 4.0
Exposure Compensation : -1.33
Max Aperture Value : 2.0
Metering Mode : Center-weighted average
Light Source : Unknown
Flash : No Flash
Focal Length : 75.0 mm
Color Space : Uncalibrated
Scene Type : Directly photographed
Custom Rendered : Normal
Exposure Mode : Auto
White Balance : Auto
Digital Zoom Ratio : 0
Scene Capture Type : Standard
Contrast : Normal
Saturation : Normal
Sharpness : Normal
Serial Number : 5255491
Lens Info : 75mm f/2
Lens Make : Leica Camera AG
Lens Model : Apo-Summicron-M 1:2/75 ASPH .
Profile Description : Adobe RGB (1998)
Creator Tool : Adobe Photoshop Lightroom Classic 8.1 (Macintosh)
Format : image/jpeg
Lens : Apo-Summicron-M 1:2/75 ASPH .
Approximate Focus Distance : 29.7
Date Created : 2018:10:25 09:02:20
Version : 11.1
Process Version : 11.0
Color Temperature : 4800
Tint : +16
Luminance Smoothing : 5
Color Noise Reduction : 25
Vignette Amount : 0
Shadow Tint : 0
Red Hue : 0
Red Saturation : 0
Green Hue : 0
Green Saturation : 0
Blue Hue : 0
Blue Saturation : 0
Vibrance : 0
Hue Adjustment Red : 0
Hue Adjustment Orange : 0
Hue Adjustment Yellow : 0
Hue Adjustment Green : 0
Hue Adjustment Aqua : 0
Hue Adjustment Blue : 0
Hue Adjustment Purple : 0
Hue Adjustment Magenta : 0
Saturation Adjustment Red : 0
Saturation Adjustment Orange : 0
Saturation Adjustment Yellow : 0
Saturation Adjustment Green : 0
Saturation Adjustment Aqua : 0
Saturation Adjustment Blue : 0
Saturation Adjustment Purple : 0
Saturation Adjustment Magenta : 0
Luminance Adjustment Red : 0
Luminance Adjustment Orange : 0
Luminance Adjustment Yellow : 0
Luminance Adjustment Green : 0
Luminance Adjustment Aqua : 0
Luminance Adjustment Blue : 0
Luminance Adjustment Purple : 0
Luminance Adjustment Magenta : 0
Split Toning Shadow Hue : 0
Split Toning Shadow Saturation : 0
Split Toning Highlight Hue : 0
Split Toning Highlight Saturation : 0
Split Toning Balance : 0
Parametric Shadows : 0
Parametric Darks : 0
Parametric Lights : 0
Parametric Highlights : 0
Parametric Shadow Split : 25
Parametric Midtone Split : 50
Parametric Highlight Split : 75
Sharpen Radius : +1.0
Sharpen Detail : 25
Sharpen Edge Masking : 0
Post Crop Vignette Amount : 0
Grain Amount : 0
Luminance Noise Reduction Detail : 50
Color Noise Reduction Detail : 50
Luminance Noise Reduction Contrast : 0
Color Noise Reduction Smoothness : 50
Lens Profile Enable : 1
Lens Manual Distortion Amount : 0
Perspective Vertical : 0
Perspective Horizontal : 0
Perspective Rotate : 0.0
Perspective Scale : 100
Perspective Aspect : 0
Perspective Upright : Off
Perspective X : 0.00
Perspective Y : 0.00
Auto Lateral CA : 1
Exposure 2012 : -0.10
Contrast 2012 : 0
Highlights 2012 : -44
Shadows 2012 : +100
Whites 2012 : +30
Blacks 2012 : +27
Clarity 2012 : 0
Defringe Purple Amount : 0
Defringe Purple Hue Lo : 30
Defringe Purple Hue Hi : 70
Defringe Green Amount : 0
Defringe Green Hue Lo : 40
Defringe Green Hue Hi : 60
Dehaze : 0
Tone Map Strength : 0
Convert To Grayscale : False
Override Look Vignette : False
Tone Curve Name : Medium Contrast
Tone Curve Name 2012 : Linear
Camera Profile : Adobe Standard
Lens Profile Setup : LensDefaults
Lens Profile Name : Adobe (Leica APO-SUMMICRON-M 75 mm f/2 ASPH.)
Lens Profile Filename : Leica Camera AG (Leica APO-SUMMICRON-M 75 mm f2 ASPH.) - RAW.lcp
Lens Profile Distortion Scale : 100
Lens Profile Chromatic Aberration Scale : 100
Lens Profile Vignetting Scale : 100
Has Settings : True
Crop Top : 0.033648
Crop Left : 0.016011
Crop Bottom : 0.882264
Crop Right : 0.586214
Crop Angle : -0.789334
Crop Constrain To Warp : 0
Has Crop : True
Already Applied : True
Subject : 75 Summicron ASPH, M10
Tone Curve : 0, 0, 32, 22, 64, 56, 128, 128, 192, 196, 255, 255
Tone Curve Red : 0, 0, 255, 255
Tone Curve Green : 0, 0, 255, 255
Tone Curve Blue : 0, 0, 255, 255
Tone Curve PV2012 : 0, 0, 255, 255
Tone Curve PV2012 Red : 0, 0, 255, 255
Tone Curve PV2012 Green : 0, 0, 255, 255
Tone Curve PV2012 Blue : 0, 0, 255, 255
Circ Grad Based Corr What : Correction
Circ Grad Based Corr Amount : 1.000000
Circ Grad Based Corr Active : true
Circ Grad Based Corr Exposure : 0.000000
Circ Grad Based Corr Saturation : 0.000000
Circ Grad Based Corr Contrast : 0.000000
Circ Grad Based Corr Clarity : 0.000000
Circ Grad Based Corr Sharpness : 0.000000
Circ Grad Based Corr Brightness : 0.000000
Circ Grad Based Corr Toning Hue : 240.000000
Circ Grad Based Corr Toning Saturation : 0.000000
Circ Grad Based Corr Exposure 2012 : 0.000000
Circ Grad Based Corr Contrast 2012 : 0.479616
Circ Grad Based Corr Highlights 2012 : 0.000000
Circ Grad Based Corr Shadows 2012 : -0.135776
Circ Grad Based Corr Whites 2012 : 0.342942
Circ Grad Based Corr Blacks 2012 : 0.000000
Circ Grad Based Corr Clarity 2012 : 0.000000
Circ Grad Based Corr Dehaze : 0.000000
Circ Grad Based Corr Luminance Noise : 0.000000
Circ Grad Based Corr Moire : 0.000000
Circ Grad Based Corr Defringe : 0.000000
Circ Grad Based Corr Temperature : 0.000000
Circ Grad Based Corr Tint : 0.000000
Circ Grad Based Corr Mask What : Mask/CircularGradient
Circ Grad Based Corr Mask Value : 1.000000
Circ Grad Based Corr Mask Top : 0.395163
Circ Grad Based Corr Mask Left : 0.245715
Circ Grad Based Corr Mask Bottom : 0.889551
Circ Grad Based Corr Mask Right : 0.507804
Circ Grad Based Corr Mask Angle : -0.789334
Circ Grad Based Corr Mask Midpoint : +50
Circ Grad Based Corr Mask Roundness : 0
Circ Grad Based Corr Mask Feather : +50
Circ Grad Based Corr Mask Flipped : true
Circ Grad Based Corr Mask Version : +2
Circ Grad Based Corr Range Mask Version : +2
Circ Grad Based Corr Range Mask Type : 0
Circ Grad Based Corr Range Mask Color Amount : 0.500000
Circ Grad Based Corr Range Mask Lum Min : 0.000000
Circ Grad Based Corr Range Mask Lum Max : 1.000000
Circ Grad Based Corr Range Mask Lum Feather : 0.500000
Circ Grad Based Corr Range Mask Depth Min : 0.000000
Circ Grad Based Corr Range Mask Depth Max : 1.000000
Circ Grad Based Corr Range Mask Depth Feather : 0.500000
Look Name : Adobe Color
Look Amount : 1.000000
Look Supports Amount : false
Look Supports Monochrome : false
Look Supports Output Referred : false
Look Group : Profiles
Look Parameters Version : 11.1
Look Parameters Process Version : 11.0
Look Parameters Convert To Grayscale : False
Look Parameters Camera Profile : Adobe Standard
Look Parameters Look Table : E1095149FDB39D7A057BAB208837E2E1
Look Parameters Tone Curve PV2012 : 0, 0, 22, 16, 40, 35, 127, 127, 224, 230, 240, 246, 255, 255
Look Parameters Tone Curve PV2012 Red : 0, 0, 255, 255
Look Parameters Tone Curve PV2012 Green : 0, 0, 255, 255
Look Parameters Tone Curve PV2012 Blue : 0, 0, 255, 255
Image Width : 350
Image Height : 357
Bits Per Sample : 8
Color Components : 3
Aperture : 4.0
Image Size : 350x357
Megapixels : 0.125
Scale Factor To 35 mm Equivalent : 14.3
Shutter Speed : 1/1500
Circle Of Confusion : 0.002 mm
Depth Of Field : 2.63 m (28.44 - 31.07 m)
Field Of View : 1.9 deg
Focal Length : 75.0 mm (35 mm equivalent: 1073.1 mm)
Hyperfocal Distance : 669.67 m
Light Value : 14.6
Lens ID : Apo-Summicron-M 1:2/75 ASPH .