Uber Exif Photo
Make : Leica Camera AG
Camera Model Name : M9 Digital Camera
Software : Adobe Photoshop Lightroom Classic 8.1 (Macintosh)
Modify Date : 2019:01:25 10:23:08
Exposure Time : 1/90
F Number : 2.4
Exposure Program : Aperture-priority AE
ISO : 640
Date/Time Original : 2016:04:23 11:05:33
Create Date : 2016:04:23 11:05:33
Shutter Speed Value : 1/90
Aperture Value : 2.4
Exposure Compensation : 0
Max Aperture Value : 1.0
Metering Mode : Center-weighted average
Light Source : Unknown
Flash : No Flash
Color Space : Uncalibrated
Scene Type : Directly photographed
Exposure Mode : Manual
White Balance : Auto
Digital Zoom Ratio : 0
Scene Capture Type : Standard
Contrast : Normal
Saturation : Normal
Sharpness : Normal
Profile Description : Adobe RGB (1998)
Already Applied : True
Auto Lateral CA : 0
Auto White Version : 134348800
Blacks 2012 : -29
Blue Hue : 0
Blue Saturation : 0
Camera Profile : Embedded
Clarity 2012 : +13
Color Noise Reduction : 0
Contrast 2012 : +11
Convert To Grayscale : True
Crop Angle : 0
Crop Bottom : 0.878788
Crop Constrain To Warp : 0
Crop Left : 0
Crop Right : 0.662338
Crop Top : 0.199134
Exposure 2012 : +0.20
Grain Amount : 0
Gray Mixer Aqua : -18
Gray Mixer Blue : +9
Gray Mixer Green : -26
Gray Mixer Magenta : +4
Gray Mixer Orange : -18
Gray Mixer Purple : +15
Gray Mixer Red : -9
Gray Mixer Yellow : -22
Green Hue : 0
Green Saturation : 0
Has Crop : True
Has Settings : True
Highlights 2012 : -100
Incremental Temperature : 0
Incremental Tint : 0
Lens Manual Distortion Amount : 0
Lens Profile Enable : 0
Lens Profile Setup : LensDefaults
Luminance Smoothing : 0
Parametric Darks : -7
Parametric Highlight Split : 75
Parametric Highlights : +31
Parametric Lights : +21
Parametric Midtone Split : 50
Parametric Shadow Split : 25
Parametric Shadows : -5
Perspective Aspect : 0
Perspective Horizontal : 0
Perspective Rotate : 0.0
Perspective Scale : 100
Perspective Upright : Off
Perspective Vertical : 0
Post Crop Vignette Amount : 0
Process Version : 6.7
Red Hue : 0
Red Saturation : 0
Shadow Tint : 0
Shadows 2012 : +100
Sharpen Detail : 25
Sharpen Edge Masking : 0
Sharpen Radius : +1.0
Split Toning Balance : 0
Split Toning Highlight Hue : 0
Split Toning Highlight Saturation : 0
Split Toning Shadow Hue : 0
Split Toning Shadow Saturation : 0
Tone Curve Name : Linear
Tone Curve Name 2012 : Linear
Version : 8.7.1
Vignette Amount : 0
Whites 2012 : +29
Format : image/jpeg
Creator Tool : Adobe Photoshop Lightroom Classic 8.1 (Macintosh)
Date Created : 2016:04:23 11:05:33
Photographic Sensitivity : 640
Tone Curve : 0, 0, 255, 255
Tone Curve Blue : 0, 0, 255, 255
Tone Curve Green : 0, 0, 255, 255
Tone Curve PV2012 : 0, 0, 255, 255
Tone Curve PV2012 Blue : 0, 0, 255, 255
Tone Curve PV2012 Green : 0, 0, 255, 255
Tone Curve PV2012 Red : 0, 0, 255, 255
Tone Curve Red : 0, 0, 255, 255
Image Width : 350
Image Height : 539
Bits Per Sample : 8
Color Components : 3
Aperture : 2.4
Image Size : 350x539
Megapixels : 0.189
Shutter Speed : 1/90
Light Value : 6.3