Uber Exif Photo
Keywords : 50 Summilux, M10
Make : Leica Camera AG
Camera Model Name : LEICA M10
Software : Adobe Photoshop Lightroom Classic 8.0 (Macintosh)
Modify Date : 2018:10:31 20:12:26
Exposure Time : 1/350
F Number : 4.8
Exposure Program : Aperture-priority AE
ISO : 400
Date/Time Original : 2018:10:07 16:00:27
Create Date : 2018:10:07 16:00:27
Shutter Speed Value : 1/350
Aperture Value : 4.8
Exposure Compensation : +2/3
Max Aperture Value : 1.4
Metering Mode : Center-weighted average
Light Source : Unknown
Flash : No Flash
Focal Length : 50.0 mm
Color Space : sRGB
Scene Type : Directly photographed
Exposure Mode : Auto
White Balance : Auto
Digital Zoom Ratio : 0
Scene Capture Type : Standard
Contrast : Normal
Saturation : Normal
Sharpness : Normal
Serial Number : 5255491
Lens Info : 50mm f/1.4
Lens Model : Summilux-M 1:1.4/50 ASPH.
Profile Description : sRGB IEC61966-2.1
Approximate Focus Distance : 36.1
Distortion Correction Already Applied : True
Lateral Chromatic Aberration Correction Already Applied : True
Lens : Summilux-M 1:1.4/50 ASPH.
Already Applied : True
Auto Lateral CA : 1
Blacks 2012 : -48
Blue Hue : 0
Blue Saturation : 0
Camera Profile : Adobe Standard
Clarity 2012 : -52
Color Noise Reduction : 25
Color Noise Reduction Detail : 50
Color Noise Reduction Smoothness : 50
Contrast 2012 : -9
Convert To Grayscale : False
Defringe Green Amount : 0
Defringe Green Hue Hi : 60
Defringe Green Hue Lo : 40
Defringe Purple Amount : 0
Defringe Purple Hue Hi : 70
Defringe Purple Hue Lo : 30
Dehaze : +43
Exposure 2012 : -1.15
Grain Amount : 0
Green Hue : 0
Green Saturation : 0
Has Crop : False
Has Settings : True
Highlights 2012 : -89
Hue Adjustment Aqua : 0
Hue Adjustment Blue : 0
Hue Adjustment Green : 0
Hue Adjustment Magenta : 0
Hue Adjustment Orange : 0
Hue Adjustment Purple : 0
Hue Adjustment Red : 0
Hue Adjustment Yellow : 0
Lens Manual Distortion Amount : 0
Lens Profile Chromatic Aberration Scale : 100
Lens Profile Distortion Scale : 100
Lens Profile Enable : 1
Lens Profile Filename : Leica Camera AG (Leica SUMMILUX-M 50 mm f1.4 ASPH.) - RAW.lcp
Lens Profile Name : Adobe (Leica SUMMILUX-M 50 mm f/1.4 ASPH.)
Lens Profile Setup : LensDefaults
Lens Profile Vignetting Scale : 100
Luminance Adjustment Aqua : 0
Luminance Adjustment Blue : 0
Luminance Adjustment Green : 0
Luminance Adjustment Magenta : 0
Luminance Adjustment Orange : 0
Luminance Adjustment Purple : 0
Luminance Adjustment Red : 0
Luminance Adjustment Yellow : 0
Luminance Noise Reduction Contrast : 0
Luminance Noise Reduction Detail : 50
Luminance Smoothing : 10
Override Look Vignette : False
Parametric Darks : +16
Parametric Highlight Split : 75
Parametric Highlights : +59
Parametric Lights : +17
Parametric Midtone Split : 50
Parametric Shadow Split : 25
Parametric Shadows : +7
Perspective Aspect : 0
Perspective Horizontal : 0
Perspective Rotate : 0.0
Perspective Scale : 100
Perspective Upright : Off
Perspective Vertical : 0
Perspective X : 0.00
Perspective Y : 0.00
Post Crop Vignette Amount : 0
Process Version : 10.0
Red Hue : 0
Red Saturation : 0
Saturation Adjustment Aqua : 0
Saturation Adjustment Blue : 0
Saturation Adjustment Green : 0
Saturation Adjustment Magenta : 0
Saturation Adjustment Orange : 0
Saturation Adjustment Purple : 0
Saturation Adjustment Red : 0
Saturation Adjustment Yellow : 0
Shadow Tint : 0
Shadows 2012 : +100
Sharpen Detail : 25
Sharpen Edge Masking : 0
Sharpen Radius : +1.0
Split Toning Balance : 0
Split Toning Highlight Hue : 0
Split Toning Highlight Saturation : 0
Split Toning Shadow Hue : 0
Split Toning Shadow Saturation : 0
Color Temperature : 5900
Tint : +11
Tone Curve Name : Linear
Tone Curve Name 2012 : Linear
Tone Map Strength : 0
Version : 10.4
Vibrance : 0
Vignette Amount : 0
Whites 2012 : +50
Format : image/jpeg
Creator Tool : Adobe Photoshop Lightroom Classic 8.0 (Macintosh)
Photographic Sensitivity : 400
Date Created : 2018:10:07 16:00:27
Look Amount : 1.000000
Look Group : Profiles
Look Name : Adobe Color
Look Supports Amount : false
Look Supports Monochrome : false
Look Supports Output Referred : false
Look Parameters Tone Curve PV2012 : 0, 0, 22, 16, 40, 35, 127, 127, 224, 230, 240, 246, 255, 255
Look Parameters Tone Curve PV2012 Blue : 0, 0, 255, 255
Look Parameters Tone Curve PV2012 Green : 0, 0, 255, 255
Look Parameters Tone Curve PV2012 Red : 0, 0, 255, 255
Tone Curve : 0, 0, 255, 255
Tone Curve Blue : 0, 0, 255, 255
Tone Curve Green : 0, 0, 255, 255
Tone Curve PV2012 : 0, 0, 255, 255
Tone Curve PV2012 Blue : 0, 0, 255, 255
Tone Curve PV2012 Green : 0, 0, 255, 255
Tone Curve PV2012 Red : 0, 0, 255, 255
Tone Curve Red : 0, 0, 255, 255
Subject : 50 Summilux, M10
Image Width : 350
Image Height : 233
Bits Per Sample : 8
Color Components : 3
Aperture : 4.8
Image Size : 350x233
Megapixels : 0.082
Scale Factor To 35 mm Equivalent : 17.0
Shutter Speed : 1/350
Circle Of Confusion : 0.002 mm
Depth Of Field : 8.96 m (32.17 - 41.13 m)
Field Of View : 2.4 deg
Focal Length : 50.0 mm (35 mm equivalent: 850.7 mm)
Hyperfocal Distance : 294.91 m
Light Value : 11.0
Lens ID : Summilux-M 1:1.4/50 ASPH.