Uber Exif Photo
Keywords : M9 75 Sumicron
Make : Leica Camera AG
Camera Model Name : M9 Digital Camera
Software : Adobe Photoshop Lightroom Classic 7.2 (Macintosh)
Modify Date : 2018:07:09 22:28:19
Exposure Time : 1/500
F Number : 4.0
Exposure Program : Manual
ISO : 400
Date/Time Original : 2018:04:14 07:28:35
Create Date : 2018:04:14 07:28:35
Shutter Speed Value : 1/500
Aperture Value : 4.0
Exposure Compensation : 0
Max Aperture Value : 1.4
Metering Mode : Center-weighted average
Light Source : Unknown
Flash : No Flash
Focal Length : 50.0 mm
Color Space : sRGB
Scene Type : Directly photographed
Exposure Mode : Manual
White Balance : Auto
Digital Zoom Ratio : 0
Focal Length In 35mm Format : 50 mm
Scene Capture Type : Standard
Contrast : Normal
Saturation : Normal
Sharpness : Normal
Lens Model : Leica Summilux-M 50mm f/1.4 ASPH.
Profile Description : sRGB IEC61966-2.1
Lens : Leica Summilux-M 50mm f/1.4 ASPH.
Format : image/jpeg
Creator Tool : Adobe Photoshop Lightroom Classic 7.2 (Macintosh)
Photographic Sensitivity : 400
Date Created : 2018:04:14 07:28:35
Version : 10.2
Process Version : 10.0
Incremental Temperature : 0
Incremental Tint : 0
Luminance Smoothing : 0
Color Noise Reduction : 0
Vignette Amount : 0
Shadow Tint : 0
Red Hue : 0
Red Saturation : 0
Green Hue : 0
Green Saturation : 0
Blue Hue : 0
Blue Saturation : 0
Vibrance : 0
Hue Adjustment Red : 0
Hue Adjustment Orange : 0
Hue Adjustment Yellow : 0
Hue Adjustment Green : 0
Hue Adjustment Aqua : 0
Hue Adjustment Blue : 0
Hue Adjustment Purple : 0
Hue Adjustment Magenta : 0
Saturation Adjustment Red : 0
Saturation Adjustment Orange : 0
Saturation Adjustment Yellow : 0
Saturation Adjustment Green : 0
Saturation Adjustment Aqua : 0
Saturation Adjustment Blue : 0
Saturation Adjustment Purple : 0
Saturation Adjustment Magenta : 0
Luminance Adjustment Red : 0
Luminance Adjustment Orange : 0
Luminance Adjustment Yellow : 0
Luminance Adjustment Green : 0
Luminance Adjustment Aqua : 0
Luminance Adjustment Blue : 0
Luminance Adjustment Purple : 0
Luminance Adjustment Magenta : 0
Split Toning Shadow Hue : 0
Split Toning Shadow Saturation : 0
Split Toning Highlight Hue : 0
Split Toning Highlight Saturation : 0
Split Toning Balance : 0
Parametric Shadows : 0
Parametric Darks : 0
Parametric Lights : 0
Parametric Highlights : 0
Parametric Shadow Split : 25
Parametric Midtone Split : 50
Parametric Highlight Split : 75
Sharpen Radius : +1.0
Sharpen Detail : 25
Sharpen Edge Masking : 0
Post Crop Vignette Amount : 0
Grain Amount : 27
Grain Size : 25
Grain Frequency : 50
Lens Profile Enable : 0
Lens Manual Distortion Amount : 0
Perspective Vertical : 0
Perspective Horizontal : 0
Perspective Rotate : 0.0
Perspective Scale : 100
Perspective Aspect : 0
Perspective Upright : Off
Perspective X : 0.00
Perspective Y : 0.00
Auto Lateral CA : 0
Exposure 2012 : 0.00
Contrast 2012 : 0
Highlights 2012 : 0
Shadows 2012 : 0
Whites 2012 : 0
Blacks 2012 : 0
Clarity 2012 : 0
Defringe Purple Amount : 0
Defringe Purple Hue Lo : 30
Defringe Purple Hue Hi : 70
Defringe Green Amount : 0
Defringe Green Hue Lo : 40
Defringe Green Hue Hi : 60
Dehaze : 0
Convert To Grayscale : False
Tone Curve Name : Linear
Tone Curve Name 2012 : Linear
Camera Profile : Embedded
Lens Profile Setup : LensDefaults
Has Settings : True
Has Crop : False
Already Applied : True
Subject : M9 75 Sumicron
Tone Curve : 0, 0, 255, 255
Tone Curve Red : 0, 0, 255, 255
Tone Curve Green : 0, 0, 255, 255
Tone Curve Blue : 0, 0, 255, 255
Tone Curve PV2012 : 0, 0, 255, 255
Tone Curve PV2012 Red : 0, 0, 255, 255
Tone Curve PV2012 Green : 0, 0, 255, 255
Tone Curve PV2012 Blue : 0, 0, 255, 255
Paint Correction What : Correction
Paint Correction Amount : 1.000000
Paint Correction Active : true
Paint Correction Saturation : 0.000000
Paint Correction Sharpness : 0.000000
Paint Correction Brightness : 0.000000
Paint Correction Toning Hue : 240.000000
Paint Correction Toning Saturation : 0.000000
Paint Correction Exposure 2012 : 0.068004
Paint Correction Contrast 2012 : 0.000000
Paint Correction Highlights 2012 : 0.000000
Paint Correction Shadows 2012 : 0.000000
Paint Correction Whites 2012 : 0.070934
Paint Correction Blacks 2012 : 0.000000
Paint Correction Clarity 2012 : 0.000000
Paint Correction Dehaze : 0.000000
Paint Correction Luminance Noise : 0.000000
Paint Correction Moire : 0.000000
Paint Correction Defringe : 0.000000
Paint Correction Temperature : 0.000000
Paint Correction Tint : 0.000000
Paint Correction Mask What : Mask/Paint
Paint Correction Mask Value : 0.521745
Paint Correction Mask Radius : 0.088446
Paint Correction Mask Flow : 1.000000
Paint Correction Mask Center Weight : 0.000000
Paint Correction Range Mask Version : +2
Paint Correction Range Mask Type : 0
Paint Correction Range Mask Color Amount : 0.500000
Paint Correction Range Mask Lum Min : 0.000000
Paint Correction Range Mask Lum Max : 1.000000
Paint Correction Range Mask Lum Feather : 0.500000
Image Width : 350
Image Height : 394
Bits Per Sample : 8
Color Components : 3
Aperture : 4.0
Image Size : 350x394
Megapixels : 0.138
Scale Factor To 35 mm Equivalent : 1.0
Shutter Speed : 1/500
Circle Of Confusion : 0.030 mm
Field Of View : 39.6 deg
Focal Length : 50.0 mm (35 mm equivalent: 50.0 mm)
Hyperfocal Distance : 20.80 m
Light Value : 11.0
Lens ID : Summilux-M 50mm f/1.4 ASPH.