Uber Exif Photo
Copyright Notice : New York 2014
By-line : George Kalaydjian
Photometric Interpretation : RGB
Make : Leica Camera AG
Camera Model Name : LEICA M (Typ 240)
Orientation : Horizontal (normal)
Software : Adobe Photoshop CC 2014 (Macintosh)
Modify Date : 2014:12:10 00:01:46
Artist : George Kalaydjian
Copyright : New York 2014
Exposure Time : 1/60
F Number : 4.8
Exposure Program : Manual
ISO : 1250
Date/Time Original : 2014:11:19 01:22:35
Create Date : 2014:11:19 01:22:35
Shutter Speed Value : 1/60
Aperture Value : 4.8
Exposure Compensation : 0
Max Aperture Value : 2.8
Metering Mode : Multi-spot
Light Source : Unknown
Flash : No Flash
Focal Length : 28.0 mm
Color Space : sRGB
Exif Image Width : 1168
Exif Image Height : 792
Scene Type : Directly photographed
Custom Rendered : Normal
Exposure Mode : Manual
White Balance : Auto
Digital Zoom Ratio : 0
Scene Capture Type : Standard
Contrast : Normal
Saturation : Normal
Sharpness : Normal
Lens Info : 28mm f/2-22
Lens Make : Leica Camera AG
Lens Model : Elmarit-M 1:2.8/28 ASPH.
Lens Serial Number : -------
Profile Description : sRGB IEC61966-2.1
Sharpen Detail : 25
Blacks 2012 : -7
Luminance Adjustment Orange : 0
Hue Adjustment Yellow : 0
Saturation Adjustment Blue : 0
Parametric Highlight Split : 75
Lens Profile Enable : 1
Lens Profile Distortion Scale : 100
Split Toning Shadow Saturation : 0
Convert To Grayscale : False
Contrast 2012 : +53
Highlights 2012 : -57
Split Toning Highlight Hue : 0
Saturation Adjustment Aqua : 0
Perspective Scale : 100
Luminance Noise Reduction Contrast : 20
Perspective Vertical : 0
Parametric Shadow Split : 25
Luminance Adjustment Green : 0
Perspective Rotate : 0.0
Split Toning Shadow Hue : 0
Luminance Adjustment Yellow : 0
Shadows 2012 : +54
Lens Profile Setup : LensDefaults
Whites 2012 : +27
Perspective Horizontal : 0
Lens Profile Filename : Leica Camera AG (Leica ELMARIT-M 28 mm f2.8 ASPH.) - RAW.lcp
Camera Profile : Adobe Standard
Saturation Adjustment Yellow : 0
Parametric Midtone Split : 50
Luminance Noise Reduction Detail : 47
Parametric Highlights : 0
Defringe Green Amount : 0
Parametric Darks : 0
Sharpen Radius : +1.0
Vibrance : 0
Lens Profile Vignetting Scale : 100
Shadow Tint : 0
Has Crop : False
Luminance Smoothing : 43
Tone Curve Name 2012 : Linear
Split Toning Highlight Saturation : 0
Defringe Purple Hue Hi : 70
Saturation Adjustment Orange : 0
Sharpen Edge Masking : 0
Color Temperature : 5198
Hue Adjustment Green : 0
Vignette Amount : 0
Blue Saturation : 0
Red Saturation : 0
Parametric Lights : 0
Red Hue : 0
Split Toning Balance : 0
Hue Adjustment Purple : 0
Exposure 2012 : -0.15
Tone Curve Name : Linear
Color Noise Reduction Smoothness : 50
Color Noise Reduction Detail : 50
Saturation Adjustment Green : 0
Hue Adjustment Blue : 0
Luminance Adjustment Purple : 0
Perspective Aspect : 0
Perspective Upright : Auto
Parametric Shadows : 0
Post Crop Vignette Amount : 0
Blue Hue : 0
Clarity 2012 : -11
Auto Lateral CA : 0
Grain Amount : 0
Hue Adjustment Aqua : 0
Process Version : 6.7
Tint : 0
Already Applied : True
Auto White Version : 134348800
Lens Profile Name : Adobe (Leica ELMARIT-M 28 mm f/2.8 ASPH.)
Luminance Adjustment Blue : 0
Lens Profile Chromatic Aberration Scale : 100
Luminance Adjustment Red : 0
Color Noise Reduction : 25
Green Hue : 0
Hue Adjustment Magenta : 0
Has Settings : True
Saturation Adjustment Red : 0
Hue Adjustment Red : 0
Hue Adjustment Orange : 0
Lens Manual Distortion Amount : 0
Green Saturation : 0
Defringe Purple Hue Lo : 30
Defringe Green Hue Hi : 60
Saturation Adjustment Purple : 0
Saturation Adjustment Magenta : 0
Luminance Adjustment Aqua : 0
Version : 8.7
Defringe Green Hue Lo : 40
Defringe Purple Amount : 0
Luminance Adjustment Magenta : 0
Creator Tool : Adobe Photoshop CC 2014 (Macintosh)
ICC Profile Name : sRGB IEC61966-2.1
Date Created : 2014:11:19 01:22:35
Color Mode : RGB
Serial Number : 4824753
Lens : Elmarit-M 1:2.8/28 ASPH.
Format : image/jpeg
Tone Curve Blue : 0, 0, 255, 255
Tone Curve Green : 0, 0, 255, 255
Tone Curve PV2012 Red : 0, 0, 255, 255
Tone Curve PV2012 : 0, 0, 255, 255
Tone Curve : 0, 0, 255, 255
Gradient Based Corr Defringe : 0.000000
Gradient Based Corr Highlights 2012 : 0.000000
Gradient Based Corr Clarity 2012 : -1.000000
Gradient Based Corr Temperature : -0.820225
Gradient Based Corr Saturation : 0.000000
Gradient Based Corr What : Correction
Gradient Based Corr Tint : 0.564080
Gradient Based Corr Brightness : 0.000000
Gradient Based Corr Shadows 2012 : 0.000000
Gradient Based Corr Sharpness : 1.000000
Gradient Based Corr Toning Saturation : 0.000000
Gradient Based Corr Amount : 1.000000
Gradient Based Corr Toning Hue : 240.000000
Gradient Based Corr Active : true
Gradient Based Corr Contrast 2012 : 0.695751
Gradient Based Corr Luminance Noise : 0.000000
Gradient Based Corr Exposure 2012 : -0.573385
Gradient Based Corr Moire : 0.000000
Gradient Based Corr Mask Full Y : 0.054988
Gradient Based Corr Mask What : Mask/Gradient
Gradient Based Corr Mask Zero Y : 0.381810
Gradient Based Corr Mask Value : 1.000000
Gradient Based Corr Mask Zero X : 0.500769
Gradient Based Corr Mask Full X : 0.502693
Tone Curve Red : 0, 0, 255, 255
Tone Curve PV2012 Green : 0, 0, 255, 255
Tone Curve PV2012 Blue : 0, 0, 255, 255
Creator : George Kalaydjian
Rights : New York 2014
Image Width : 255
Image Height : 173
Bits Per Sample : 8
Color Components : 3
Aperture : 4.8
Image Size : 255x173
Megapixels : 0.044
Scale Factor To 35 mm Equivalent : 5.1
Shutter Speed : 1/60
Circle Of Confusion : 0.006 mm
Field Of View : 14.5 deg
Focal Length : 28.0 mm (35 mm equivalent: 141.9 mm)
Hyperfocal Distance : 27.56 m
Light Value : 6.8