Uber Exif Photo
Make : LEICA CAMERA AG
Camera Model Name : LEICA X2
Software : Adobe Photoshop Lightroom 4.4 (Windows)
Modify Date : 2014:01:15 19:20:22
Exposure Time : 1/40
F Number : 6.3
Exposure Program : Aperture-priority AE
ISO : 200
Date/Time Original : 2014:01:15 18:20:20
Create Date : 2014:01:15 18:20:20
Shutter Speed Value : 1/40
Aperture Value : 6.3
Exposure Compensation : 0
Max Aperture Value : 2.8
Metering Mode : Multi-segment
Light Source : Unknown
Flash : Off, Did not fire
Focal Length : 24.0 mm
Original File Name : L1017992.DNG
Original Directory : 101LEICA
Focus Distance : 65.535 m
Exposure Mode : Aperture-priority AE
File Index : 7992
Film Mode : Standard
WB RGB Levels : 0.3938461538 1.001956947 0.7551622419
Internal Serial Number : 000000000000
Sensing Method : One-chip color area
Custom Rendered : Normal
White Balance : Auto
Digital Zoom Ratio : 1
Focal Length In 35mm Format : 36 mm
Scene Capture Type : Landscape
Contrast : Normal
Saturation : Normal
Sharpness : Normal
Serial Number : 000004335263
Lens Info : 24mm f/2.8
Lens Model : 24.0 mm f/2.8
Maker Note Safety : Safe
Profile Description : sRGB IEC61966-2.1
Creator Tool : Adobe Photoshop Lightroom 4.4 (Windows)
Lens : 24.0 mm f/2.8
Approximate Focus Distance : 4294967295
Date Created : 2014:01:15 18:20:20
Format : image/jpeg
Version : 7.4
Process Version : 6.7
Color Temperature : 7250
Tint : +10
Luminance Smoothing : 5
Color Noise Reduction : 25
Vignette Amount : 0
Shadow Tint : 0
Red Hue : 0
Red Saturation : 0
Green Hue : 0
Green Saturation : 0
Blue Hue : 0
Blue Saturation : 0
Vibrance : 0
Hue Adjustment Red : 0
Hue Adjustment Orange : 0
Hue Adjustment Yellow : 0
Hue Adjustment Green : 0
Hue Adjustment Aqua : 0
Hue Adjustment Blue : 0
Hue Adjustment Purple : 0
Hue Adjustment Magenta : 0
Saturation Adjustment Red : 0
Saturation Adjustment Orange : 0
Saturation Adjustment Yellow : 0
Saturation Adjustment Green : 0
Saturation Adjustment Aqua : 0
Saturation Adjustment Blue : 0
Saturation Adjustment Purple : 0
Saturation Adjustment Magenta : 0
Luminance Adjustment Red : 0
Luminance Adjustment Orange : 0
Luminance Adjustment Yellow : 0
Luminance Adjustment Green : 0
Luminance Adjustment Aqua : 0
Luminance Adjustment Blue : 0
Luminance Adjustment Purple : 0
Luminance Adjustment Magenta : 0
Split Toning Shadow Hue : 0
Split Toning Shadow Saturation : 0
Split Toning Highlight Hue : 0
Split Toning Highlight Saturation : 0
Split Toning Balance : 0
Parametric Shadows : 0
Parametric Darks : 0
Parametric Lights : 0
Parametric Highlights : 0
Parametric Shadow Split : 25
Parametric Midtone Split : 50
Parametric Highlight Split : 75
Sharpen Radius : +1.1
Sharpen Detail : 16
Sharpen Edge Masking : 0
Post Crop Vignette Amount : -13
Post Crop Vignette Midpoint : 25
Post Crop Vignette Feather : 80
Post Crop Vignette Roundness : 0
Post Crop Vignette Style : Highlight Priority
Post Crop Vignette Highlight Contrast : 0
Grain Amount : 0
Luminance Noise Reduction Detail : 50
Color Noise Reduction Detail : 50
Luminance Noise Reduction Contrast : 0
Lens Profile Enable : 0
Lens Manual Distortion Amount : 0
Perspective Vertical : 0
Perspective Horizontal : 0
Perspective Rotate : 0.0
Perspective Scale : 100
Auto Lateral CA : 0
Exposure 2012 : -0.10
Contrast 2012 : +4
Highlights 2012 : -100
Shadows 2012 : +53
Whites 2012 : -45
Blacks 2012 : +20
Clarity 2012 : +17
Defringe Purple Amount : 0
Defringe Purple Hue Lo : 30
Defringe Purple Hue Hi : 70
Defringe Green Amount : 0
Defringe Green Hue Lo : 40
Defringe Green Hue Hi : 60
Convert To Grayscale : False
Tone Curve Name 2012 : Medium Contrast
Camera Profile : Adobe Standard
Lens Profile Setup : LensDefaults
Has Settings : True
Crop Top : 0
Crop Left : 0.006872
Crop Bottom : 1
Crop Right : 0.993128
Crop Angle : 0.366024
Crop Constrain To Warp : 0
Crop Width : 4881
Crop Height : 3233
Crop Unit : pixels
Has Crop : True
Already Applied : True
Tone Curve PV2012 : 0, 0, 32, 22, 64, 56, 128, 128, 192, 196, 255, 255
Tone Curve PV2012 Red : 0, 0, 255, 255
Tone Curve PV2012 Green : 0, 0, 255, 255
Tone Curve PV2012 Blue : 0, 0, 255, 255
Image Width : 300
Image Height : 199
Bits Per Sample : 8
Color Components : 3
Aperture : 6.3
Blue Balance : 0.753687
Image Size : 300x199
Megapixels : 0.060
Red Balance : 0.393077
Scale Factor To 35 mm Equivalent : 1.5
Shutter Speed : 1/40
Circle Of Confusion : 0.020 mm
Depth Of Field : inf (4.27 m - inf)
Field Of View : 53.1 deg (65.51 m)
Focal Length : 24.0 mm (35 mm equivalent: 36.0 mm)
Hyperfocal Distance : 4.56 m
Light Value : 9.6
Lens ID : 24.0mm f/2.8