Uber Exif Photo
Make : Leica Camera AG
Camera Model Name : M9 Digital Camera
Software : Adobe Photoshop Lightroom 4.4 (Macintosh)
Modify Date : 2013:10:20 19:47:30
Exposure Time : 1/180
F Number : 11.0
Exposure Program : Aperture-priority AE
ISO : 160
Date/Time Original : 2013:10:18 15:04:22
Create Date : 2013:10:18 15:04:22
Shutter Speed Value : 1/180
Aperture Value : 11.0
Exposure Compensation : -0.332
Max Aperture Value : 1.4
Metering Mode : Center-weighted average
Light Source : Unknown
Flash : No Flash
Focal Length : 21.0 mm
Scene Type : Directly photographed
Exposure Mode : Manual
White Balance : Auto
Digital Zoom Ratio : 0
Focal Length In 35mm Format : 21 mm
Scene Capture Type : Standard
Serial Number : 4208419
Lens Model : Summilux-M 21mm f/1.4 ASPH.
Profile Description : sRGB IEC61966-2.1
Creator Tool : Adobe Photoshop Lightroom 4.4 (Macintosh)
Lens : Summilux-M 21mm f/1.4 ASPH.
Date Created : 2013:10:18 15:04:22
Format : image/jpeg
Version : 7.4
Process Version : 6.7
Color Temperature : 4400
Tint : -2
Sharpness : 86
Luminance Smoothing : 52
Color Noise Reduction : 51
Vignette Amount : 0
Shadow Tint : 0
Red Hue : 0
Red Saturation : 0
Green Hue : 0
Green Saturation : 0
Blue Hue : 0
Blue Saturation : 0
Gray Mixer Red : +31
Gray Mixer Orange : +40
Gray Mixer Yellow : +40
Gray Mixer Green : -22
Gray Mixer Aqua : -21
Gray Mixer Blue : +3
Gray Mixer Purple : +13
Gray Mixer Magenta : +7
Split Toning Shadow Hue : 0
Split Toning Shadow Saturation : 0
Split Toning Highlight Hue : 0
Split Toning Highlight Saturation : 0
Split Toning Balance : 0
Parametric Shadows : +42
Parametric Darks : +8
Parametric Lights : -35
Parametric Highlights : 0
Parametric Shadow Split : 25
Parametric Midtone Split : 50
Parametric Highlight Split : 75
Sharpen Radius : +1.9
Sharpen Detail : 48
Sharpen Edge Masking : 0
Post Crop Vignette Amount : 0
Grain Amount : 0
Luminance Noise Reduction Detail : 50
Color Noise Reduction Detail : 50
Luminance Noise Reduction Contrast : 47
Lens Profile Enable : 0
Lens Manual Distortion Amount : 0
Perspective Vertical : 0
Perspective Horizontal : 0
Perspective Rotate : +0.4
Perspective Scale : 136
Auto Lateral CA : 0
Exposure 2012 : 0.00
Contrast 2012 : +30
Highlights 2012 : -25
Shadows 2012 : +41
Whites 2012 : -13
Blacks 2012 : 0
Clarity 2012 : +25
Convert To Grayscale : True
Tone Curve Name 2012 : Strong Contrast
Camera Profile : Adobe Standard
Lens Profile Setup : LensDefaults
Has Settings : True
Crop Top : 0.00613
Crop Left : 0.0081
Crop Bottom : 0.99387
Crop Right : 0.9919
Crop Angle : 0.105711
Crop Constrain To Warp : 1
Crop Width : 1225
Crop Height : 815
Crop Unit : pixels
Has Crop : True
Already Applied : True
Tone Curve PV2012 : 0, 0, 32, 16, 64, 50, 128, 128, 192, 202, 255, 255
Tone Curve PV2012 Red : 0, 0, 255, 255
Tone Curve PV2012 Green : 0, 0, 255, 255
Tone Curve PV2012 Blue : 0, 0, 255, 255
Image Width : 300
Image Height : 200
Bits Per Sample : 8
Color Components : 3
Aperture : 11.0
Image Size : 300x200
Megapixels : 0.060
Scale Factor To 35 mm Equivalent : 1.0
Shutter Speed : 1/180
Circle Of Confusion : 0.030 mm
Field Of View : 81.2 deg
Focal Length : 21.0 mm (35 mm equivalent: 21.0 mm)
Hyperfocal Distance : 1.33 m
Light Value : 13.7
Lens ID : Summilux-M 21mm f/1.4 ASPH.