Uber Exif Photo
Make : Leica Camera AG
Camera Model Name : M9 Digital Camera
Software : Adobe Photoshop Lightroom 4.4 (Macintosh)
Modify Date : 2013:10:18 23:02:20
Exposure Time : 1/350
F Number : 13.0
Exposure Program : Aperture-priority AE
ISO : 160
Date/Time Original : 2013:10:18 10:17:52
Create Date : 2013:10:18 10:17:52
Shutter Speed Value : 1/350
Aperture Value : 13.0
Exposure Compensation : -0.332
Max Aperture Value : 1.4
Metering Mode : Center-weighted average
Light Source : Unknown
Flash : No Flash
Focal Length : 21.0 mm
Scene Type : Directly photographed
Custom Rendered : Normal
Exposure Mode : Manual
White Balance : Auto
Digital Zoom Ratio : 0
Focal Length In 35mm Format : 21 mm
Scene Capture Type : Standard
Contrast : High
Saturation : Normal
Sharpness : Hard
Lens Model : Summilux-M 21mm f/1.4 ASPH.
Profile Description : sRGB IEC61966-2.1
Creator Tool : Adobe Photoshop Lightroom 4.4 (Macintosh)
Lens : Summilux-M 21mm f/1.4 ASPH.
Date Created : 2013:10:18 10:17:52
Format : image/jpeg
Version : 7.4
Process Version : 6.7
Incremental Temperature : -5
Incremental Tint : -36
Luminance Smoothing : 0
Color Noise Reduction : 25
Vignette Amount : 0
Shadow Tint : 0
Red Hue : 0
Red Saturation : 0
Green Hue : 0
Green Saturation : 0
Blue Hue : 0
Blue Saturation : 0
Gray Mixer Red : +25
Gray Mixer Orange : +38
Gray Mixer Yellow : +40
Gray Mixer Green : +30
Gray Mixer Aqua : +38
Gray Mixer Blue : 0
Gray Mixer Purple : 0
Gray Mixer Magenta : 0
Split Toning Shadow Hue : 0
Split Toning Shadow Saturation : 0
Split Toning Highlight Hue : 0
Split Toning Highlight Saturation : 0
Split Toning Balance : 0
Parametric Shadows : 0
Parametric Darks : 0
Parametric Lights : 0
Parametric Highlights : 0
Parametric Shadow Split : 25
Parametric Midtone Split : 50
Parametric Highlight Split : 75
Sharpen Radius : +1.0
Sharpen Detail : 25
Sharpen Edge Masking : 0
Post Crop Vignette Amount : 0
Grain Amount : 0
Color Noise Reduction Detail : 50
Lens Profile Enable : 0
Lens Manual Distortion Amount : 0
Perspective Vertical : 0
Perspective Horizontal : 0
Perspective Rotate : 0.0
Perspective Scale : 98
Auto Lateral CA : 0
Exposure 2012 : 0.00
Contrast 2012 : +29
Highlights 2012 : -6
Shadows 2012 : +20
Whites 2012 : -20
Blacks 2012 : -7
Clarity 2012 : +25
Convert To Grayscale : True
Tone Curve Name 2012 : Linear
Camera Profile : Adobe Standard
Lens Profile Setup : LensDefaults
Has Settings : True
Crop Top : 0.010012
Crop Left : 0.01
Crop Bottom : 0.99
Crop Right : 0.99
Crop Angle : 0
Crop Constrain To Warp : 1
Crop Width : 1225
Crop Height : 815
Crop Unit : pixels
Has Crop : True
Already Applied : True
Tone Curve PV2012 : 0, 0, 255, 255
Tone Curve PV2012 Red : 0, 0, 255, 255
Tone Curve PV2012 Green : 0, 0, 255, 255
Tone Curve PV2012 Blue : 0, 0, 255, 255
Image Width : 300
Image Height : 200
Bits Per Sample : 8
Color Components : 3
Aperture : 13.0
Image Size : 300x200
Megapixels : 0.060
Scale Factor To 35 mm Equivalent : 1.0
Shutter Speed : 1/350
Circle Of Confusion : 0.030 mm
Field Of View : 81.2 deg
Focal Length : 21.0 mm (35 mm equivalent: 21.0 mm)
Hyperfocal Distance : 1.13 m
Light Value : 15.2
Lens ID : Summilux-M 21mm f/1.4 ASPH.