Uber Exif Photo
Make : Leica Camera AG
Camera Model Name : M9 Digital Camera
Software : Adobe Photoshop Lightroom 4.4 (Macintosh)
Modify Date : 2013:05:22 21:20:42
Exposure Time : 1/250
F Number : 16.0
Exposure Program : Aperture-priority AE
ISO : 160
Date/Time Original : 2013:05:20 18:40:36
Create Date : 2013:05:20 18:40:36
Shutter Speed Value : 1/250
Aperture Value : 16.0
Exposure Compensation : 0
Max Aperture Value : 2.0
Metering Mode : Center-weighted average
Light Source : Cloudy
Flash : No Flash
Focal Length : 35.0 mm
Scene Type : Directly photographed
Exposure Mode : Manual
White Balance : Manual
Digital Zoom Ratio : 0
Focal Length In 35mm Format : 35 mm
Scene Capture Type : Standard
Serial Number : 4208419
Lens Model : Leica Summicron-M 35mm f/2 ASPH.
Profile Description : sRGB IEC61966-2.1
Creator Tool : Adobe Photoshop Lightroom 4.4 (Macintosh)
Lens : Leica Summicron-M 35mm f/2 ASPH.
Date Created : 2013:05:20 18:40:36
Format : image/jpeg
Version : 7.4
Process Version : 6.7
Color Temperature : 5111
Tint : +2
Sharpness : 87
Luminance Smoothing : 52
Color Noise Reduction : 48
Vignette Amount : 0
Shadow Tint : 0
Red Hue : 0
Red Saturation : 0
Green Hue : 0
Green Saturation : 0
Blue Hue : 0
Blue Saturation : 0
Gray Mixer Red : +50
Gray Mixer Orange : +44
Gray Mixer Yellow : +36
Gray Mixer Green : -5
Gray Mixer Aqua : +25
Gray Mixer Blue : -13
Gray Mixer Purple : -30
Gray Mixer Magenta : -40
Split Toning Shadow Hue : 0
Split Toning Shadow Saturation : 0
Split Toning Highlight Hue : 0
Split Toning Highlight Saturation : 0
Split Toning Balance : 0
Parametric Shadows : 0
Parametric Darks : 0
Parametric Lights : +40
Parametric Highlights : +50
Parametric Shadow Split : 25
Parametric Midtone Split : 50
Parametric Highlight Split : 75
Sharpen Radius : +1.6
Sharpen Detail : 25
Sharpen Edge Masking : 0
Post Crop Vignette Amount : -18
Post Crop Vignette Midpoint : 50
Post Crop Vignette Feather : 50
Post Crop Vignette Roundness : 0
Post Crop Vignette Style : Highlight Priority
Post Crop Vignette Highlight Contrast : 40
Grain Amount : 0
Luminance Noise Reduction Detail : 50
Color Noise Reduction Detail : 50
Luminance Noise Reduction Contrast : 59
Lens Profile Enable : 0
Lens Manual Distortion Amount : 0
Perspective Vertical : 0
Perspective Horizontal : 0
Perspective Rotate : 0.0
Perspective Scale : 100
Auto Lateral CA : 0
Exposure 2012 : 0.00
Contrast 2012 : +11
Highlights 2012 : -29
Shadows 2012 : +56
Whites 2012 : +31
Blacks 2012 : -4
Clarity 2012 : +44
Convert To Grayscale : True
Tone Curve Name 2012 : Linear
Camera Profile : Adobe Standard
Lens Profile Setup : LensDefaults
Has Settings : True
Crop Top : 0.006963
Crop Left : 0.015055
Crop Bottom : 0.986075
Crop Right : 1
Crop Angle : 0
Crop Constrain To Warp : 0
Crop Width : 1229
Crop Height : 813
Crop Unit : pixels
Has Crop : True
Already Applied : True
Tone Curve PV2012 : 0, 0, 255, 255
Tone Curve PV2012 Red : 0, 0, 255, 255
Tone Curve PV2012 Green : 0, 0, 255, 255
Tone Curve PV2012 Blue : 0, 0, 255, 255
Image Width : 300
Image Height : 198
Bits Per Sample : 8
Color Components : 3
Aperture : 16.0
Image Size : 300x198
Megapixels : 0.059
Scale Factor To 35 mm Equivalent : 1.0
Shutter Speed : 1/250
Circle Of Confusion : 0.030 mm
Field Of View : 54.4 deg
Focal Length : 35.0 mm (35 mm equivalent: 35.0 mm)
Hyperfocal Distance : 2.55 m
Light Value : 15.3
Lens ID : Summicron-M 35mm f/2 ASPH.