Uber Exif Photo
By-line : Michael Weaver
Country-Primary Location Name : USA
Copyright Notice : (C) 2011 Michael Weaver, All rights reserved
Copyright Flag : True
URL : michaelweaver.zenfolio.com
Make : Leica Camera AG
Camera Model Name : M8 Digital Camera
Software : Adobe Photoshop Lightroom 3.5 (Windows)
Modify Date : 2011:11:04 08:57:33
Artist : Michael Weaver
Copyright : (C) 2011 Michael Weaver, All rights reserved
Exposure Time : 1/20
F Number : 1.4
Exposure Program : Manual
ISO : 320
Date/Time Original : 2011:10:29 19:38:19
Create Date : 2011:10:29 19:38:19
Shutter Speed Value : 1/20
Aperture Value : 1.4
Exposure Compensation : 0
Max Aperture Value : 1.4
Metering Mode : Center-weighted average
Light Source : Unknown
Flash : On, Did not fire
Focal Length : 35.0 mm
Scene Type : Directly photographed
White Balance : Auto
Digital Zoom Ratio : 0
Focal Length In 35mm Format : 47 mm
Scene Capture Type : Standard
Serial Number : 3196228
Lens Model : Leica Summilux-M 35mm f/1.4 ASPH.
Creator Tool : Adobe Photoshop Lightroom 3.5 (Windows)
Lens : Leica Summilux-M 35mm f/1.4 ASPH.
Date Created : 2011:10:29 19:38:19
Country : USA
Credit : (C) 2011 Michael Weaver, All rights reserved
Marked : True
Web Statement : michaelweaver.zenfolio.com
Digital Source Type : http://cv.iptc.org/newscodes/digitalsourcetype/digitalCapture
Version : 6.5
Process Version : 5.7
Color Temperature : 2000
Tint : -9
Exposure : +0.87
Shadows : 5
Brightness : +57
Contrast : +26
Sharpness : 43
Luminance Smoothing : 56
Color Noise Reduction : 25
Chromatic Aberration R : 0
Chromatic Aberration B : 0
Vignette Amount : 0
Shadow Tint : 0
Red Hue : 0
Red Saturation : 0
Green Hue : 0
Green Saturation : 0
Blue Hue : 0
Blue Saturation : 0
Fill Light : 46
Highlight Recovery : 0
Clarity : +10
Defringe : 0
Gray Mixer Red : 0
Gray Mixer Orange : -11
Gray Mixer Yellow : -16
Gray Mixer Green : -24
Gray Mixer Aqua : -21
Gray Mixer Blue : +4
Gray Mixer Purple : +15
Gray Mixer Magenta : +9
Split Toning Shadow Hue : 0
Split Toning Shadow Saturation : 0
Split Toning Highlight Hue : 0
Split Toning Highlight Saturation : 0
Split Toning Balance : 0
Parametric Shadows : +40
Parametric Darks : +30
Parametric Lights : -30
Parametric Highlights : -40
Parametric Shadow Split : 25
Parametric Midtone Split : 50
Parametric Highlight Split : 75
Sharpen Radius : +1.3
Sharpen Detail : 62
Sharpen Edge Masking : 74
Post Crop Vignette Amount : 0
Grain Amount : 0
Luminance Noise Reduction Detail : 75
Color Noise Reduction Detail : 50
Luminance Noise Reduction Contrast : 37
Lens Profile Enable : 0
Lens Manual Distortion Amount : 0
Perspective Vertical : 0
Perspective Horizontal : 0
Perspective Rotate : 0.0
Perspective Scale : 100
Convert To Grayscale : True
Tone Curve Name : Medium Contrast
Camera Profile : Adobe Standard
Lens Profile Setup : LensDefaults
Has Settings : True
Crop Top : 0.189467
Crop Left : 0
Crop Bottom : 1
Crop Right : 0.979737
Crop Angle : 0
Crop Constrain To Warp : 0
Crop Width : 3837
Crop Height : 2135
Crop Unit : pixels
Has Crop : True
Already Applied : True
Usage Terms : No use without written permission.
Creator Postal Code : 62031
Creator Country : USA
Creator Work Email : michaelrweaver@gmail.com
Creator Work Telephone : 618-376-3154
Creator Region : IL
Creator City : Fieldon
Creator Address : 25670 Dark Hollow Road
Creator Work URL : michaelweaver.zenfolio.com
Creator : Michael Weaver
Rights : (C) 2011 Michael Weaver, All rights reserved
Tone Curve : 0, 0, 32, 22, 64, 56, 128, 128, 192, 196, 255, 255
Image Width : 300
Image Height : 167
Bits Per Sample : 8
Color Components : 1
Aperture : 1.4
Image Size : 300x167
Megapixels : 0.050
Scale Factor To 35 mm Equivalent : 1.3
Shutter Speed : 1/20
Circle Of Confusion : 0.022 mm
Field Of View : 41.9 deg
Focal Length : 35.0 mm (35 mm equivalent: 47.0 mm)
Hyperfocal Distance : 39.11 m
Light Value : 3.6
Lens ID : Summilux-M 35mm f/1.4 ASPH.