Uber Exif Photo
Make : LEICA
Camera Model Name : D-LUX 5
Orientation : Horizontal (normal)
Software : Capture NX 2.3.0 W
Modify Date : 2012:02:04 08:21:25
Exposure Time : 1/400
F Number : 6.3
Exposure Program : Aperture-priority AE
ISO : 100
Date/Time Original : 2011:09:04 15:31:40
Shutter Speed Value : 1.3
Aperture Value : 6.3
Exposure Compensation : 0
Max Aperture Value : 2.0
Metering Mode : Multi-segment
Light Source : Unknown
Flash : On, Did not fire
Focal Length : 6.8 mm
Maker Note Version : 2.10
Image Data Size : 635950
Nikon Capture Version : Capture NX 2.3.0 W
IFD0 Offset : 968
Preview IFD Offset : 868
NEF Bit Depth : 16 x 3
Color Space : Uncalibrated
Exif Image Width : 1140
Exif Image Height : 760
Sensing Method : One-chip color area
Scene Type : Directly photographed
Exposure Mode : Auto
White Balance : Auto
Digital Zoom Ratio : 0
Focal Length In 35mm Format : 32 mm
Scene Capture Type : Standard
Gain Control : None
Contrast : Normal
Saturation : Normal
Sharpness : Normal
Already Applied : True
Blue Hue : 0
Blue Saturation : 0
Brightness : +42
Camera Profile : Adobe Standard
Chromatic Aberration B : 0
Chromatic Aberration R : 0
Clarity : +39
Color Noise Reduction : 25
Color Noise Reduction Detail : 50
Convert To Grayscale : False
Defringe : 0
Exposure : 0.00
Fill Light : 0
Grain Amount : 0
Green Hue : 0
Green Saturation : 0
Has Crop : False
Has Settings : True
Highlight Recovery : 16
Hue Adjustment Aqua : 0
Hue Adjustment Blue : 0
Hue Adjustment Green : 0
Hue Adjustment Magenta : 0
Hue Adjustment Orange : 0
Hue Adjustment Purple : 0
Hue Adjustment Red : 0
Hue Adjustment Yellow : 0
Lens Manual Distortion Amount : 0
Lens Profile Enable : 0
Lens Profile Setup : LensDefaults
Luminance Adjustment Aqua : 0
Luminance Adjustment Blue : 0
Luminance Adjustment Green : 0
Luminance Adjustment Magenta : 0
Luminance Adjustment Orange : 0
Luminance Adjustment Purple : 0
Luminance Adjustment Red : 0
Luminance Adjustment Yellow : 0
Luminance Smoothing : 0
Parametric Darks : 0
Parametric Highlight Split : 75
Parametric Highlights : 0
Parametric Lights : 0
Parametric Midtone Split : 50
Parametric Shadow Split : 25
Parametric Shadows : 0
Perspective Horizontal : 0
Perspective Rotate : 0.0
Perspective Scale : 100
Perspective Vertical : 0
Post Crop Vignette Amount : 0
Process Version : 5.7
Red Hue : 0
Red Saturation : 0
Saturation Adjustment Aqua : 0
Saturation Adjustment Blue : 0
Saturation Adjustment Green : 0
Saturation Adjustment Magenta : 0
Saturation Adjustment Orange : 0
Saturation Adjustment Purple : 0
Saturation Adjustment Red : 0
Saturation Adjustment Yellow : 0
Shadow Tint : 0
Shadows : 5
Sharpen Detail : 25
Sharpen Edge Masking : 0
Sharpen Radius : +1.0
Split Toning Balance : 0
Split Toning Highlight Hue : 0
Split Toning Highlight Saturation : 0
Split Toning Shadow Hue : 0
Split Toning Shadow Saturation : 0
Color Temperature : 6500
Tint : +10
Tone Curve Name : Medium Contrast
Version : 6.6
Vibrance : 0
Vignette Amount : 0
Format : image/tiff
Create Date : 2011:09:04 15:31:40
Creator Tool : Adobe Photoshop Lightroom 3.6 (Windows)
Date Created : 2011:09:04 15:31:40
Tone Curve : 0, 0, 32, 22 64, , 64, 56 128, 128 19, 128, 128 192, 196 255, 255, 192, 196 255, 255, 255, 255
Image Width : 300
Image Height : 200
Bits Per Sample : 8
Color Components : 1
Aperture : 6.3
Image Size : 300x200
Megapixels : 0.060
Scale Factor To 35 mm Equivalent : 4.7
Shutter Speed : 1/400
Circle Of Confusion : 0.006 mm
Field Of View : 58.7 deg
Focal Length : 6.8 mm (35 mm equivalent: 32.0 mm)
Hyperfocal Distance : 1.15 m
Light Value : 14.0