Uber Exif Photo
Copyright Flag : False
Photometric Interpretation : RGB
Make : Leica Camera AG
Camera Model Name : M8 Digital Camera
Orientation : Horizontal (normal)
Planar Configuration : Chunky
Software : Adobe Photoshop CS3 Macintosh
Modify Date : 2010:10:03 11:01:03
Exposure Time : 1/750
Exposure Program : Aperture-priority AE
ISO : 320
Date/Time Original : 2008:06:07 14:23:33
Create Date : 2008:06:07 14:23:33
Shutter Speed Value : 1/750
Exposure Compensation : -0.332
Max Aperture Value : 2.8
Metering Mode : Center-weighted average
Light Source : Unknown
Focal Length : 21.0 mm
Color Space : Uncalibrated
Exif Image Width : 960
Exif Image Height : 637
Scene Type : Directly photographed
White Balance : Auto
Digital Zoom Ratio : 0
Focal Length In 35mm Format : 28 mm
Scene Capture Type : Standard
Profile Description : Adobe RGB (1998)
Samples Per Pixel : 3
Date/Time Digitized : 2008:06:07 14:23:33-04:00
Creator Tool : Adobe Photoshop CS3 Macintosh
Rating : 0
Serial Number : 3106730
Raw File Name : L1000330.DNG
Version : 4.4.1
Color Temperature : 6050
Tint : +16
Exposure : +0.15
Shadows : 20
Brightness : +50
Contrast : +25
Saturation : +16
Sharpness : 25
Luminance Smoothing : 0
Color Noise Reduction : 25
Chromatic Aberration R : 0
Chromatic Aberration B : 0
Vignette Amount : 0
Shadow Tint : 0
Red Hue : 0
Red Saturation : 0
Green Hue : 0
Green Saturation : 0
Blue Hue : 0
Blue Saturation : 0
Fill Light : 20
Vibrance : 0
Highlight Recovery : 0
Clarity : 0
Defringe : 0
Hue Adjustment Red : 0
Hue Adjustment Orange : 0
Hue Adjustment Yellow : 0
Hue Adjustment Green : 0
Hue Adjustment Aqua : 0
Hue Adjustment Blue : 0
Hue Adjustment Purple : 0
Hue Adjustment Magenta : 0
Saturation Adjustment Red : 0
Saturation Adjustment Orange : 0
Saturation Adjustment Yellow : 0
Saturation Adjustment Green : 0
Saturation Adjustment Aqua : 0
Saturation Adjustment Blue : 0
Saturation Adjustment Purple : 0
Saturation Adjustment Magenta : 0
Luminance Adjustment Red : 0
Luminance Adjustment Orange : 0
Luminance Adjustment Yellow : 0
Luminance Adjustment Green : 0
Luminance Adjustment Aqua : 0
Luminance Adjustment Blue : 0
Luminance Adjustment Purple : 0
Luminance Adjustment Magenta : 0
Split Toning Shadow Hue : 0
Split Toning Shadow Saturation : 0
Split Toning Highlight Hue : 0
Split Toning Highlight Saturation : 0
Split Toning Balance : 0
Parametric Shadows : 0
Parametric Darks : 0
Parametric Lights : 0
Parametric Highlights : 0
Parametric Shadow Split : 25
Parametric Midtone Split : 50
Parametric Highlight Split : 75
Sharpen Radius : +1.0
Sharpen Detail : 25
Sharpen Edge Masking : 0
Convert To Grayscale : False
Tone Curve Name : Medium Contrast
Camera Profile : ACR 4.4
Has Settings : True
Has Crop : False
Already Applied : True
Format : image/jpeg
Color Mode : RGB
ICC Profile Name : Adobe RGB (1998)
Flash Fired : False
Flash Return : No return detection
Flash Mode : Auto
Flash Function : False
Flash Red Eye Mode : False
Tone Curve : 0, 0, 32, 22, 64, 56, 128, 128, 192, 196, 255, 255
Image Width : 300
Image Height : 199
Bits Per Sample : 8
Color Components : 3
Image Size : 300x199
Megapixels : 0.060
Scale Factor To 35 mm Equivalent : 1.3
Shutter Speed : 1/750
Flash : Auto, Did not fire
Circle Of Confusion : 0.023 mm
Field Of View : 65.5 deg
Focal Length : 21.0 mm (35 mm equivalent: 28.0 mm)